| Back to Multiple platform build/check report for BioC 3.18: simplified long |
|
This page was generated on 2023-11-02 11:40:37 -0400 (Thu, 02 Nov 2023).
| Hostname | OS | Arch (*) | R version | Installed pkgs |
|---|---|---|---|---|
| nebbiolo2 | Linux (Ubuntu 22.04.2 LTS) | x86_64 | 4.3.1 (2023-06-16) -- "Beagle Scouts" | 4729 |
| palomino4 | Windows Server 2022 Datacenter | x64 | 4.3.1 (2023-06-16 ucrt) -- "Beagle Scouts" | 4463 |
| lconway | macOS 12.6.5 Monterey | x86_64 | 4.3.1 Patched (2023-06-17 r84564) -- "Beagle Scouts" | 4478 |
| kunpeng2 | Linux (openEuler 22.03 LTS-SP1) | aarch64 | 4.3.1 (2023-06-16) -- "Beagle Scouts" | 4464 |
| Click on any hostname to see more info about the system (e.g. compilers) (*) as reported by 'uname -p', except on Windows and Mac OS X | ||||
| Package 587/2266 | Hostname | OS / Arch | INSTALL | BUILD | CHECK | BUILD BIN | ||||||||
| DNAcopy 1.76.0 (landing page) Venkatraman E. Seshan
| nebbiolo2 | Linux (Ubuntu 22.04.2 LTS) / x86_64 | OK | OK | OK | |||||||||
| palomino4 | Windows Server 2022 Datacenter / x64 | OK | OK | OK | OK | |||||||||
| lconway | macOS 12.6.5 Monterey / x86_64 | OK | OK | OK | OK | |||||||||
| kjohnson1 | macOS 13.6.1 Ventura / arm64 | see weekly results here | ||||||||||||
| kunpeng2 | Linux (openEuler 22.03 LTS-SP1) / aarch64 | OK | OK | OK | ||||||||||
|
To the developers/maintainers of the DNAcopy package: - Allow up to 24 hours (and sometimes 48 hours) for your latest push to git@git.bioconductor.org:packages/DNAcopy.git to reflect on this report. See Troubleshooting Build Report for more information. - Use the following Renviron settings to reproduce errors and warnings. - If 'R CMD check' started to fail recently on the Linux builder(s) over a missing dependency, add the missing dependency to 'Suggests:' in your DESCRIPTION file. See Renviron.bioc for more information. - See Martin Grigorov's blog post for how to debug Linux ARM64 related issues on a x86_64 host. |
| Package: DNAcopy |
| Version: 1.76.0 |
| Command: /home/biocbuild/R/R-4.3.1/bin/R CMD INSTALL DNAcopy |
| StartedAt: 2023-11-01 20:03:24 -0000 (Wed, 01 Nov 2023) |
| EndedAt: 2023-11-01 20:03:39 -0000 (Wed, 01 Nov 2023) |
| EllapsedTime: 15.4 seconds |
| RetCode: 0 |
| Status: OK |
##############################################################################
##############################################################################
###
### Running command:
###
### /home/biocbuild/R/R-4.3.1/bin/R CMD INSTALL DNAcopy
###
##############################################################################
##############################################################################
* installing to library ‘/home/biocbuild/R/R-4.3.1/site-library’
* installing *source* package ‘DNAcopy’ ...
** using staged installation
** libs
using C compiler: ‘gcc (GCC) 10.3.1’
using Fortran compiler: ‘GNU Fortran (GCC) 10.3.1’
gfortran -fPIC -g -O2 -Wall -c cbsWtstats.f -o cbsWtstats.o
cbsWtstats.f:283:72:
283 | iseg(2) = tmaxj
| ^
Warning: ‘tmaxj’ may be used uninitialized in this function [-Wmaybe-uninitialized]
cbsWtstats.f:282:72:
282 | iseg(1) = tmaxi
| ^
Warning: ‘tmaxi’ may be used uninitialized in this function [-Wmaybe-uninitialized]
gfortran -fPIC -g -O2 -Wall -c cbststats.f -o cbststats.o
cbststats.f:258:72:
258 | tmaxj = sxmxi + i2j
| ^
Warning: ‘sxmxi’ may be used uninitialized in this function [-Wmaybe-uninitialized]
gfortran -fPIC -g -O2 -Wall -c changepoints-wtd.f -o changepoints-wtd.o
gfortran -fPIC -g -O2 -Wall -c changepoints.f -o changepoints.o
gfortran -fPIC -g -O2 -Wall -c esegment.f -o esegment.o
gcc -I"/home/biocbuild/R/R-4.3.1/include" -DNDEBUG -I/usr/local/include -fPIC -g -O2 -Wall -c flchoose.c -o flchoose.o
gcc -I"/home/biocbuild/R/R-4.3.1/include" -DNDEBUG -I/usr/local/include -fPIC -g -O2 -Wall -c fphyper.c -o fphyper.o
gcc -I"/home/biocbuild/R/R-4.3.1/include" -DNDEBUG -I/usr/local/include -fPIC -g -O2 -Wall -c fpnorm.c -o fpnorm.o
gfortran -fPIC -g -O2 -Wall -c getbdry.f -o getbdry.o
gcc -I"/home/biocbuild/R/R-4.3.1/include" -DNDEBUG -I/usr/local/include -fPIC -g -O2 -Wall -c init.c -o init.o
gfortran -fPIC -g -O2 -Wall -c prune.f -o prune.o
gcc -I"/home/biocbuild/R/R-4.3.1/include" -DNDEBUG -I/usr/local/include -fPIC -g -O2 -Wall -c rshared.c -o rshared.o
gfortran -fPIC -g -O2 -Wall -c segmentp.f -o segmentp.o
gfortran -fPIC -g -O2 -Wall -c smoothCNA.f -o smoothCNA.o
gfortran -fPIC -g -O2 -Wall -c tailprobs.f -o tailprobs.o
gcc -shared -L/home/biocbuild/R/R-4.3.1/lib -L/usr/local/lib -o DNAcopy.so cbsWtstats.o cbststats.o changepoints-wtd.o changepoints.o esegment.o flchoose.o fphyper.o fpnorm.o getbdry.o init.o prune.o rshared.o segmentp.o smoothCNA.o tailprobs.o -lgfortran -lm -L/home/biocbuild/R/R-4.3.1/lib -lR
installing to /home/biocbuild/R/R-4.3.1/site-library/00LOCK-DNAcopy/00new/DNAcopy/libs
** R
** data
*** moving datasets to lazyload DB
** demo
** inst
** byte-compile and prepare package for lazy loading
** help
*** installing help indices
** building package indices
** installing vignettes
** testing if installed package can be loaded from temporary location
** checking absolute paths in shared objects and dynamic libraries
** testing if installed package can be loaded from final location
** testing if installed package keeps a record of temporary installation path
* DONE (DNAcopy)