| Back to Multiple platform build/check report for BioC 3.18: simplified long |
|
This page was generated on 2023-11-02 11:40:33 -0400 (Thu, 02 Nov 2023).
| Hostname | OS | Arch (*) | R version | Installed pkgs |
|---|---|---|---|---|
| nebbiolo2 | Linux (Ubuntu 22.04.2 LTS) | x86_64 | 4.3.1 (2023-06-16) -- "Beagle Scouts" | 4729 |
| palomino4 | Windows Server 2022 Datacenter | x64 | 4.3.1 (2023-06-16 ucrt) -- "Beagle Scouts" | 4463 |
| lconway | macOS 12.6.5 Monterey | x86_64 | 4.3.1 Patched (2023-06-17 r84564) -- "Beagle Scouts" | 4478 |
| kunpeng2 | Linux (openEuler 22.03 LTS-SP1) | aarch64 | 4.3.1 (2023-06-16) -- "Beagle Scouts" | 4464 |
| Click on any hostname to see more info about the system (e.g. compilers) (*) as reported by 'uname -p', except on Windows and Mac OS X | ||||
| Package 400/2266 | Hostname | OS / Arch | INSTALL | BUILD | CHECK | BUILD BIN | ||||||||
| CoGAPS 3.22.0 (landing page) Elana J. Fertig
| nebbiolo2 | Linux (Ubuntu 22.04.2 LTS) / x86_64 | OK | OK | OK | |||||||||
| palomino4 | Windows Server 2022 Datacenter / x64 | OK | OK | OK | OK | |||||||||
| lconway | macOS 12.6.5 Monterey / x86_64 | OK | OK | OK | OK | |||||||||
| kjohnson1 | macOS 13.6.1 Ventura / arm64 | see weekly results here | ||||||||||||
| kunpeng2 | Linux (openEuler 22.03 LTS-SP1) / aarch64 | OK | OK | OK | ||||||||||
|
To the developers/maintainers of the CoGAPS package: - Allow up to 24 hours (and sometimes 48 hours) for your latest push to git@git.bioconductor.org:packages/CoGAPS.git to reflect on this report. See Troubleshooting Build Report for more information. - Use the following Renviron settings to reproduce errors and warnings. - If 'R CMD check' started to fail recently on the Linux builder(s) over a missing dependency, add the missing dependency to 'Suggests:' in your DESCRIPTION file. See Renviron.bioc for more information. - See Martin Grigorov's blog post for how to debug Linux ARM64 related issues on a x86_64 host. |
| Package: CoGAPS |
| Version: 3.22.0 |
| Command: /home/biocbuild/R/R-4.3.1/bin/R CMD INSTALL CoGAPS |
| StartedAt: 2023-11-01 20:47:22 -0000 (Wed, 01 Nov 2023) |
| EndedAt: 2023-11-01 20:51:50 -0000 (Wed, 01 Nov 2023) |
| EllapsedTime: 267.7 seconds |
| RetCode: 0 |
| Status: OK |
##############################################################################
##############################################################################
###
### Running command:
###
### /home/biocbuild/R/R-4.3.1/bin/R CMD INSTALL CoGAPS
###
##############################################################################
##############################################################################
* installing to library ‘/home/biocbuild/R/R-4.3.1/site-library’
* installing *source* package ‘CoGAPS’ ...
** using staged installation
checking whether the C++ compiler works... yes
checking for C++ compiler default output file name... a.out
checking for suffix of executables...
checking whether we are cross compiling... no
checking for suffix of object files... o
checking whether the compiler supports GNU C++... yes
checking whether g++ -std=gnu++17 accepts -g... yes
checking for g++ -std=gnu++17 option to enable C++11 features... none needed
checking how to run the C++ preprocessor... g++ -std=gnu++17 -E
checking whether the compiler supports GNU C++... (cached) yes
checking whether g++ -std=gnu++17 accepts -g... (cached) yes
checking for g++ -std=gnu++17 option to enable C++11 features... (cached) none needed
./configure: line 3246: AX_COMPILER_VENDOR: command not found
./configure: line 3247: AX_COMPILER_VERSION: command not found
./configure: line 3259: AX_OPENMP: command not found
building on compiler version
configure: creating ./config.status
config.status: creating src/Makevars
** libs
using C++ compiler: ‘g++ (GCC) 10.3.1’
g++ -std=gnu++17 -I"/home/biocbuild/R/R-4.3.1/include" -DNDEBUG -DBOOST_MATH_PROMOTE_DOUBLE_POLICY=0 -DGAPS_DISABLE_CHECKPOINTS -D__GAPS_R_BUILD__ -I'/home/biocbuild/R/R-4.3.1/site-library/Rcpp/include' -I'/home/biocbuild/R/R-4.3.1/site-library/BH/include' -I/usr/local/include -fPIC -g -O2 -Wall -c Cogaps.cpp -o Cogaps.o
g++ -std=gnu++17 -I"/home/biocbuild/R/R-4.3.1/include" -DNDEBUG -DBOOST_MATH_PROMOTE_DOUBLE_POLICY=0 -DGAPS_DISABLE_CHECKPOINTS -D__GAPS_R_BUILD__ -I'/home/biocbuild/R/R-4.3.1/site-library/Rcpp/include' -I'/home/biocbuild/R/R-4.3.1/site-library/BH/include' -I/usr/local/include -fPIC -g -O2 -Wall -c GapsParameters.cpp -o GapsParameters.o
g++ -std=gnu++17 -I"/home/biocbuild/R/R-4.3.1/include" -DNDEBUG -DBOOST_MATH_PROMOTE_DOUBLE_POLICY=0 -DGAPS_DISABLE_CHECKPOINTS -D__GAPS_R_BUILD__ -I'/home/biocbuild/R/R-4.3.1/site-library/Rcpp/include' -I'/home/biocbuild/R/R-4.3.1/site-library/BH/include' -I/usr/local/include -fPIC -g -O2 -Wall -c GapsResult.cpp -o GapsResult.o
g++ -std=gnu++17 -I"/home/biocbuild/R/R-4.3.1/include" -DNDEBUG -DBOOST_MATH_PROMOTE_DOUBLE_POLICY=0 -DGAPS_DISABLE_CHECKPOINTS -D__GAPS_R_BUILD__ -I'/home/biocbuild/R/R-4.3.1/site-library/Rcpp/include' -I'/home/biocbuild/R/R-4.3.1/site-library/BH/include' -I/usr/local/include -fPIC -g -O2 -Wall -c GapsRunner.cpp -o GapsRunner.o
In file included from GapsRunner.cpp:8:
gibbs_sampler/AsynchronousGibbsSampler.h:105: warning: ignoring ‘#pragma omp parallel’ [-Wunknown-pragmas]
105 | #pragma omp parallel for num_threads(nThreads)
|
In file included from /home/biocbuild/R/R-4.3.1/site-library/BH/include/boost/mpl/aux_/na_assert.hpp:23,
from /home/biocbuild/R/R-4.3.1/site-library/BH/include/boost/mpl/arg.hpp:25,
from /home/biocbuild/R/R-4.3.1/site-library/BH/include/boost/mpl/placeholders.hpp:24,
from /home/biocbuild/R/R-4.3.1/site-library/BH/include/boost/iterator/iterator_categories.hpp:16,
from /home/biocbuild/R/R-4.3.1/site-library/BH/include/boost/iterator/iterator_facade.hpp:13,
from /home/biocbuild/R/R-4.3.1/site-library/BH/include/boost/range/iterator_range_core.hpp:27,
from /home/biocbuild/R/R-4.3.1/site-library/BH/include/boost/algorithm/string/replace.hpp:16,
from /home/biocbuild/R/R-4.3.1/site-library/BH/include/boost/date_time/date_facet.hpp:17,
from /home/biocbuild/R/R-4.3.1/site-library/BH/include/boost/date_time/gregorian/gregorian_io.hpp:16,
from /home/biocbuild/R/R-4.3.1/site-library/BH/include/boost/date_time/gregorian/gregorian.hpp:31,
from /home/biocbuild/R/R-4.3.1/site-library/BH/include/boost/date_time/posix_time/time_formatters.hpp:12,
from /home/biocbuild/R/R-4.3.1/site-library/BH/include/boost/date_time/posix_time/posix_time.hpp:24,
from GapsRunner.cpp:27:
/home/biocbuild/R/R-4.3.1/site-library/BH/include/boost/mpl/assert.hpp:194:21: warning: unnecessary parentheses in declaration of ‘assert_arg’ [-Wparentheses]
194 | failed ************ (Pred::************
| ^
/home/biocbuild/R/R-4.3.1/site-library/BH/include/boost/mpl/assert.hpp:199:21: warning: unnecessary parentheses in declaration of ‘assert_not_arg’ [-Wparentheses]
199 | failed ************ (boost::mpl::not_<Pred>::************
| ^
g++ -std=gnu++17 -I"/home/biocbuild/R/R-4.3.1/include" -DNDEBUG -DBOOST_MATH_PROMOTE_DOUBLE_POLICY=0 -DGAPS_DISABLE_CHECKPOINTS -D__GAPS_R_BUILD__ -I'/home/biocbuild/R/R-4.3.1/site-library/Rcpp/include' -I'/home/biocbuild/R/R-4.3.1/site-library/BH/include' -I/usr/local/include -fPIC -g -O2 -Wall -c GapsStatistics.cpp -o GapsStatistics.o
g++ -std=gnu++17 -I"/home/biocbuild/R/R-4.3.1/include" -DNDEBUG -DBOOST_MATH_PROMOTE_DOUBLE_POLICY=0 -DGAPS_DISABLE_CHECKPOINTS -D__GAPS_R_BUILD__ -I'/home/biocbuild/R/R-4.3.1/site-library/Rcpp/include' -I'/home/biocbuild/R/R-4.3.1/site-library/BH/include' -I/usr/local/include -fPIC -g -O2 -Wall -c RcppExports.cpp -o RcppExports.o
g++ -std=gnu++17 -I"/home/biocbuild/R/R-4.3.1/include" -DNDEBUG -DBOOST_MATH_PROMOTE_DOUBLE_POLICY=0 -DGAPS_DISABLE_CHECKPOINTS -D__GAPS_R_BUILD__ -I'/home/biocbuild/R/R-4.3.1/site-library/Rcpp/include' -I'/home/biocbuild/R/R-4.3.1/site-library/BH/include' -I/usr/local/include -fPIC -g -O2 -Wall -c test-runner.cpp -o test-runner.o
g++ -std=gnu++17 -I"/home/biocbuild/R/R-4.3.1/include" -DNDEBUG -DBOOST_MATH_PROMOTE_DOUBLE_POLICY=0 -DGAPS_DISABLE_CHECKPOINTS -D__GAPS_R_BUILD__ -I'/home/biocbuild/R/R-4.3.1/site-library/Rcpp/include' -I'/home/biocbuild/R/R-4.3.1/site-library/BH/include' -I/usr/local/include -fPIC -g -O2 -Wall -c atomic/Atom.cpp -o atomic/Atom.o
g++ -std=gnu++17 -I"/home/biocbuild/R/R-4.3.1/include" -DNDEBUG -DBOOST_MATH_PROMOTE_DOUBLE_POLICY=0 -DGAPS_DISABLE_CHECKPOINTS -D__GAPS_R_BUILD__ -I'/home/biocbuild/R/R-4.3.1/site-library/Rcpp/include' -I'/home/biocbuild/R/R-4.3.1/site-library/BH/include' -I/usr/local/include -fPIC -g -O2 -Wall -c atomic/ConcurrentAtom.cpp -o atomic/ConcurrentAtom.o
g++ -std=gnu++17 -I"/home/biocbuild/R/R-4.3.1/include" -DNDEBUG -DBOOST_MATH_PROMOTE_DOUBLE_POLICY=0 -DGAPS_DISABLE_CHECKPOINTS -D__GAPS_R_BUILD__ -I'/home/biocbuild/R/R-4.3.1/site-library/Rcpp/include' -I'/home/biocbuild/R/R-4.3.1/site-library/BH/include' -I/usr/local/include -fPIC -g -O2 -Wall -c atomic/AtomicDomain.cpp -o atomic/AtomicDomain.o
g++ -std=gnu++17 -I"/home/biocbuild/R/R-4.3.1/include" -DNDEBUG -DBOOST_MATH_PROMOTE_DOUBLE_POLICY=0 -DGAPS_DISABLE_CHECKPOINTS -D__GAPS_R_BUILD__ -I'/home/biocbuild/R/R-4.3.1/site-library/Rcpp/include' -I'/home/biocbuild/R/R-4.3.1/site-library/BH/include' -I/usr/local/include -fPIC -g -O2 -Wall -c atomic/ConcurrentAtomicDomain.cpp -o atomic/ConcurrentAtomicDomain.o
atomic/ConcurrentAtomicDomain.cpp:64: warning: ignoring ‘#pragma omp critical’ [-Wunknown-pragmas]
64 | #pragma omp critical(AtomicInsertOrErase)
|
g++ -std=gnu++17 -I"/home/biocbuild/R/R-4.3.1/include" -DNDEBUG -DBOOST_MATH_PROMOTE_DOUBLE_POLICY=0 -DGAPS_DISABLE_CHECKPOINTS -D__GAPS_R_BUILD__ -I'/home/biocbuild/R/R-4.3.1/site-library/Rcpp/include' -I'/home/biocbuild/R/R-4.3.1/site-library/BH/include' -I/usr/local/include -fPIC -g -O2 -Wall -c atomic/ProposalQueue.cpp -o atomic/ProposalQueue.o
atomic/ProposalQueue.cpp:101: warning: ignoring ‘#pragma omp atomic’ [-Wunknown-pragmas]
101 | #pragma omp atomic
|
atomic/ProposalQueue.cpp:107: warning: ignoring ‘#pragma omp atomic’ [-Wunknown-pragmas]
107 | #pragma omp atomic
|
atomic/ProposalQueue.cpp:113: warning: ignoring ‘#pragma omp atomic’ [-Wunknown-pragmas]
113 | #pragma omp atomic
|
atomic/ProposalQueue.cpp:119: warning: ignoring ‘#pragma omp atomic’ [-Wunknown-pragmas]
119 | #pragma omp atomic
|
g++ -std=gnu++17 -I"/home/biocbuild/R/R-4.3.1/include" -DNDEBUG -DBOOST_MATH_PROMOTE_DOUBLE_POLICY=0 -DGAPS_DISABLE_CHECKPOINTS -D__GAPS_R_BUILD__ -I'/home/biocbuild/R/R-4.3.1/site-library/Rcpp/include' -I'/home/biocbuild/R/R-4.3.1/site-library/BH/include' -I/usr/local/include -fPIC -g -O2 -Wall -c data_structures/HashSets.cpp -o data_structures/HashSets.o
g++ -std=gnu++17 -I"/home/biocbuild/R/R-4.3.1/include" -DNDEBUG -DBOOST_MATH_PROMOTE_DOUBLE_POLICY=0 -DGAPS_DISABLE_CHECKPOINTS -D__GAPS_R_BUILD__ -I'/home/biocbuild/R/R-4.3.1/site-library/Rcpp/include' -I'/home/biocbuild/R/R-4.3.1/site-library/BH/include' -I/usr/local/include -fPIC -g -O2 -Wall -c data_structures/HybridMatrix.cpp -o data_structures/HybridMatrix.o
g++ -std=gnu++17 -I"/home/biocbuild/R/R-4.3.1/include" -DNDEBUG -DBOOST_MATH_PROMOTE_DOUBLE_POLICY=0 -DGAPS_DISABLE_CHECKPOINTS -D__GAPS_R_BUILD__ -I'/home/biocbuild/R/R-4.3.1/site-library/Rcpp/include' -I'/home/biocbuild/R/R-4.3.1/site-library/BH/include' -I/usr/local/include -fPIC -g -O2 -Wall -c data_structures/HybridVector.cpp -o data_structures/HybridVector.o
data_structures/HybridVector.cpp:60: warning: ignoring ‘#pragma omp atomic’ [-Wunknown-pragmas]
60 | #pragma omp atomic
|
data_structures/HybridVector.cpp:65: warning: ignoring ‘#pragma omp atomic’ [-Wunknown-pragmas]
65 | #pragma omp atomic
|
data_structures/HybridVector.cpp:77: warning: ignoring ‘#pragma omp atomic’ [-Wunknown-pragmas]
77 | #pragma omp atomic
|
data_structures/HybridVector.cpp:82: warning: ignoring ‘#pragma omp atomic’ [-Wunknown-pragmas]
82 | #pragma omp atomic
|
g++ -std=gnu++17 -I"/home/biocbuild/R/R-4.3.1/include" -DNDEBUG -DBOOST_MATH_PROMOTE_DOUBLE_POLICY=0 -DGAPS_DISABLE_CHECKPOINTS -D__GAPS_R_BUILD__ -I'/home/biocbuild/R/R-4.3.1/site-library/Rcpp/include' -I'/home/biocbuild/R/R-4.3.1/site-library/BH/include' -I/usr/local/include -fPIC -g -O2 -Wall -c data_structures/Matrix.cpp -o data_structures/Matrix.o
g++ -std=gnu++17 -I"/home/biocbuild/R/R-4.3.1/include" -DNDEBUG -DBOOST_MATH_PROMOTE_DOUBLE_POLICY=0 -DGAPS_DISABLE_CHECKPOINTS -D__GAPS_R_BUILD__ -I'/home/biocbuild/R/R-4.3.1/site-library/Rcpp/include' -I'/home/biocbuild/R/R-4.3.1/site-library/BH/include' -I/usr/local/include -fPIC -g -O2 -Wall -c data_structures/SparseIterator.cpp -o data_structures/SparseIterator.o
g++ -std=gnu++17 -I"/home/biocbuild/R/R-4.3.1/include" -DNDEBUG -DBOOST_MATH_PROMOTE_DOUBLE_POLICY=0 -DGAPS_DISABLE_CHECKPOINTS -D__GAPS_R_BUILD__ -I'/home/biocbuild/R/R-4.3.1/site-library/Rcpp/include' -I'/home/biocbuild/R/R-4.3.1/site-library/BH/include' -I/usr/local/include -fPIC -g -O2 -Wall -c data_structures/SparseMatrix.cpp -o data_structures/SparseMatrix.o
g++ -std=gnu++17 -I"/home/biocbuild/R/R-4.3.1/include" -DNDEBUG -DBOOST_MATH_PROMOTE_DOUBLE_POLICY=0 -DGAPS_DISABLE_CHECKPOINTS -D__GAPS_R_BUILD__ -I'/home/biocbuild/R/R-4.3.1/site-library/Rcpp/include' -I'/home/biocbuild/R/R-4.3.1/site-library/BH/include' -I/usr/local/include -fPIC -g -O2 -Wall -c data_structures/SparseVector.cpp -o data_structures/SparseVector.o
g++ -std=gnu++17 -I"/home/biocbuild/R/R-4.3.1/include" -DNDEBUG -DBOOST_MATH_PROMOTE_DOUBLE_POLICY=0 -DGAPS_DISABLE_CHECKPOINTS -D__GAPS_R_BUILD__ -I'/home/biocbuild/R/R-4.3.1/site-library/Rcpp/include' -I'/home/biocbuild/R/R-4.3.1/site-library/BH/include' -I/usr/local/include -fPIC -g -O2 -Wall -c data_structures/Vector.cpp -o data_structures/Vector.o
g++ -std=gnu++17 -I"/home/biocbuild/R/R-4.3.1/include" -DNDEBUG -DBOOST_MATH_PROMOTE_DOUBLE_POLICY=0 -DGAPS_DISABLE_CHECKPOINTS -D__GAPS_R_BUILD__ -I'/home/biocbuild/R/R-4.3.1/site-library/Rcpp/include' -I'/home/biocbuild/R/R-4.3.1/site-library/BH/include' -I/usr/local/include -fPIC -g -O2 -Wall -c file_parser/CharacterDelimitedParser.cpp -o file_parser/CharacterDelimitedParser.o
g++ -std=gnu++17 -I"/home/biocbuild/R/R-4.3.1/include" -DNDEBUG -DBOOST_MATH_PROMOTE_DOUBLE_POLICY=0 -DGAPS_DISABLE_CHECKPOINTS -D__GAPS_R_BUILD__ -I'/home/biocbuild/R/R-4.3.1/site-library/Rcpp/include' -I'/home/biocbuild/R/R-4.3.1/site-library/BH/include' -I/usr/local/include -fPIC -g -O2 -Wall -c file_parser/FileParser.cpp -o file_parser/FileParser.o
g++ -std=gnu++17 -I"/home/biocbuild/R/R-4.3.1/include" -DNDEBUG -DBOOST_MATH_PROMOTE_DOUBLE_POLICY=0 -DGAPS_DISABLE_CHECKPOINTS -D__GAPS_R_BUILD__ -I'/home/biocbuild/R/R-4.3.1/site-library/Rcpp/include' -I'/home/biocbuild/R/R-4.3.1/site-library/BH/include' -I/usr/local/include -fPIC -g -O2 -Wall -c file_parser/MatrixElement.cpp -o file_parser/MatrixElement.o
g++ -std=gnu++17 -I"/home/biocbuild/R/R-4.3.1/include" -DNDEBUG -DBOOST_MATH_PROMOTE_DOUBLE_POLICY=0 -DGAPS_DISABLE_CHECKPOINTS -D__GAPS_R_BUILD__ -I'/home/biocbuild/R/R-4.3.1/site-library/Rcpp/include' -I'/home/biocbuild/R/R-4.3.1/site-library/BH/include' -I/usr/local/include -fPIC -g -O2 -Wall -c file_parser/MtxParser.cpp -o file_parser/MtxParser.o
g++ -std=gnu++17 -I"/home/biocbuild/R/R-4.3.1/include" -DNDEBUG -DBOOST_MATH_PROMOTE_DOUBLE_POLICY=0 -DGAPS_DISABLE_CHECKPOINTS -D__GAPS_R_BUILD__ -I'/home/biocbuild/R/R-4.3.1/site-library/Rcpp/include' -I'/home/biocbuild/R/R-4.3.1/site-library/BH/include' -I/usr/local/include -fPIC -g -O2 -Wall -c gibbs_sampler/AlphaParameters.cpp -o gibbs_sampler/AlphaParameters.o
g++ -std=gnu++17 -I"/home/biocbuild/R/R-4.3.1/include" -DNDEBUG -DBOOST_MATH_PROMOTE_DOUBLE_POLICY=0 -DGAPS_DISABLE_CHECKPOINTS -D__GAPS_R_BUILD__ -I'/home/biocbuild/R/R-4.3.1/site-library/Rcpp/include' -I'/home/biocbuild/R/R-4.3.1/site-library/BH/include' -I/usr/local/include -fPIC -g -O2 -Wall -c gibbs_sampler/DenseNormalModel.cpp -o gibbs_sampler/DenseNormalModel.o
gibbs_sampler/DenseNormalModel.cpp:26: warning: ignoring ‘#pragma omp parallel’ [-Wunknown-pragmas]
26 | #pragma omp parallel for num_threads(nThreads)
|
g++ -std=gnu++17 -I"/home/biocbuild/R/R-4.3.1/include" -DNDEBUG -DBOOST_MATH_PROMOTE_DOUBLE_POLICY=0 -DGAPS_DISABLE_CHECKPOINTS -D__GAPS_R_BUILD__ -I'/home/biocbuild/R/R-4.3.1/site-library/Rcpp/include' -I'/home/biocbuild/R/R-4.3.1/site-library/BH/include' -I/usr/local/include -fPIC -g -O2 -Wall -c gibbs_sampler/SparseNormalModel.cpp -o gibbs_sampler/SparseNormalModel.o
g++ -std=gnu++17 -I"/home/biocbuild/R/R-4.3.1/include" -DNDEBUG -DBOOST_MATH_PROMOTE_DOUBLE_POLICY=0 -DGAPS_DISABLE_CHECKPOINTS -D__GAPS_R_BUILD__ -I'/home/biocbuild/R/R-4.3.1/site-library/Rcpp/include' -I'/home/biocbuild/R/R-4.3.1/site-library/BH/include' -I/usr/local/include -fPIC -g -O2 -Wall -c math/Math.cpp -o math/Math.o
In file included from /home/biocbuild/R/R-4.3.1/site-library/BH/include/boost/mpl/aux_/na_assert.hpp:23,
from /home/biocbuild/R/R-4.3.1/site-library/BH/include/boost/mpl/arg.hpp:25,
from /home/biocbuild/R/R-4.3.1/site-library/BH/include/boost/mpl/placeholders.hpp:24,
from /home/biocbuild/R/R-4.3.1/site-library/BH/include/boost/iterator/iterator_categories.hpp:16,
from /home/biocbuild/R/R-4.3.1/site-library/BH/include/boost/iterator/iterator_facade.hpp:13,
from /home/biocbuild/R/R-4.3.1/site-library/BH/include/boost/range/iterator_range_core.hpp:27,
from /home/biocbuild/R/R-4.3.1/site-library/BH/include/boost/lexical_cast.hpp:30,
from /home/biocbuild/R/R-4.3.1/site-library/BH/include/boost/math/tools/convert_from_string.hpp:15,
from /home/biocbuild/R/R-4.3.1/site-library/BH/include/boost/math/constants/constants.hpp:14,
from /home/biocbuild/R/R-4.3.1/site-library/BH/include/boost/math/distributions/exponential.hpp:10,
from math/Math.cpp:4:
/home/biocbuild/R/R-4.3.1/site-library/BH/include/boost/mpl/assert.hpp:194:21: warning: unnecessary parentheses in declaration of ‘assert_arg’ [-Wparentheses]
194 | failed ************ (Pred::************
| ^
/home/biocbuild/R/R-4.3.1/site-library/BH/include/boost/mpl/assert.hpp:199:21: warning: unnecessary parentheses in declaration of ‘assert_not_arg’ [-Wparentheses]
199 | failed ************ (boost::mpl::not_<Pred>::************
| ^
In file included from /home/biocbuild/R/R-4.3.1/site-library/BH/include/boost/math/distributions/gamma.hpp:14,
from math/Math.cpp:5:
/home/biocbuild/R/R-4.3.1/site-library/BH/include/boost/math/special_functions/gamma.hpp: In instantiation of ‘boost::math::detail::upper_incomplete_gamma_fract<T>::result_type boost::math::detail::upper_incomplete_gamma_fract<T>::operator()() [with T = double; boost::math::detail::upper_incomplete_gamma_fract<T>::result_type = std::pair<double, double>]’:
/home/biocbuild/R/R-4.3.1/site-library/BH/include/boost/math/tools/fraction.hpp:217:20: required from ‘typename boost::math::tools::detail::fraction_traits<Gen>::result_type boost::math::tools::continued_fraction_a(Gen&, const U&, uintmax_t&) [with Gen = boost::math::detail::upper_incomplete_gamma_fract<double>; U = double; typename boost::math::tools::detail::fraction_traits<Gen>::result_type = double; uintmax_t = long unsigned int]’
/home/biocbuild/R/R-4.3.1/site-library/BH/include/boost/math/tools/fraction.hpp:252:31: required from ‘typename boost::math::tools::detail::fraction_traits<Gen>::result_type boost::math::tools::continued_fraction_a(Gen&, const U&) [with Gen = boost::math::detail::upper_incomplete_gamma_fract<double>; U = double; typename boost::math::tools::detail::fraction_traits<Gen>::result_type = double]’
/home/biocbuild/R/R-4.3.1/site-library/BH/include/boost/math/special_functions/gamma.hpp:314:68: required from ‘T boost::math::detail::upper_gamma_fraction(T, T, T) [with T = double]’
/home/biocbuild/R/R-4.3.1/site-library/BH/include/boost/math/special_functions/gamma.hpp:1176:44: required from ‘T boost::math::detail::gamma_incomplete_imp(T, T, bool, bool, const Policy&, T*) [with T = double; Policy = boost::math::policies::policy<boost::math::policies::promote_float<false>, boost::math::policies::default_policy, boost::math::policies::default_policy, boost::math::policies::default_policy, boost::math::policies::default_policy, boost::math::policies::default_policy, boost::math::policies::default_policy, boost::math::policies::default_policy, boost::math::policies::default_policy, boost::math::policies::default_policy, boost::math::policies::default_policy>]’
/home/biocbuild/R/R-4.3.1/site-library/BH/include/boost/math/special_functions/gamma.hpp:2128:35: required from ‘typename boost::math::tools::promote_args<RT1, RT2>::type boost::math::gamma_p(RT1, RT2, const Policy&) [with RT1 = double; RT2 = double; Policy = boost::math::policies::policy<boost::math::policies::default_policy, boost::math::policies::default_policy, boost::math::policies::default_policy, boost::math::policies::default_policy, boost::math::policies::default_policy, boost::math::policies::default_policy, boost::math::policies::default_policy, boost::math::policies::default_policy, boost::math::policies::default_policy, boost::math::policies::default_policy, boost::math::policies::default_policy>; typename boost::math::tools::promote_args<RT1, RT2>::type = double]’
/home/biocbuild/R/R-4.3.1/site-library/BH/include/boost/math/distributions/gamma.hpp:194:33: required from ‘RealType boost::math::cdf(const boost::math::gamma_distribution<RealType, Policy>&, const RealType&) [with RealType = double; Policy = boost::math::policies::policy<boost::math::policies::default_policy, boost::math::policies::default_policy, boost::math::policies::default_policy, boost::math::policies::default_policy, boost::math::policies::default_policy, boost::math::policies::default_policy, boost::math::policies::default_policy, boost::math::policies::default_policy, boost::math::policies::default_policy, boost::math::policies::default_policy, boost::math::policies::default_policy>]’
/home/biocbuild/R/R-4.3.1/site-library/BH/include/boost/math/distributions/detail/derived_accessors.hpp:123:14: required from ‘typename Distribution::value_type boost::math::cdf(const Distribution&, const RealType&) [with Distribution = boost::math::gamma_distribution<>; RealType = float; typename Distribution::value_type = double]’
math/Math.cpp:52:22: required from here
/home/biocbuild/R/R-4.3.1/site-library/BH/include/boost/math/special_functions/gamma.hpp:299:16: note: parameter passing for argument of type ‘std::pair<double, double>’ when C++17 is enabled changed to match C++14 in GCC 10.1
299 | result_type operator()()
| ^~~~~~~~
g++ -std=gnu++17 -I"/home/biocbuild/R/R-4.3.1/include" -DNDEBUG -DBOOST_MATH_PROMOTE_DOUBLE_POLICY=0 -DGAPS_DISABLE_CHECKPOINTS -D__GAPS_R_BUILD__ -I'/home/biocbuild/R/R-4.3.1/site-library/Rcpp/include' -I'/home/biocbuild/R/R-4.3.1/site-library/BH/include' -I/usr/local/include -fPIC -g -O2 -Wall -c math/MatrixMath.cpp -o math/MatrixMath.o
g++ -std=gnu++17 -I"/home/biocbuild/R/R-4.3.1/include" -DNDEBUG -DBOOST_MATH_PROMOTE_DOUBLE_POLICY=0 -DGAPS_DISABLE_CHECKPOINTS -D__GAPS_R_BUILD__ -I'/home/biocbuild/R/R-4.3.1/site-library/Rcpp/include' -I'/home/biocbuild/R/R-4.3.1/site-library/BH/include' -I/usr/local/include -fPIC -g -O2 -Wall -c math/Random.cpp -o math/Random.o
g++ -std=gnu++17 -I"/home/biocbuild/R/R-4.3.1/include" -DNDEBUG -DBOOST_MATH_PROMOTE_DOUBLE_POLICY=0 -DGAPS_DISABLE_CHECKPOINTS -D__GAPS_R_BUILD__ -I'/home/biocbuild/R/R-4.3.1/site-library/Rcpp/include' -I'/home/biocbuild/R/R-4.3.1/site-library/BH/include' -I/usr/local/include -fPIC -g -O2 -Wall -c math/VectorMath.cpp -o math/VectorMath.o
g++ -std=gnu++17 -shared -L/home/biocbuild/R/R-4.3.1/lib -L/usr/local/lib -o CoGAPS.so Cogaps.o GapsParameters.o GapsResult.o GapsRunner.o GapsStatistics.o RcppExports.o test-runner.o atomic/Atom.o atomic/ConcurrentAtom.o atomic/AtomicDomain.o atomic/ConcurrentAtomicDomain.o atomic/ProposalQueue.o data_structures/HashSets.o data_structures/HybridMatrix.o data_structures/HybridVector.o data_structures/Matrix.o data_structures/SparseIterator.o data_structures/SparseMatrix.o data_structures/SparseVector.o data_structures/Vector.o file_parser/CharacterDelimitedParser.o file_parser/FileParser.o file_parser/MatrixElement.o file_parser/MtxParser.o gibbs_sampler/AlphaParameters.o gibbs_sampler/DenseNormalModel.o gibbs_sampler/SparseNormalModel.o math/Math.o math/MatrixMath.o math/Random.o math/VectorMath.o -L/home/biocbuild/R/R-4.3.1/lib -lR
installing to /home/biocbuild/R/R-4.3.1/site-library/00LOCK-CoGAPS/00new/CoGAPS/libs
** R
** data
** inst
** byte-compile and prepare package for lazy loading
** help
*** installing help indices
** building package indices
** installing vignettes
** testing if installed package can be loaded from temporary location
** checking absolute paths in shared objects and dynamic libraries
** testing if installed package can be loaded from final location
** testing if installed package keeps a record of temporary installation path
* DONE (CoGAPS)