| Back to Multiple platform build/check report for BioC 3.18: simplified long |
|
This page was generated on 2024-03-04 11:37:12 -0500 (Mon, 04 Mar 2024).
| Hostname | OS | Arch (*) | R version | Installed pkgs |
|---|---|---|---|---|
| nebbiolo2 | Linux (Ubuntu 22.04.3 LTS) | x86_64 | 4.3.2 Patched (2023-11-13 r85521) -- "Eye Holes" | 4692 |
| palomino4 | Windows Server 2022 Datacenter | x64 | 4.3.2 (2023-10-31 ucrt) -- "Eye Holes" | 4445 |
| lconway | macOS 12.7.1 Monterey | x86_64 | 4.3.2 Patched (2023-11-01 r85457) -- "Eye Holes" | 4466 |
| Click on any hostname to see more info about the system (e.g. compilers) (*) as reported by 'uname -p', except on Windows and Mac OS X | ||||
| Package 333/2266 | Hostname | OS / Arch | INSTALL | BUILD | CHECK | BUILD BIN | ||||||||
| ChIPpeakAnno 3.36.1 (landing page) Jianhong Ou
| nebbiolo2 | Linux (Ubuntu 22.04.3 LTS) / x86_64 | OK | OK | OK | |||||||||
| palomino4 | Windows Server 2022 Datacenter / x64 | OK | OK | OK | OK | |||||||||
| lconway | macOS 12.7.1 Monterey / x86_64 | OK | OK | OK | OK | |||||||||
| kjohnson1 | macOS 13.6.1 Ventura / arm64 | see weekly results here | ||||||||||||
|
To the developers/maintainers of the ChIPpeakAnno package: - Allow up to 24 hours (and sometimes 48 hours) for your latest push to git@git.bioconductor.org:packages/ChIPpeakAnno.git to reflect on this report. See Troubleshooting Build Report for more information. - Use the following Renviron settings to reproduce errors and warnings. - If 'R CMD check' started to fail recently on the Linux builder(s) over a missing dependency, add the missing dependency to 'Suggests:' in your DESCRIPTION file. See Renviron.bioc for more information. |
| Package: ChIPpeakAnno |
| Version: 3.36.1 |
| Command: /Library/Frameworks/R.framework/Resources/bin/R CMD check --install=check:ChIPpeakAnno.install-out.txt --library=/Library/Frameworks/R.framework/Resources/library --no-vignettes --timings ChIPpeakAnno_3.36.1.tar.gz |
| StartedAt: 2024-03-03 19:35:31 -0500 (Sun, 03 Mar 2024) |
| EndedAt: 2024-03-03 19:47:09 -0500 (Sun, 03 Mar 2024) |
| EllapsedTime: 697.7 seconds |
| RetCode: 0 |
| Status: OK |
| CheckDir: ChIPpeakAnno.Rcheck |
| Warnings: 0 |
##############################################################################
##############################################################################
###
### Running command:
###
### /Library/Frameworks/R.framework/Resources/bin/R CMD check --install=check:ChIPpeakAnno.install-out.txt --library=/Library/Frameworks/R.framework/Resources/library --no-vignettes --timings ChIPpeakAnno_3.36.1.tar.gz
###
##############################################################################
##############################################################################
* using log directory ‘/Users/biocbuild/bbs-3.18-bioc/meat/ChIPpeakAnno.Rcheck’
* using R version 4.3.2 Patched (2023-11-01 r85457)
* using platform: x86_64-apple-darwin20 (64-bit)
* R was compiled by
Apple clang version 14.0.3 (clang-1403.0.22.14.1)
GNU Fortran (GCC) 12.2.0
* running under: macOS Monterey 12.7.1
* using session charset: UTF-8
* using option ‘--no-vignettes’
* checking for file ‘ChIPpeakAnno/DESCRIPTION’ ... OK
* checking extension type ... Package
* this is package ‘ChIPpeakAnno’ version ‘3.36.1’
* package encoding: UTF-8
* checking package namespace information ... OK
* checking package dependencies ... OK
* checking if this is a source package ... OK
* checking if there is a namespace ... OK
* checking for hidden files and directories ... OK
* checking for portable file names ... OK
* checking for sufficient/correct file permissions ... OK
* checking whether package ‘ChIPpeakAnno’ can be installed ... OK
* checking installed package size ... NOTE
installed size is 19.6Mb
sub-directories of 1Mb or more:
data 13.1Mb
extdata 5.2Mb
* checking package directory ... OK
* checking ‘build’ directory ... OK
* checking DESCRIPTION meta-information ... OK
* checking top-level files ... OK
* checking for left-over files ... OK
* checking index information ... OK
* checking package subdirectories ... OK
* checking R files for non-ASCII characters ... OK
* checking R files for syntax errors ... OK
* checking whether the package can be loaded ... OK
* checking whether the package can be loaded with stated dependencies ... OK
* checking whether the package can be unloaded cleanly ... OK
* checking whether the namespace can be loaded with stated dependencies ... OK
* checking whether the namespace can be unloaded cleanly ... OK
* checking dependencies in R code ... NOTE
Namespace in Imports field not imported from: ‘ensembldb’
All declared Imports should be used.
* checking S3 generic/method consistency ... OK
* checking replacement functions ... OK
* checking foreign function calls ... OK
* checking R code for possible problems ... OK
* checking Rd files ... NOTE
checkRd: (-1) assignChromosomeRegion.Rd:133: Escaped LaTeX specials: \_
* checking Rd metadata ... OK
* checking Rd cross-references ... OK
* checking for missing documentation entries ... OK
* checking for code/documentation mismatches ... OK
* checking Rd \usage sections ... OK
* checking Rd contents ... OK
* checking for unstated dependencies in examples ... OK
* checking contents of ‘data’ directory ... OK
* checking data for non-ASCII characters ... OK
* checking LazyData ... OK
* checking data for ASCII and uncompressed saves ... OK
* checking files in ‘vignettes’ ... OK
* checking examples ... OK
Examples with CPU (user + system) or elapsed time > 5s
user system elapsed
findEnhancers 28.392 1.095 29.826
findMotifsInPromoterSeqs 17.427 0.391 18.280
annotatePeakInBatch 15.663 0.994 16.852
summarizeOverlapsByBins 5.474 0.598 5.802
annoPeaks 4.045 0.408 5.292
* checking for unstated dependencies in ‘tests’ ... OK
* checking tests ...
Running ‘runTests.R’
OK
* checking for unstated dependencies in vignettes ... OK
* checking package vignettes in ‘inst/doc’ ... OK
* checking running R code from vignettes ... SKIPPED
* checking re-building of vignette outputs ... SKIPPED
* checking PDF version of manual ... OK
* DONE
Status: 3 NOTEs
See
‘/Users/biocbuild/bbs-3.18-bioc/meat/ChIPpeakAnno.Rcheck/00check.log’
for details.
ChIPpeakAnno.Rcheck/00install.out
############################################################################## ############################################################################## ### ### Running command: ### ### /Library/Frameworks/R.framework/Resources/bin/R CMD INSTALL ChIPpeakAnno ### ############################################################################## ############################################################################## * installing to library ‘/Library/Frameworks/R.framework/Versions/4.3-x86_64/Resources/library’ * installing *source* package ‘ChIPpeakAnno’ ... ** using staged installation ** R ** data *** moving datasets to lazyload DB ** inst ** byte-compile and prepare package for lazy loading in method for ‘annoGR’ with signature ‘"EnsDb"’: no definition for class “EnsDb” in method for ‘toGRanges’ with signature ‘"EnsDb"’: no definition for class “EnsDb” ** help *** installing help indices ** building package indices ** installing vignettes ** testing if installed package can be loaded from temporary location ** testing if installed package can be loaded from final location ** testing if installed package keeps a record of temporary installation path * DONE (ChIPpeakAnno)
ChIPpeakAnno.Rcheck/tests/runTests.Rout
R version 4.3.2 Patched (2023-11-01 r85457) -- "Eye Holes"
Copyright (C) 2023 The R Foundation for Statistical Computing
Platform: x86_64-apple-darwin20 (64-bit)
R is free software and comes with ABSOLUTELY NO WARRANTY.
You are welcome to redistribute it under certain conditions.
Type 'license()' or 'licence()' for distribution details.
R is a collaborative project with many contributors.
Type 'contributors()' for more information and
'citation()' on how to cite R or R packages in publications.
Type 'demo()' for some demos, 'help()' for on-line help, or
'help.start()' for an HTML browser interface to help.
Type 'q()' to quit R.
> require("ChIPpeakAnno") || stop("unable to load Package:ChIPpeakAnno")
Loading required package: ChIPpeakAnno
Loading required package: IRanges
Loading required package: BiocGenerics
Attaching package: 'BiocGenerics'
The following objects are masked from 'package:stats':
IQR, mad, sd, var, xtabs
The following objects are masked from 'package:base':
Filter, Find, Map, Position, Reduce, anyDuplicated, aperm, append,
as.data.frame, basename, cbind, colnames, dirname, do.call,
duplicated, eval, evalq, get, grep, grepl, intersect, is.unsorted,
lapply, mapply, match, mget, order, paste, pmax, pmax.int, pmin,
pmin.int, rank, rbind, rownames, sapply, setdiff, sort, table,
tapply, union, unique, unsplit, which.max, which.min
Loading required package: S4Vectors
Loading required package: stats4
Attaching package: 'S4Vectors'
The following object is masked from 'package:utils':
findMatches
The following objects are masked from 'package:base':
I, expand.grid, unname
Loading required package: GenomicRanges
Loading required package: GenomeInfoDb
[1] TRUE
> require("BSgenome.Drerio.UCSC.danRer7") || stop("unable to load Package:BSgenome.Drerio.UCSC.danRer7")
Loading required package: BSgenome.Drerio.UCSC.danRer7
Loading required package: BSgenome
Loading required package: Biostrings
Loading required package: XVector
Attaching package: 'Biostrings'
The following object is masked from 'package:base':
strsplit
Loading required package: BiocIO
Loading required package: rtracklayer
Attaching package: 'rtracklayer'
The following object is masked from 'package:BiocIO':
FileForFormat
[1] TRUE
> require("org.Hs.eg.db") || stop("unable to load Package:org.Hs.eg.db")
Loading required package: org.Hs.eg.db
Loading required package: AnnotationDbi
Loading required package: Biobase
Welcome to Bioconductor
Vignettes contain introductory material; view with
'browseVignettes()'. To cite Bioconductor, see
'citation("Biobase")', and for packages 'citation("pkgname")'.
[1] TRUE
> require("org.Ce.eg.db") || stop("unable to load Package:org.Ce.eg.db")
Loading required package: org.Ce.eg.db
[1] TRUE
> require("BSgenome.Celegans.UCSC.ce10") || stop("unable to load Package:BSgenome.Celegans.UCSC.ce10")
Loading required package: BSgenome.Celegans.UCSC.ce10
[1] TRUE
> require("EnsDb.Hsapiens.v79") || stop("unable to load Package:EnsDb.Hsapiens.v79")
Loading required package: EnsDb.Hsapiens.v79
Loading required package: ensembldb
Loading required package: GenomicFeatures
Loading required package: AnnotationFilter
Attaching package: 'ensembldb'
The following object is masked from 'package:stats':
filter
[1] TRUE
> require("TxDb.Hsapiens.UCSC.hg38.knownGene") || stop("unable to load TxDb.Hsapiens.UCSC.hg38.knownGene")
Loading required package: TxDb.Hsapiens.UCSC.hg38.knownGene
[1] TRUE
> require("biomaRt") || stop("unable to load biomaRt")
Loading required package: biomaRt
[1] TRUE
> require("reactome.db") || stop("unable to load reactome.db")
Loading required package: reactome.db
[1] TRUE
> require("testthat") || stop("unable to load testthat")
Loading required package: testthat
Attaching package: 'testthat'
The following object is masked from 'package:AnnotationFilter':
not
[1] TRUE
> test_check("ChIPpeakAnno")
INFO [2024-03-03 19:46:48] $cat.cex
INFO [2024-03-03 19:46:48] [1] 1
INFO [2024-03-03 19:46:48]
INFO [2024-03-03 19:46:48] $cat.col
INFO [2024-03-03 19:46:48] [1] "black"
INFO [2024-03-03 19:46:48]
INFO [2024-03-03 19:46:48] $cat.fontface
INFO [2024-03-03 19:46:48] [1] "plain"
INFO [2024-03-03 19:46:48]
INFO [2024-03-03 19:46:48] $cat.fontfamily
INFO [2024-03-03 19:46:48] [1] "serif"
INFO [2024-03-03 19:46:48]
INFO [2024-03-03 19:46:48] $x
INFO [2024-03-03 19:46:48] $x$TF1
INFO [2024-03-03 19:46:48] [1] 3 4 5
INFO [2024-03-03 19:46:48]
INFO [2024-03-03 19:46:48] $x$TF2
INFO [2024-03-03 19:46:48] [1] 1 2 3 4 5
INFO [2024-03-03 19:46:48]
INFO [2024-03-03 19:46:48]
INFO [2024-03-03 19:46:48] $filename
INFO [2024-03-03 19:46:48] NULL
INFO [2024-03-03 19:46:48]
INFO [2024-03-03 19:46:48] $disable.logging
INFO [2024-03-03 19:46:48] [1] TRUE
INFO [2024-03-03 19:46:48]
INFO [2024-03-03 19:46:48] $cat.cex
INFO [2024-03-03 19:46:48] [1] 1
INFO [2024-03-03 19:46:48]
INFO [2024-03-03 19:46:48] $cat.col
INFO [2024-03-03 19:46:48] [1] "black"
INFO [2024-03-03 19:46:48]
INFO [2024-03-03 19:46:48] $cat.fontface
INFO [2024-03-03 19:46:48] [1] "plain"
INFO [2024-03-03 19:46:48]
INFO [2024-03-03 19:46:48] $cat.fontfamily
INFO [2024-03-03 19:46:48] [1] "serif"
INFO [2024-03-03 19:46:48]
INFO [2024-03-03 19:46:48] $x
INFO [2024-03-03 19:46:48] $x$TF1
INFO [2024-03-03 19:46:48] [1] 3 4 5
INFO [2024-03-03 19:46:48]
INFO [2024-03-03 19:46:48] $x$TF2
INFO [2024-03-03 19:46:48] [1] 1 2 4 5
INFO [2024-03-03 19:46:48]
INFO [2024-03-03 19:46:48] $x$TF3
INFO [2024-03-03 19:46:48] [1] 3 4 5
INFO [2024-03-03 19:46:48]
INFO [2024-03-03 19:46:48] $x$TF4
INFO [2024-03-03 19:46:48] [1] 1 2 4 5
INFO [2024-03-03 19:46:48]
INFO [2024-03-03 19:46:48]
INFO [2024-03-03 19:46:48] $filename
INFO [2024-03-03 19:46:48] NULL
INFO [2024-03-03 19:46:48]
INFO [2024-03-03 19:46:48] $disable.logging
INFO [2024-03-03 19:46:48] [1] TRUE
INFO [2024-03-03 19:46:48]
INFO [2024-03-03 19:46:48] $scaled
INFO [2024-03-03 19:46:48] [1] FALSE
INFO [2024-03-03 19:46:48]
INFO [2024-03-03 19:46:48] $euler.d
INFO [2024-03-03 19:46:48] [1] FALSE
INFO [2024-03-03 19:46:48]
INFO [2024-03-03 19:46:48] $cat.cex
INFO [2024-03-03 19:46:48] [1] 1
INFO [2024-03-03 19:46:48]
INFO [2024-03-03 19:46:48] $cat.col
INFO [2024-03-03 19:46:48] [1] "black"
INFO [2024-03-03 19:46:48]
INFO [2024-03-03 19:46:48] $cat.fontface
INFO [2024-03-03 19:46:48] [1] "plain"
INFO [2024-03-03 19:46:48]
INFO [2024-03-03 19:46:48] $cat.fontfamily
INFO [2024-03-03 19:46:48] [1] "serif"
INFO [2024-03-03 19:46:48]
INFO [2024-03-03 19:46:48] $x
INFO [2024-03-03 19:46:48] $x$TF1
INFO [2024-03-03 19:46:48] [1] 1 2 3
INFO [2024-03-03 19:46:48]
INFO [2024-03-03 19:46:48] $x$TF2
INFO [2024-03-03 19:46:48] [1] 1 2 3
INFO [2024-03-03 19:46:48]
INFO [2024-03-03 19:46:48]
INFO [2024-03-03 19:46:48] $filename
INFO [2024-03-03 19:46:48] NULL
INFO [2024-03-03 19:46:48]
INFO [2024-03-03 19:46:48] $disable.logging
INFO [2024-03-03 19:46:48] [1] TRUE
INFO [2024-03-03 19:46:48]
INFO [2024-03-03 19:46:49] $scaled
INFO [2024-03-03 19:46:49] [1] FALSE
INFO [2024-03-03 19:46:49]
INFO [2024-03-03 19:46:49] $euler.d
INFO [2024-03-03 19:46:49] [1] FALSE
INFO [2024-03-03 19:46:49]
INFO [2024-03-03 19:46:49] $cat.cex
INFO [2024-03-03 19:46:49] [1] 1
INFO [2024-03-03 19:46:49]
INFO [2024-03-03 19:46:49] $cat.col
INFO [2024-03-03 19:46:49] [1] "black"
INFO [2024-03-03 19:46:49]
INFO [2024-03-03 19:46:49] $cat.fontface
INFO [2024-03-03 19:46:49] [1] "plain"
INFO [2024-03-03 19:46:49]
INFO [2024-03-03 19:46:49] $cat.fontfamily
INFO [2024-03-03 19:46:49] [1] "serif"
INFO [2024-03-03 19:46:49]
INFO [2024-03-03 19:46:49] $x
INFO [2024-03-03 19:46:49] $x$TF1
INFO [2024-03-03 19:46:49] [1] 4 5 6
INFO [2024-03-03 19:46:49]
INFO [2024-03-03 19:46:49] $x$TF2
INFO [2024-03-03 19:46:49] [1] 1 2 3
INFO [2024-03-03 19:46:49]
INFO [2024-03-03 19:46:49]
INFO [2024-03-03 19:46:49] $filename
INFO [2024-03-03 19:46:49] NULL
INFO [2024-03-03 19:46:49]
INFO [2024-03-03 19:46:49] $disable.logging
INFO [2024-03-03 19:46:49] [1] TRUE
INFO [2024-03-03 19:46:49]
INFO [2024-03-03 19:46:49] $scaled
INFO [2024-03-03 19:46:49] [1] FALSE
INFO [2024-03-03 19:46:49]
INFO [2024-03-03 19:46:49] $euler.d
INFO [2024-03-03 19:46:49] [1] FALSE
INFO [2024-03-03 19:46:49]
INFO [2024-03-03 19:46:49] $cat.cex
INFO [2024-03-03 19:46:49] [1] 1
INFO [2024-03-03 19:46:49]
INFO [2024-03-03 19:46:49] $cat.col
INFO [2024-03-03 19:46:49] [1] "black"
INFO [2024-03-03 19:46:49]
INFO [2024-03-03 19:46:49] $cat.fontface
INFO [2024-03-03 19:46:49] [1] "plain"
INFO [2024-03-03 19:46:49]
INFO [2024-03-03 19:46:49] $cat.fontfamily
INFO [2024-03-03 19:46:49] [1] "serif"
INFO [2024-03-03 19:46:49]
INFO [2024-03-03 19:46:49] $x
INFO [2024-03-03 19:46:49] $x$TF1
INFO [2024-03-03 19:46:49] [1] 4 5 6
INFO [2024-03-03 19:46:49]
INFO [2024-03-03 19:46:49] $x$TF2
INFO [2024-03-03 19:46:49] [1] 1 2 3
INFO [2024-03-03 19:46:49]
INFO [2024-03-03 19:46:49]
INFO [2024-03-03 19:46:49] $filename
INFO [2024-03-03 19:46:49] NULL
INFO [2024-03-03 19:46:49]
INFO [2024-03-03 19:46:49] $disable.logging
INFO [2024-03-03 19:46:49] [1] TRUE
INFO [2024-03-03 19:46:49]
INFO [2024-03-03 19:46:49] $scaled
INFO [2024-03-03 19:46:49] [1] FALSE
INFO [2024-03-03 19:46:49]
INFO [2024-03-03 19:46:49] $euler.d
INFO [2024-03-03 19:46:49] [1] FALSE
INFO [2024-03-03 19:46:49]
INFO [2024-03-03 19:46:49] $cat.cex
INFO [2024-03-03 19:46:49] [1] 1
INFO [2024-03-03 19:46:49]
INFO [2024-03-03 19:46:49] $cat.col
INFO [2024-03-03 19:46:49] [1] "black"
INFO [2024-03-03 19:46:49]
INFO [2024-03-03 19:46:49] $cat.fontface
INFO [2024-03-03 19:46:49] [1] "plain"
INFO [2024-03-03 19:46:49]
INFO [2024-03-03 19:46:49] $cat.fontfamily
INFO [2024-03-03 19:46:49] [1] "serif"
INFO [2024-03-03 19:46:49]
INFO [2024-03-03 19:46:49] $x
INFO [2024-03-03 19:46:49] $x$TF1
INFO [2024-03-03 19:46:49] [1] 4 5 6
INFO [2024-03-03 19:46:49]
INFO [2024-03-03 19:46:49] $x$TF2
INFO [2024-03-03 19:46:49] [1] 1 2 3
INFO [2024-03-03 19:46:49]
INFO [2024-03-03 19:46:49] $x$TF3
INFO [2024-03-03 19:46:49] [1] 2 3 6
INFO [2024-03-03 19:46:49]
INFO [2024-03-03 19:46:49]
INFO [2024-03-03 19:46:49] $filename
INFO [2024-03-03 19:46:49] NULL
INFO [2024-03-03 19:46:49]
INFO [2024-03-03 19:46:49] $disable.logging
INFO [2024-03-03 19:46:49] [1] TRUE
INFO [2024-03-03 19:46:49]
INFO [2024-03-03 19:46:50] $scaled
INFO [2024-03-03 19:46:50] [1] FALSE
INFO [2024-03-03 19:46:50]
INFO [2024-03-03 19:46:50] $euler.d
INFO [2024-03-03 19:46:50] [1] FALSE
INFO [2024-03-03 19:46:50]
INFO [2024-03-03 19:46:50] $cat.cex
INFO [2024-03-03 19:46:50] [1] 1
INFO [2024-03-03 19:46:50]
INFO [2024-03-03 19:46:50] $cat.col
INFO [2024-03-03 19:46:50] [1] "black"
INFO [2024-03-03 19:46:50]
INFO [2024-03-03 19:46:50] $cat.fontface
INFO [2024-03-03 19:46:50] [1] "plain"
INFO [2024-03-03 19:46:50]
INFO [2024-03-03 19:46:50] $cat.fontfamily
INFO [2024-03-03 19:46:50] [1] "serif"
INFO [2024-03-03 19:46:50]
INFO [2024-03-03 19:46:50] $x
INFO [2024-03-03 19:46:50] $x$TF1
INFO [2024-03-03 19:46:50] [1] 3 4 5
INFO [2024-03-03 19:46:50]
INFO [2024-03-03 19:46:50] $x$TF2
INFO [2024-03-03 19:46:50] [1] 1 2 5
INFO [2024-03-03 19:46:50]
INFO [2024-03-03 19:46:50] $x$TF3
INFO [2024-03-03 19:46:50] [1] 1 2 5
INFO [2024-03-03 19:46:50]
INFO [2024-03-03 19:46:50]
INFO [2024-03-03 19:46:50] $filename
INFO [2024-03-03 19:46:50] NULL
INFO [2024-03-03 19:46:50]
INFO [2024-03-03 19:46:50] $disable.logging
INFO [2024-03-03 19:46:50] [1] TRUE
INFO [2024-03-03 19:46:50]
INFO [2024-03-03 19:46:50] $scaled
INFO [2024-03-03 19:46:50] [1] FALSE
INFO [2024-03-03 19:46:50]
INFO [2024-03-03 19:46:50] $euler.d
INFO [2024-03-03 19:46:50] [1] FALSE
INFO [2024-03-03 19:46:50]
INFO [2024-03-03 19:46:50] $cat.cex
INFO [2024-03-03 19:46:50] [1] 1
INFO [2024-03-03 19:46:50]
INFO [2024-03-03 19:46:50] $cat.col
INFO [2024-03-03 19:46:50] [1] "black"
INFO [2024-03-03 19:46:50]
INFO [2024-03-03 19:46:50] $cat.fontface
INFO [2024-03-03 19:46:50] [1] "plain"
INFO [2024-03-03 19:46:50]
INFO [2024-03-03 19:46:50] $cat.fontfamily
INFO [2024-03-03 19:46:50] [1] "serif"
INFO [2024-03-03 19:46:50]
INFO [2024-03-03 19:46:50] $x
INFO [2024-03-03 19:46:50] $x$TF1
INFO [2024-03-03 19:46:50] [1] 3 4 5
INFO [2024-03-03 19:46:50]
INFO [2024-03-03 19:46:50] $x$TF2
INFO [2024-03-03 19:46:50] [1] 1 2 5
INFO [2024-03-03 19:46:50]
INFO [2024-03-03 19:46:50] $x$TF3
INFO [2024-03-03 19:46:50] [1] 1 2 5
INFO [2024-03-03 19:46:50]
INFO [2024-03-03 19:46:50] $x$TF4
INFO [2024-03-03 19:46:50] [1] 1 2 5
INFO [2024-03-03 19:46:50]
INFO [2024-03-03 19:46:50]
INFO [2024-03-03 19:46:50] $filename
INFO [2024-03-03 19:46:50] NULL
INFO [2024-03-03 19:46:50]
INFO [2024-03-03 19:46:50] $disable.logging
INFO [2024-03-03 19:46:50] [1] TRUE
INFO [2024-03-03 19:46:50]
[ FAIL 0 | WARN 4 | SKIP 6 | PASS 316 ]
══ Skipped tests (6) ═══════════════════════════════════════════════════════════
• empty test (6): 'test_binOverGene.R:1:1', 'test_binOverRegions.R:1:1',
'test_enrichmentPlot.R:1:1', 'test_getAnnotation.R:1:1',
'test_reCenterPeaks.R:1:1', 'test_write2FASTA.R:1:1'
[ FAIL 0 | WARN 4 | SKIP 6 | PASS 316 ]
>
> proc.time()
user system elapsed
201.470 7.366 213.477
ChIPpeakAnno.Rcheck/ChIPpeakAnno-Ex.timings
| name | user | system | elapsed | |
| ChIPpeakAnno-package | 0.000 | 0.000 | 0.001 | |
| ExonPlusUtr.human.GRCh37 | 3.517 | 0.124 | 3.660 | |
| HOT.spots | 0.143 | 0.014 | 0.158 | |
| IDRfilter | 0.001 | 0.000 | 0.001 | |
| Peaks.Ste12.Replicate1 | 0.062 | 0.004 | 0.066 | |
| Peaks.Ste12.Replicate2 | 0.011 | 0.002 | 0.013 | |
| Peaks.Ste12.Replicate3 | 0.015 | 0.003 | 0.018 | |
| TSS.human.GRCh37 | 0.196 | 0.013 | 0.210 | |
| TSS.human.GRCh38 | 0.154 | 0.013 | 0.169 | |
| TSS.human.NCBI36 | 0.106 | 0.009 | 0.116 | |
| TSS.mouse.GRCm38 | 0.110 | 0.012 | 0.126 | |
| TSS.mouse.NCBIM37 | 0.098 | 0.010 | 0.110 | |
| TSS.rat.RGSC3.4 | 0.083 | 0.008 | 0.092 | |
| TSS.rat.Rnor_5.0 | 0.074 | 0.005 | 0.080 | |
| TSS.zebrafish.Zv8 | 0.073 | 0.008 | 0.082 | |
| TSS.zebrafish.Zv9 | 0.090 | 0.007 | 0.098 | |
| addAncestors | 1.534 | 0.099 | 1.658 | |
| addGeneIDs | 2.587 | 1.071 | 3.708 | |
| addMetadata | 1.636 | 0.102 | 1.749 | |
| annoGR | 0.000 | 0.001 | 0.000 | |
| annoPeaks | 4.045 | 0.408 | 5.292 | |
| annotatePeakInBatch | 15.663 | 0.994 | 16.852 | |
| annotatedPeak | 0.068 | 0.005 | 0.074 | |
| assignChromosomeRegion | 0.001 | 0.000 | 0.002 | |
| bdp | 0.001 | 0.000 | 0.001 | |
| binOverFeature | 0.946 | 0.043 | 0.999 | |
| binOverGene | 0.001 | 0.000 | 0.002 | |
| binOverRegions | 0.001 | 0.001 | 0.000 | |
| condenseMatrixByColnames | 0.010 | 0.001 | 0.010 | |
| convert2EntrezID | 0.445 | 0.008 | 0.455 | |
| countPatternInSeqs | 0.180 | 0.008 | 0.192 | |
| cumulativePercentage | 0 | 0 | 0 | |
| downstreams | 0.025 | 0.000 | 0.026 | |
| egOrgMap | 0.001 | 0.000 | 0.001 | |
| enrichedGO | 0.003 | 0.002 | 0.004 | |
| enrichmentPlot | 0.606 | 0.019 | 0.631 | |
| estFragmentLength | 0.001 | 0.000 | 0.001 | |
| estLibSize | 0.000 | 0.000 | 0.001 | |
| featureAlignedDistribution | 0.245 | 0.005 | 0.252 | |
| featureAlignedExtendSignal | 0.002 | 0.001 | 0.002 | |
| featureAlignedHeatmap | 0.364 | 0.007 | 0.375 | |
| featureAlignedSignal | 0.326 | 0.063 | 0.393 | |
| findEnhancers | 28.392 | 1.095 | 29.826 | |
| findMotifsInPromoterSeqs | 17.427 | 0.391 | 18.280 | |
| findOverlappingPeaks | 0.001 | 0.001 | 0.002 | |
| findOverlapsOfPeaks | 2.365 | 0.051 | 2.457 | |
| genomicElementDistribution | 0.002 | 0.001 | 0.003 | |
| genomicElementUpSetR | 0.001 | 0.001 | 0.001 | |
| getAllPeakSequence | 0.791 | 0.043 | 0.861 | |
| getAnnotation | 0.002 | 0.001 | 0.004 | |
| getEnrichedGO | 0.014 | 0.008 | 0.022 | |
| getEnrichedPATH | 0.001 | 0.001 | 0.002 | |
| getGO | 0.000 | 0.000 | 0.001 | |
| getGeneSeq | 0.002 | 0.001 | 0.003 | |
| getUniqueGOidCount | 0.001 | 0.000 | 0.001 | |
| getVennCounts | 0.001 | 0.000 | 0.001 | |
| hyperGtest | 0.001 | 0.000 | 0.001 | |
| makeVennDiagram | 0.004 | 0.001 | 0.005 | |
| mergePlusMinusPeaks | 0.001 | 0.001 | 0.001 | |
| metagenePlot | 2.622 | 0.088 | 2.759 | |
| myPeakList | 0.018 | 0.003 | 0.021 | |
| oligoFrequency | 0.345 | 0.045 | 0.396 | |
| oligoSummary | 0.000 | 0.001 | 0.001 | |
| peakPermTest | 0.002 | 0.001 | 0.002 | |
| peaksNearBDP | 0.001 | 0.001 | 0.001 | |
| pie1 | 0.005 | 0.002 | 0.008 | |
| plotBinOverRegions | 0.000 | 0.000 | 0.001 | |
| preparePool | 0.000 | 0.001 | 0.001 | |
| reCenterPeaks | 0.032 | 0.001 | 0.033 | |
| summarizeOverlapsByBins | 5.474 | 0.598 | 5.802 | |
| summarizePatternInPeaks | 0.692 | 0.079 | 0.791 | |
| tileCount | 0.285 | 0.185 | 0.452 | |
| tileGRanges | 0.051 | 0.023 | 0.074 | |
| toGRanges | 0.123 | 0.054 | 0.178 | |
| translatePattern | 0.000 | 0.001 | 0.001 | |
| wgEncodeTfbsV3 | 0.238 | 0.025 | 0.271 | |
| write2FASTA | 0.025 | 0.010 | 0.037 | |
| xget | 0.156 | 0.026 | 0.186 | |