| Back to Multiple platform build/check report for BioC 3.18: simplified long |
|
This page was generated on 2024-04-17 11:35:50 -0400 (Wed, 17 Apr 2024).
| Hostname | OS | Arch (*) | R version | Installed pkgs |
|---|---|---|---|---|
| nebbiolo2 | Linux (Ubuntu 22.04.3 LTS) | x86_64 | 4.3.3 (2024-02-29) -- "Angel Food Cake" | 4676 |
| palomino4 | Windows Server 2022 Datacenter | x64 | 4.3.3 (2024-02-29 ucrt) -- "Angel Food Cake" | 4414 |
| merida1 | macOS 12.7.1 Monterey | x86_64 | 4.3.3 (2024-02-29) -- "Angel Food Cake" | 4437 |
| Click on any hostname to see more info about the system (e.g. compilers) (*) as reported by 'uname -p', except on Windows and Mac OS X | ||||
| Package 333/2266 | Hostname | OS / Arch | INSTALL | BUILD | CHECK | BUILD BIN | ||||||||
| ChIPpeakAnno 3.36.1 (landing page) Jianhong Ou
| nebbiolo2 | Linux (Ubuntu 22.04.3 LTS) / x86_64 | OK | OK | ERROR | |||||||||
| palomino4 | Windows Server 2022 Datacenter / x64 | OK | OK | OK | OK | |||||||||
| merida1 | macOS 12.7.1 Monterey / x86_64 | OK | OK | OK | OK | |||||||||
| kjohnson1 | macOS 13.6.1 Ventura / arm64 | see weekly results here | ||||||||||||
|
To the developers/maintainers of the ChIPpeakAnno package: - Allow up to 24 hours (and sometimes 48 hours) for your latest push to git@git.bioconductor.org:packages/ChIPpeakAnno.git to reflect on this report. See Troubleshooting Build Report for more information. - Use the following Renviron settings to reproduce errors and warnings. - If 'R CMD check' started to fail recently on the Linux builder(s) over a missing dependency, add the missing dependency to 'Suggests:' in your DESCRIPTION file. See Renviron.bioc for more information. |
| Package: ChIPpeakAnno |
| Version: 3.36.1 |
| Command: /home/biocbuild/bbs-3.18-bioc/R/bin/R CMD check --install=check:ChIPpeakAnno.install-out.txt --library=/home/biocbuild/bbs-3.18-bioc/R/site-library --timings ChIPpeakAnno_3.36.1.tar.gz |
| StartedAt: 2024-04-15 21:08:51 -0400 (Mon, 15 Apr 2024) |
| EndedAt: 2024-04-15 21:30:30 -0400 (Mon, 15 Apr 2024) |
| EllapsedTime: 1298.9 seconds |
| RetCode: 1 |
| Status: ERROR |
| CheckDir: ChIPpeakAnno.Rcheck |
| Warnings: NA |
##############################################################################
##############################################################################
###
### Running command:
###
### /home/biocbuild/bbs-3.18-bioc/R/bin/R CMD check --install=check:ChIPpeakAnno.install-out.txt --library=/home/biocbuild/bbs-3.18-bioc/R/site-library --timings ChIPpeakAnno_3.36.1.tar.gz
###
##############################################################################
##############################################################################
* using log directory ‘/home/biocbuild/bbs-3.18-bioc/meat/ChIPpeakAnno.Rcheck’
* using R version 4.3.3 (2024-02-29)
* using platform: x86_64-pc-linux-gnu (64-bit)
* R was compiled by
gcc (Ubuntu 11.4.0-1ubuntu1~22.04) 11.4.0
GNU Fortran (Ubuntu 11.4.0-1ubuntu1~22.04) 11.4.0
* running under: Ubuntu 22.04.4 LTS
* using session charset: UTF-8
* checking for file ‘ChIPpeakAnno/DESCRIPTION’ ... OK
* checking extension type ... Package
* this is package ‘ChIPpeakAnno’ version ‘3.36.1’
* package encoding: UTF-8
* checking package namespace information ... OK
* checking package dependencies ... OK
* checking if this is a source package ... OK
* checking if there is a namespace ... OK
* checking for hidden files and directories ... OK
* checking for portable file names ... OK
* checking for sufficient/correct file permissions ... OK
* checking whether package ‘ChIPpeakAnno’ can be installed ... OK
* checking installed package size ... NOTE
installed size is 19.1Mb
sub-directories of 1Mb or more:
data 12.6Mb
extdata 5.2Mb
* checking package directory ... OK
* checking ‘build’ directory ... OK
* checking DESCRIPTION meta-information ... OK
* checking top-level files ... OK
* checking for left-over files ... OK
* checking index information ... OK
* checking package subdirectories ... OK
* checking R files for non-ASCII characters ... OK
* checking R files for syntax errors ... OK
* checking whether the package can be loaded ... OK
* checking whether the package can be loaded with stated dependencies ... OK
* checking whether the package can be unloaded cleanly ... OK
* checking whether the namespace can be loaded with stated dependencies ... OK
* checking whether the namespace can be unloaded cleanly ... OK
* checking loading without being on the library search path ... OK
* checking dependencies in R code ... NOTE
Namespace in Imports field not imported from: ‘ensembldb’
All declared Imports should be used.
* checking S3 generic/method consistency ... OK
* checking replacement functions ... OK
* checking foreign function calls ... OK
* checking R code for possible problems ... OK
* checking Rd files ... NOTE
checkRd: (-1) assignChromosomeRegion.Rd:133: Escaped LaTeX specials: \_
* checking Rd metadata ... OK
* checking Rd cross-references ... OK
* checking for missing documentation entries ... OK
* checking for code/documentation mismatches ... OK
* checking Rd \usage sections ... OK
* checking Rd contents ... OK
* checking for unstated dependencies in examples ... OK
* checking contents of ‘data’ directory ... OK
* checking data for non-ASCII characters ... OK
* checking LazyData ... OK
* checking data for ASCII and uncompressed saves ... OK
* checking files in ‘vignettes’ ... OK
* checking examples ... OK
Examples with CPU (user + system) or elapsed time > 5s
user system elapsed
findEnhancers 23.381 0.519 23.901
annotatePeakInBatch 12.477 1.080 13.558
findMotifsInPromoterSeqs 12.950 0.163 13.114
summarizeOverlapsByBins 4.910 0.406 5.058
* checking for unstated dependencies in ‘tests’ ... OK
* checking tests ...
Running ‘runTests.R’
OK
* checking for unstated dependencies in vignettes ... OK
* checking package vignettes in ‘inst/doc’ ... OK
* checking running R code from vignettes ...
‘ChIPpeakAnno.Rmd’ using ‘UTF-8’... OK
‘FAQs.Rmd’ using ‘UTF-8’... failed
‘pipeline.Rmd’ using ‘UTF-8’... OK
‘quickStart.Rmd’ using ‘UTF-8’... OK
ERROR
Errors in running code in vignettes:
when running code in ‘FAQs.Rmd’
...
> knitr::opts_chunk$set(echo = TRUE, eval = FALSE, warning = FALSE,
+ error = FALSE)
> p1 <- GRanges("1", IRanges(c(1, 4, 7), width = 2))
When sourcing ‘FAQs.R’:
Error: could not find function "GRanges"
Execution halted
* checking re-building of vignette outputs ... OK
* checking PDF version of manual ... OK
* DONE
Status: 1 ERROR, 3 NOTEs
See
‘/home/biocbuild/bbs-3.18-bioc/meat/ChIPpeakAnno.Rcheck/00check.log’
for details.
ChIPpeakAnno.Rcheck/00install.out
############################################################################## ############################################################################## ### ### Running command: ### ### /home/biocbuild/bbs-3.18-bioc/R/bin/R CMD INSTALL ChIPpeakAnno ### ############################################################################## ############################################################################## * installing to library ‘/home/biocbuild/bbs-3.18-bioc/R/site-library’ * installing *source* package ‘ChIPpeakAnno’ ... ** using staged installation ** R ** data *** moving datasets to lazyload DB ** inst ** byte-compile and prepare package for lazy loading in method for ‘annoGR’ with signature ‘"EnsDb"’: no definition for class “EnsDb” in method for ‘toGRanges’ with signature ‘"EnsDb"’: no definition for class “EnsDb” ** help *** installing help indices ** building package indices ** installing vignettes ** testing if installed package can be loaded from temporary location ** testing if installed package can be loaded from final location ** testing if installed package keeps a record of temporary installation path * DONE (ChIPpeakAnno)
ChIPpeakAnno.Rcheck/tests/runTests.Rout
R version 4.3.3 (2024-02-29) -- "Angel Food Cake"
Copyright (C) 2024 The R Foundation for Statistical Computing
Platform: x86_64-pc-linux-gnu (64-bit)
R is free software and comes with ABSOLUTELY NO WARRANTY.
You are welcome to redistribute it under certain conditions.
Type 'license()' or 'licence()' for distribution details.
R is a collaborative project with many contributors.
Type 'contributors()' for more information and
'citation()' on how to cite R or R packages in publications.
Type 'demo()' for some demos, 'help()' for on-line help, or
'help.start()' for an HTML browser interface to help.
Type 'q()' to quit R.
> require("ChIPpeakAnno") || stop("unable to load Package:ChIPpeakAnno")
Loading required package: ChIPpeakAnno
Loading required package: IRanges
Loading required package: BiocGenerics
Attaching package: 'BiocGenerics'
The following objects are masked from 'package:stats':
IQR, mad, sd, var, xtabs
The following objects are masked from 'package:base':
Filter, Find, Map, Position, Reduce, anyDuplicated, aperm, append,
as.data.frame, basename, cbind, colnames, dirname, do.call,
duplicated, eval, evalq, get, grep, grepl, intersect, is.unsorted,
lapply, mapply, match, mget, order, paste, pmax, pmax.int, pmin,
pmin.int, rank, rbind, rownames, sapply, setdiff, sort, table,
tapply, union, unique, unsplit, which.max, which.min
Loading required package: S4Vectors
Loading required package: stats4
Attaching package: 'S4Vectors'
The following object is masked from 'package:utils':
findMatches
The following objects are masked from 'package:base':
I, expand.grid, unname
Loading required package: GenomicRanges
Loading required package: GenomeInfoDb
[1] TRUE
> require("BSgenome.Drerio.UCSC.danRer7") || stop("unable to load Package:BSgenome.Drerio.UCSC.danRer7")
Loading required package: BSgenome.Drerio.UCSC.danRer7
Loading required package: BSgenome
Loading required package: Biostrings
Loading required package: XVector
Attaching package: 'Biostrings'
The following object is masked from 'package:base':
strsplit
Loading required package: BiocIO
Loading required package: rtracklayer
Attaching package: 'rtracklayer'
The following object is masked from 'package:BiocIO':
FileForFormat
[1] TRUE
> require("org.Hs.eg.db") || stop("unable to load Package:org.Hs.eg.db")
Loading required package: org.Hs.eg.db
Loading required package: AnnotationDbi
Loading required package: Biobase
Welcome to Bioconductor
Vignettes contain introductory material; view with
'browseVignettes()'. To cite Bioconductor, see
'citation("Biobase")', and for packages 'citation("pkgname")'.
[1] TRUE
> require("org.Ce.eg.db") || stop("unable to load Package:org.Ce.eg.db")
Loading required package: org.Ce.eg.db
[1] TRUE
> require("BSgenome.Celegans.UCSC.ce10") || stop("unable to load Package:BSgenome.Celegans.UCSC.ce10")
Loading required package: BSgenome.Celegans.UCSC.ce10
[1] TRUE
> require("EnsDb.Hsapiens.v79") || stop("unable to load Package:EnsDb.Hsapiens.v79")
Loading required package: EnsDb.Hsapiens.v79
Loading required package: ensembldb
Loading required package: GenomicFeatures
Loading required package: AnnotationFilter
Attaching package: 'ensembldb'
The following object is masked from 'package:stats':
filter
[1] TRUE
> require("TxDb.Hsapiens.UCSC.hg38.knownGene") || stop("unable to load TxDb.Hsapiens.UCSC.hg38.knownGene")
Loading required package: TxDb.Hsapiens.UCSC.hg38.knownGene
[1] TRUE
> require("biomaRt") || stop("unable to load biomaRt")
Loading required package: biomaRt
[1] TRUE
> require("reactome.db") || stop("unable to load reactome.db")
Loading required package: reactome.db
[1] TRUE
> require("testthat") || stop("unable to load testthat")
Loading required package: testthat
Attaching package: 'testthat'
The following object is masked from 'package:AnnotationFilter':
not
[1] TRUE
> test_check("ChIPpeakAnno")
INFO [2024-04-15 21:18:04] $cat.cex
INFO [2024-04-15 21:18:04] [1] 1
INFO [2024-04-15 21:18:04]
INFO [2024-04-15 21:18:04] $cat.col
INFO [2024-04-15 21:18:04] [1] "black"
INFO [2024-04-15 21:18:04]
INFO [2024-04-15 21:18:04] $cat.fontface
INFO [2024-04-15 21:18:04] [1] "plain"
INFO [2024-04-15 21:18:04]
INFO [2024-04-15 21:18:04] $cat.fontfamily
INFO [2024-04-15 21:18:04] [1] "serif"
INFO [2024-04-15 21:18:04]
INFO [2024-04-15 21:18:04] $x
INFO [2024-04-15 21:18:04] $x$TF1
INFO [2024-04-15 21:18:04] [1] 3 4 5
INFO [2024-04-15 21:18:04]
INFO [2024-04-15 21:18:04] $x$TF2
INFO [2024-04-15 21:18:04] [1] 1 2 3 4 5
INFO [2024-04-15 21:18:04]
INFO [2024-04-15 21:18:04]
INFO [2024-04-15 21:18:04] $filename
INFO [2024-04-15 21:18:04] NULL
INFO [2024-04-15 21:18:04]
INFO [2024-04-15 21:18:04] $disable.logging
INFO [2024-04-15 21:18:04] [1] TRUE
INFO [2024-04-15 21:18:04]
INFO [2024-04-15 21:18:04] $cat.cex
INFO [2024-04-15 21:18:04] [1] 1
INFO [2024-04-15 21:18:04]
INFO [2024-04-15 21:18:04] $cat.col
INFO [2024-04-15 21:18:04] [1] "black"
INFO [2024-04-15 21:18:04]
INFO [2024-04-15 21:18:04] $cat.fontface
INFO [2024-04-15 21:18:04] [1] "plain"
INFO [2024-04-15 21:18:04]
INFO [2024-04-15 21:18:04] $cat.fontfamily
INFO [2024-04-15 21:18:04] [1] "serif"
INFO [2024-04-15 21:18:04]
INFO [2024-04-15 21:18:04] $x
INFO [2024-04-15 21:18:04] $x$TF1
INFO [2024-04-15 21:18:04] [1] 3 4 5
INFO [2024-04-15 21:18:04]
INFO [2024-04-15 21:18:04] $x$TF2
INFO [2024-04-15 21:18:04] [1] 1 2 4 5
INFO [2024-04-15 21:18:04]
INFO [2024-04-15 21:18:04] $x$TF3
INFO [2024-04-15 21:18:04] [1] 3 4 5
INFO [2024-04-15 21:18:04]
INFO [2024-04-15 21:18:04] $x$TF4
INFO [2024-04-15 21:18:04] [1] 1 2 4 5
INFO [2024-04-15 21:18:04]
INFO [2024-04-15 21:18:04]
INFO [2024-04-15 21:18:04] $filename
INFO [2024-04-15 21:18:04] NULL
INFO [2024-04-15 21:18:04]
INFO [2024-04-15 21:18:04] $disable.logging
INFO [2024-04-15 21:18:04] [1] TRUE
INFO [2024-04-15 21:18:04]
INFO [2024-04-15 21:18:05] $scaled
INFO [2024-04-15 21:18:05] [1] FALSE
INFO [2024-04-15 21:18:05]
INFO [2024-04-15 21:18:05] $euler.d
INFO [2024-04-15 21:18:05] [1] FALSE
INFO [2024-04-15 21:18:05]
INFO [2024-04-15 21:18:05] $cat.cex
INFO [2024-04-15 21:18:05] [1] 1
INFO [2024-04-15 21:18:05]
INFO [2024-04-15 21:18:05] $cat.col
INFO [2024-04-15 21:18:05] [1] "black"
INFO [2024-04-15 21:18:05]
INFO [2024-04-15 21:18:05] $cat.fontface
INFO [2024-04-15 21:18:05] [1] "plain"
INFO [2024-04-15 21:18:05]
INFO [2024-04-15 21:18:05] $cat.fontfamily
INFO [2024-04-15 21:18:05] [1] "serif"
INFO [2024-04-15 21:18:05]
INFO [2024-04-15 21:18:05] $x
INFO [2024-04-15 21:18:05] $x$TF1
INFO [2024-04-15 21:18:05] [1] 1 2 3
INFO [2024-04-15 21:18:05]
INFO [2024-04-15 21:18:05] $x$TF2
INFO [2024-04-15 21:18:05] [1] 1 2 3
INFO [2024-04-15 21:18:05]
INFO [2024-04-15 21:18:05]
INFO [2024-04-15 21:18:05] $filename
INFO [2024-04-15 21:18:05] NULL
INFO [2024-04-15 21:18:05]
INFO [2024-04-15 21:18:05] $disable.logging
INFO [2024-04-15 21:18:05] [1] TRUE
INFO [2024-04-15 21:18:05]
INFO [2024-04-15 21:18:05] $scaled
INFO [2024-04-15 21:18:05] [1] FALSE
INFO [2024-04-15 21:18:05]
INFO [2024-04-15 21:18:05] $euler.d
INFO [2024-04-15 21:18:05] [1] FALSE
INFO [2024-04-15 21:18:05]
INFO [2024-04-15 21:18:05] $cat.cex
INFO [2024-04-15 21:18:05] [1] 1
INFO [2024-04-15 21:18:05]
INFO [2024-04-15 21:18:05] $cat.col
INFO [2024-04-15 21:18:05] [1] "black"
INFO [2024-04-15 21:18:05]
INFO [2024-04-15 21:18:05] $cat.fontface
INFO [2024-04-15 21:18:05] [1] "plain"
INFO [2024-04-15 21:18:05]
INFO [2024-04-15 21:18:05] $cat.fontfamily
INFO [2024-04-15 21:18:05] [1] "serif"
INFO [2024-04-15 21:18:05]
INFO [2024-04-15 21:18:05] $x
INFO [2024-04-15 21:18:05] $x$TF1
INFO [2024-04-15 21:18:05] [1] 4 5 6
INFO [2024-04-15 21:18:05]
INFO [2024-04-15 21:18:05] $x$TF2
INFO [2024-04-15 21:18:05] [1] 1 2 3
INFO [2024-04-15 21:18:05]
INFO [2024-04-15 21:18:05]
INFO [2024-04-15 21:18:05] $filename
INFO [2024-04-15 21:18:05] NULL
INFO [2024-04-15 21:18:05]
INFO [2024-04-15 21:18:05] $disable.logging
INFO [2024-04-15 21:18:05] [1] TRUE
INFO [2024-04-15 21:18:05]
INFO [2024-04-15 21:18:05] $scaled
INFO [2024-04-15 21:18:05] [1] FALSE
INFO [2024-04-15 21:18:05]
INFO [2024-04-15 21:18:05] $euler.d
INFO [2024-04-15 21:18:05] [1] FALSE
INFO [2024-04-15 21:18:05]
INFO [2024-04-15 21:18:05] $cat.cex
INFO [2024-04-15 21:18:05] [1] 1
INFO [2024-04-15 21:18:05]
INFO [2024-04-15 21:18:05] $cat.col
INFO [2024-04-15 21:18:05] [1] "black"
INFO [2024-04-15 21:18:05]
INFO [2024-04-15 21:18:05] $cat.fontface
INFO [2024-04-15 21:18:05] [1] "plain"
INFO [2024-04-15 21:18:05]
INFO [2024-04-15 21:18:05] $cat.fontfamily
INFO [2024-04-15 21:18:05] [1] "serif"
INFO [2024-04-15 21:18:05]
INFO [2024-04-15 21:18:05] $x
INFO [2024-04-15 21:18:05] $x$TF1
INFO [2024-04-15 21:18:05] [1] 4 5 6
INFO [2024-04-15 21:18:05]
INFO [2024-04-15 21:18:05] $x$TF2
INFO [2024-04-15 21:18:05] [1] 1 2 3
INFO [2024-04-15 21:18:05]
INFO [2024-04-15 21:18:05]
INFO [2024-04-15 21:18:05] $filename
INFO [2024-04-15 21:18:05] NULL
INFO [2024-04-15 21:18:05]
INFO [2024-04-15 21:18:05] $disable.logging
INFO [2024-04-15 21:18:05] [1] TRUE
INFO [2024-04-15 21:18:05]
INFO [2024-04-15 21:18:05] $scaled
INFO [2024-04-15 21:18:05] [1] FALSE
INFO [2024-04-15 21:18:05]
INFO [2024-04-15 21:18:05] $euler.d
INFO [2024-04-15 21:18:05] [1] FALSE
INFO [2024-04-15 21:18:05]
INFO [2024-04-15 21:18:05] $cat.cex
INFO [2024-04-15 21:18:05] [1] 1
INFO [2024-04-15 21:18:05]
INFO [2024-04-15 21:18:05] $cat.col
INFO [2024-04-15 21:18:05] [1] "black"
INFO [2024-04-15 21:18:05]
INFO [2024-04-15 21:18:05] $cat.fontface
INFO [2024-04-15 21:18:05] [1] "plain"
INFO [2024-04-15 21:18:05]
INFO [2024-04-15 21:18:05] $cat.fontfamily
INFO [2024-04-15 21:18:05] [1] "serif"
INFO [2024-04-15 21:18:05]
INFO [2024-04-15 21:18:05] $x
INFO [2024-04-15 21:18:05] $x$TF1
INFO [2024-04-15 21:18:05] [1] 4 5 6
INFO [2024-04-15 21:18:05]
INFO [2024-04-15 21:18:05] $x$TF2
INFO [2024-04-15 21:18:05] [1] 1 2 3
INFO [2024-04-15 21:18:05]
INFO [2024-04-15 21:18:05] $x$TF3
INFO [2024-04-15 21:18:05] [1] 2 3 6
INFO [2024-04-15 21:18:05]
INFO [2024-04-15 21:18:05]
INFO [2024-04-15 21:18:05] $filename
INFO [2024-04-15 21:18:05] NULL
INFO [2024-04-15 21:18:05]
INFO [2024-04-15 21:18:05] $disable.logging
INFO [2024-04-15 21:18:05] [1] TRUE
INFO [2024-04-15 21:18:05]
INFO [2024-04-15 21:18:06] $scaled
INFO [2024-04-15 21:18:06] [1] FALSE
INFO [2024-04-15 21:18:06]
INFO [2024-04-15 21:18:06] $euler.d
INFO [2024-04-15 21:18:06] [1] FALSE
INFO [2024-04-15 21:18:06]
INFO [2024-04-15 21:18:06] $cat.cex
INFO [2024-04-15 21:18:06] [1] 1
INFO [2024-04-15 21:18:06]
INFO [2024-04-15 21:18:06] $cat.col
INFO [2024-04-15 21:18:06] [1] "black"
INFO [2024-04-15 21:18:06]
INFO [2024-04-15 21:18:06] $cat.fontface
INFO [2024-04-15 21:18:06] [1] "plain"
INFO [2024-04-15 21:18:06]
INFO [2024-04-15 21:18:06] $cat.fontfamily
INFO [2024-04-15 21:18:06] [1] "serif"
INFO [2024-04-15 21:18:06]
INFO [2024-04-15 21:18:06] $x
INFO [2024-04-15 21:18:06] $x$TF1
INFO [2024-04-15 21:18:06] [1] 3 4 5
INFO [2024-04-15 21:18:06]
INFO [2024-04-15 21:18:06] $x$TF2
INFO [2024-04-15 21:18:06] [1] 1 2 5
INFO [2024-04-15 21:18:06]
INFO [2024-04-15 21:18:06] $x$TF3
INFO [2024-04-15 21:18:06] [1] 1 2 5
INFO [2024-04-15 21:18:06]
INFO [2024-04-15 21:18:06]
INFO [2024-04-15 21:18:06] $filename
INFO [2024-04-15 21:18:06] NULL
INFO [2024-04-15 21:18:06]
INFO [2024-04-15 21:18:06] $disable.logging
INFO [2024-04-15 21:18:06] [1] TRUE
INFO [2024-04-15 21:18:06]
INFO [2024-04-15 21:18:06] $scaled
INFO [2024-04-15 21:18:06] [1] FALSE
INFO [2024-04-15 21:18:06]
INFO [2024-04-15 21:18:06] $euler.d
INFO [2024-04-15 21:18:06] [1] FALSE
INFO [2024-04-15 21:18:06]
INFO [2024-04-15 21:18:06] $cat.cex
INFO [2024-04-15 21:18:06] [1] 1
INFO [2024-04-15 21:18:06]
INFO [2024-04-15 21:18:06] $cat.col
INFO [2024-04-15 21:18:06] [1] "black"
INFO [2024-04-15 21:18:06]
INFO [2024-04-15 21:18:06] $cat.fontface
INFO [2024-04-15 21:18:06] [1] "plain"
INFO [2024-04-15 21:18:06]
INFO [2024-04-15 21:18:06] $cat.fontfamily
INFO [2024-04-15 21:18:06] [1] "serif"
INFO [2024-04-15 21:18:06]
INFO [2024-04-15 21:18:06] $x
INFO [2024-04-15 21:18:06] $x$TF1
INFO [2024-04-15 21:18:06] [1] 3 4 5
INFO [2024-04-15 21:18:06]
INFO [2024-04-15 21:18:06] $x$TF2
INFO [2024-04-15 21:18:06] [1] 1 2 5
INFO [2024-04-15 21:18:06]
INFO [2024-04-15 21:18:06] $x$TF3
INFO [2024-04-15 21:18:06] [1] 1 2 5
INFO [2024-04-15 21:18:06]
INFO [2024-04-15 21:18:06] $x$TF4
INFO [2024-04-15 21:18:06] [1] 1 2 5
INFO [2024-04-15 21:18:06]
INFO [2024-04-15 21:18:06]
INFO [2024-04-15 21:18:06] $filename
INFO [2024-04-15 21:18:06] NULL
INFO [2024-04-15 21:18:06]
INFO [2024-04-15 21:18:06] $disable.logging
INFO [2024-04-15 21:18:06] [1] TRUE
INFO [2024-04-15 21:18:06]
[ FAIL 0 | WARN 4 | SKIP 6 | PASS 316 ]
══ Skipped tests (6) ═══════════════════════════════════════════════════════════
• empty test (6): 'test_binOverGene.R:1:1', 'test_binOverRegions.R:1:1',
'test_enrichmentPlot.R:1:1', 'test_getAnnotation.R:1:1',
'test_reCenterPeaks.R:1:1', 'test_write2FASTA.R:1:1'
[ FAIL 0 | WARN 4 | SKIP 6 | PASS 316 ]
>
> proc.time()
user system elapsed
157.619 4.004 162.785
ChIPpeakAnno.Rcheck/ChIPpeakAnno-Ex.timings
| name | user | system | elapsed | |
| ChIPpeakAnno-package | 0.001 | 0.000 | 0.000 | |
| ExonPlusUtr.human.GRCh37 | 3.098 | 0.192 | 3.289 | |
| HOT.spots | 0.138 | 0.004 | 0.142 | |
| IDRfilter | 0.001 | 0.000 | 0.000 | |
| Peaks.Ste12.Replicate1 | 0.038 | 0.008 | 0.046 | |
| Peaks.Ste12.Replicate2 | 0.010 | 0.000 | 0.011 | |
| Peaks.Ste12.Replicate3 | 0.011 | 0.000 | 0.011 | |
| TSS.human.GRCh37 | 0.149 | 0.024 | 0.173 | |
| TSS.human.GRCh38 | 0.138 | 0.000 | 0.139 | |
| TSS.human.NCBI36 | 0.096 | 0.012 | 0.109 | |
| TSS.mouse.GRCm38 | 0.098 | 0.004 | 0.103 | |
| TSS.mouse.NCBIM37 | 0.085 | 0.008 | 0.094 | |
| TSS.rat.RGSC3.4 | 0.079 | 0.000 | 0.080 | |
| TSS.rat.Rnor_5.0 | 0.064 | 0.004 | 0.069 | |
| TSS.zebrafish.Zv8 | 0.073 | 0.000 | 0.074 | |
| TSS.zebrafish.Zv9 | 0.085 | 0.004 | 0.089 | |
| addAncestors | 1.048 | 0.039 | 1.092 | |
| addGeneIDs | 0.828 | 0.036 | 0.864 | |
| addMetadata | 0.949 | 0.136 | 1.085 | |
| annoGR | 0 | 0 | 0 | |
| annoPeaks | 3.276 | 0.201 | 4.764 | |
| annotatePeakInBatch | 12.477 | 1.080 | 13.558 | |
| annotatedPeak | 0.056 | 0.006 | 0.061 | |
| assignChromosomeRegion | 0 | 0 | 0 | |
| bdp | 0 | 0 | 0 | |
| binOverFeature | 0.671 | 0.016 | 0.688 | |
| binOverGene | 0.000 | 0.000 | 0.001 | |
| binOverRegions | 0.000 | 0.000 | 0.001 | |
| condenseMatrixByColnames | 0.01 | 0.00 | 0.01 | |
| convert2EntrezID | 0.306 | 0.012 | 0.319 | |
| countPatternInSeqs | 0.222 | 0.000 | 0.222 | |
| cumulativePercentage | 0 | 0 | 0 | |
| downstreams | 0.021 | 0.000 | 0.021 | |
| egOrgMap | 0.001 | 0.000 | 0.000 | |
| enrichedGO | 0.002 | 0.000 | 0.002 | |
| enrichmentPlot | 0.456 | 0.007 | 0.464 | |
| estFragmentLength | 0.000 | 0.000 | 0.001 | |
| estLibSize | 0 | 0 | 0 | |
| featureAlignedDistribution | 0.197 | 0.004 | 0.201 | |
| featureAlignedExtendSignal | 0.001 | 0.000 | 0.001 | |
| featureAlignedHeatmap | 0.293 | 0.000 | 0.292 | |
| featureAlignedSignal | 0.245 | 0.008 | 0.252 | |
| findEnhancers | 23.381 | 0.519 | 23.901 | |
| findMotifsInPromoterSeqs | 12.950 | 0.163 | 13.114 | |
| findOverlappingPeaks | 0.001 | 0.000 | 0.001 | |
| findOverlapsOfPeaks | 1.755 | 0.056 | 1.812 | |
| genomicElementDistribution | 0.001 | 0.001 | 0.000 | |
| genomicElementUpSetR | 0.001 | 0.000 | 0.000 | |
| getAllPeakSequence | 0.505 | 0.007 | 0.513 | |
| getAnnotation | 0.001 | 0.000 | 0.001 | |
| getEnrichedGO | 0.009 | 0.000 | 0.008 | |
| getEnrichedPATH | 0.001 | 0.000 | 0.000 | |
| getGO | 0 | 0 | 0 | |
| getGeneSeq | 0.001 | 0.000 | 0.001 | |
| getUniqueGOidCount | 0.000 | 0.000 | 0.001 | |
| getVennCounts | 0.000 | 0.000 | 0.001 | |
| hyperGtest | 0.001 | 0.000 | 0.001 | |
| makeVennDiagram | 0.002 | 0.000 | 0.002 | |
| mergePlusMinusPeaks | 0.001 | 0.000 | 0.000 | |
| metagenePlot | 2.136 | 0.059 | 2.196 | |
| myPeakList | 0.012 | 0.002 | 0.015 | |
| oligoFrequency | 0.174 | 0.011 | 0.187 | |
| oligoSummary | 0 | 0 | 0 | |
| peakPermTest | 0.001 | 0.000 | 0.001 | |
| peaksNearBDP | 0.001 | 0.000 | 0.001 | |
| pie1 | 0.005 | 0.000 | 0.005 | |
| plotBinOverRegions | 0.000 | 0.000 | 0.001 | |
| preparePool | 0 | 0 | 0 | |
| reCenterPeaks | 0.022 | 0.000 | 0.022 | |
| summarizeOverlapsByBins | 4.910 | 0.406 | 5.058 | |
| summarizePatternInPeaks | 0.546 | 0.035 | 0.582 | |
| tileCount | 0.190 | 0.177 | 0.333 | |
| tileGRanges | 0.138 | 0.135 | 0.043 | |
| toGRanges | 0.073 | 0.008 | 0.080 | |
| translatePattern | 0.001 | 0.000 | 0.000 | |
| wgEncodeTfbsV3 | 0.217 | 0.020 | 0.236 | |
| write2FASTA | 0.016 | 0.000 | 0.017 | |
| xget | 0.114 | 0.012 | 0.127 | |