| Back to Multiple platform build/check report for BioC 3.18: simplified long |
|
This page was generated on 2023-11-02 11:40:29 -0400 (Thu, 02 Nov 2023).
| Hostname | OS | Arch (*) | R version | Installed pkgs |
|---|---|---|---|---|
| nebbiolo2 | Linux (Ubuntu 22.04.2 LTS) | x86_64 | 4.3.1 (2023-06-16) -- "Beagle Scouts" | 4729 |
| palomino4 | Windows Server 2022 Datacenter | x64 | 4.3.1 (2023-06-16 ucrt) -- "Beagle Scouts" | 4463 |
| lconway | macOS 12.6.5 Monterey | x86_64 | 4.3.1 Patched (2023-06-17 r84564) -- "Beagle Scouts" | 4478 |
| kunpeng2 | Linux (openEuler 22.03 LTS-SP1) | aarch64 | 4.3.1 (2023-06-16) -- "Beagle Scouts" | 4464 |
| Click on any hostname to see more info about the system (e.g. compilers) (*) as reported by 'uname -p', except on Windows and Mac OS X | ||||
| Package 274/2266 | Hostname | OS / Arch | INSTALL | BUILD | CHECK | BUILD BIN | ||||||||
| Category 2.68.0 (landing page) Bioconductor Package Maintainer
| nebbiolo2 | Linux (Ubuntu 22.04.2 LTS) / x86_64 | OK | OK | OK | |||||||||
| palomino4 | Windows Server 2022 Datacenter / x64 | OK | OK | OK | OK | |||||||||
| lconway | macOS 12.6.5 Monterey / x86_64 | OK | OK | OK | OK | |||||||||
| kjohnson1 | macOS 13.6.1 Ventura / arm64 | see weekly results here | ||||||||||||
| kunpeng2 | Linux (openEuler 22.03 LTS-SP1) / aarch64 | OK | OK | OK | ||||||||||
|
To the developers/maintainers of the Category package: - Allow up to 24 hours (and sometimes 48 hours) for your latest push to git@git.bioconductor.org:packages/Category.git to reflect on this report. See Troubleshooting Build Report for more information. - Use the following Renviron settings to reproduce errors and warnings. - If 'R CMD check' started to fail recently on the Linux builder(s) over a missing dependency, add the missing dependency to 'Suggests:' in your DESCRIPTION file. See Renviron.bioc for more information. - See Martin Grigorov's blog post for how to debug Linux ARM64 related issues on a x86_64 host. |
| Package: Category |
| Version: 2.68.0 |
| Command: /home/biocbuild/R/R-4.3.1/bin/R CMD check --install=check:Category.install-out.txt --library=/home/biocbuild/R/R-4.3.1/site-library --no-vignettes --timings Category_2.68.0.tar.gz |
| StartedAt: 2023-11-02 09:00:40 -0000 (Thu, 02 Nov 2023) |
| EndedAt: 2023-11-02 09:05:41 -0000 (Thu, 02 Nov 2023) |
| EllapsedTime: 300.8 seconds |
| RetCode: 0 |
| Status: OK |
| CheckDir: Category.Rcheck |
| Warnings: 0 |
##############################################################################
##############################################################################
###
### Running command:
###
### /home/biocbuild/R/R-4.3.1/bin/R CMD check --install=check:Category.install-out.txt --library=/home/biocbuild/R/R-4.3.1/site-library --no-vignettes --timings Category_2.68.0.tar.gz
###
##############################################################################
##############################################################################
* using log directory ‘/home/biocbuild/bbs-3.18-bioc/meat/Category.Rcheck’
* using R version 4.3.1 (2023-06-16)
* using platform: aarch64-unknown-linux-gnu (64-bit)
* R was compiled by
gcc (GCC) 10.3.1
GNU Fortran (GCC) 10.3.1
* running under: openEuler 22.03 (LTS-SP1)
* using session charset: UTF-8
* using option ‘--no-vignettes’
* checking for file ‘Category/DESCRIPTION’ ... OK
* this is package ‘Category’ version ‘2.68.0’
* checking package namespace information ... OK
* checking package dependencies ... OK
* checking if this is a source package ... OK
* checking if there is a namespace ... OK
* checking for hidden files and directories ... OK
* checking for portable file names ... OK
* checking for sufficient/correct file permissions ... OK
* checking whether package ‘Category’ can be installed ... OK
* checking installed package size ... OK
* checking package directory ... OK
* checking ‘build’ directory ... OK
* checking DESCRIPTION meta-information ... OK
* checking top-level files ... OK
* checking for left-over files ... OK
* checking index information ... OK
* checking package subdirectories ... OK
* checking R files for non-ASCII characters ... OK
* checking R files for syntax errors ... OK
* checking whether the package can be loaded ... OK
* checking whether the package can be loaded with stated dependencies ... OK
* checking whether the package can be unloaded cleanly ... OK
* checking whether the namespace can be loaded with stated dependencies ... OK
* checking whether the namespace can be unloaded cleanly ... OK
* checking loading without being on the library search path ... OK
* checking dependencies in R code ... OK
* checking S3 generic/method consistency ... OK
* checking replacement functions ... OK
* checking foreign function calls ... OK
* checking R code for possible problems ... OK
* checking Rd files ... NOTE
checkRd: (-1) cb_parse_band_Hs.Rd:23: Escaped LaTeX specials: \_ \_ \_
checkRd: (-1) cb_parse_band_Mm.Rd:22: Escaped LaTeX specials: \&
* checking Rd metadata ... OK
* checking Rd cross-references ... NOTE
Unknown package ‘KEGG.db’ in Rd xrefs
* checking for missing documentation entries ... OK
* checking for code/documentation mismatches ... OK
* checking Rd \usage sections ... OK
* checking Rd contents ... OK
* checking for unstated dependencies in examples ... OK
* checking files in ‘vignettes’ ... OK
* checking examples ... OK
Examples with CPU (user + system) or elapsed time > 5s
user system elapsed
ChrBandTree-class 5.017 0.183 5.297
* checking for unstated dependencies in ‘tests’ ... OK
* checking tests ...
Running ‘runTests.R’
OK
* checking for unstated dependencies in vignettes ... OK
* checking package vignettes in ‘inst/doc’ ... OK
* checking running R code from vignettes ... SKIPPED
* checking re-building of vignette outputs ... SKIPPED
* checking PDF version of manual ... OK
* DONE
Status: 2 NOTEs
See
‘/home/biocbuild/bbs-3.18-bioc/meat/Category.Rcheck/00check.log’
for details.
Category.Rcheck/00install.out
############################################################################## ############################################################################## ### ### Running command: ### ### /home/biocbuild/R/R-4.3.1/bin/R CMD INSTALL Category ### ############################################################################## ############################################################################## * installing to library ‘/home/biocbuild/R/R-4.3.1/site-library’ * installing *source* package ‘Category’ ... ** using staged installation ** R ** inst ** byte-compile and prepare package for lazy loading ** help *** installing help indices ** building package indices ** installing vignettes ** testing if installed package can be loaded from temporary location ** testing if installed package can be loaded from final location ** testing if installed package keeps a record of temporary installation path * DONE (Category)
Category.Rcheck/tests/runTests.Rout
R version 4.3.1 (2023-06-16) -- "Beagle Scouts"
Copyright (C) 2023 The R Foundation for Statistical Computing
Platform: aarch64-unknown-linux-gnu (64-bit)
R is free software and comes with ABSOLUTELY NO WARRANTY.
You are welcome to redistribute it under certain conditions.
Type 'license()' or 'licence()' for distribution details.
R is a collaborative project with many contributors.
Type 'contributors()' for more information and
'citation()' on how to cite R or R packages in publications.
Type 'demo()' for some demos, 'help()' for on-line help, or
'help.start()' for an HTML browser interface to help.
Type 'q()' to quit R.
> require("Category") || stop("unable to load Category")
Loading required package: Category
Loading required package: stats4
Loading required package: BiocGenerics
Attaching package: 'BiocGenerics'
The following objects are masked from 'package:stats':
IQR, mad, sd, var, xtabs
The following objects are masked from 'package:base':
Filter, Find, Map, Position, Reduce, anyDuplicated, aperm, append,
as.data.frame, basename, cbind, colnames, dirname, do.call,
duplicated, eval, evalq, get, grep, grepl, intersect, is.unsorted,
lapply, mapply, match, mget, order, paste, pmax, pmax.int, pmin,
pmin.int, rank, rbind, rownames, sapply, setdiff, sort, table,
tapply, union, unique, unsplit, which.max, which.min
Loading required package: AnnotationDbi
Loading required package: Biobase
Welcome to Bioconductor
Vignettes contain introductory material; view with
'browseVignettes()'. To cite Bioconductor, see
'citation("Biobase")', and for packages 'citation("pkgname")'.
Loading required package: IRanges
Loading required package: S4Vectors
Attaching package: 'S4Vectors'
The following object is masked from 'package:utils':
findMatches
The following objects are masked from 'package:base':
I, expand.grid, unname
Loading required package: Matrix
Attaching package: 'Matrix'
The following object is masked from 'package:S4Vectors':
expand
[1] TRUE
> BiocGenerics:::testPackage("Category", "UnitTests", ".*_test\\.R$")
Loading required package: org.Hs.eg.db
'select()' returned 1:many mapping between keys and columns
'select()' returned 1:many mapping between keys and columns
'select()' returned 1:many mapping between keys and columns
Loading required package: graph
Attaching package: 'GOstats'
The following object is masked from 'package:AnnotationDbi':
makeGOGraph
RUNIT TEST PROTOCOL -- Thu Nov 2 09:05:36 2023
***********************************************
Number of test functions: 14
Number of errors: 0
Number of failures: 0
1 Test Suite :
Category RUnit Tests - 14 test functions, 0 errors, 0 failures
Number of test functions: 14
Number of errors: 0
Number of failures: 0
Warning messages:
1: In makeValidParams(.Object) : removing duplicate IDs in geneIds
2: In makeValidParams(.Object) : removing duplicate IDs in universeGeneIds
3: In makeValidParams(.Object) : removing geneIds not in universeGeneIds
4: In makeValidParams(.Object) : removing duplicate IDs in geneIds
5: In makeValidParams(.Object) : removing duplicate IDs in universeGeneIds
6: In makeValidParams(.Object) : removing geneIds not in universeGeneIds
7: In makeValidParams(.Object) :
converting geneIds from list to atomic vector via unlist
8: In makeValidParams(.Object) :
converting univ from list to atomic vector via unlist
9: In makeValidParams(.Object) : removing duplicate IDs in universeGeneIds
>
> proc.time()
user system elapsed
67.148 11.046 81.147
Category.Rcheck/Category-Ex.timings
| name | user | system | elapsed | |
| ChrBandTree-class | 5.017 | 0.183 | 5.297 | |
| ChrMapHyperGParams-class | 0.001 | 0.000 | 0.001 | |
| ChrMapHyperGResult-class | 0.001 | 0.000 | 0.001 | |
| ChrMapLinearMParams-class | 0 | 0 | 0 | |
| ChrMapLinearMResult-class | 0 | 0 | 0 | |
| DatPkg-class | 0.041 | 0.004 | 0.046 | |
| HyperGResult-accessors | 1.085 | 0.053 | 1.281 | |
| LinearMResult-class | 0.000 | 0.000 | 0.001 | |
| MAPAmat | 3.400 | 0.084 | 3.550 | |
| applyByCategory | 0.000 | 0.004 | 0.004 | |
| cateGOryMatrix | 0.297 | 0.004 | 0.433 | |
| cb_parse_band_Hs | 0 | 0 | 0 | |
| cb_parse_band_Mm | 0.000 | 0.000 | 0.001 | |
| findAMstats | 0.001 | 0.000 | 0.001 | |
| getPathNames | 0.034 | 0.012 | 0.638 | |
| gseattperm | 1.043 | 0.020 | 1.071 | |
| hyperg | 0.834 | 0.044 | 0.884 | |
| makeChrBandGraph | 2.333 | 0.123 | 2.463 | |
| makeEBcontr | 0.165 | 0.007 | 0.174 | |
| probes2MAP | 0.137 | 0.008 | 0.146 | |
| probes2Path | 0.046 | 0.001 | 0.048 | |
| ttperm | 0.016 | 0.000 | 0.016 | |