| Back to Multiple platform build/check report for BioC 3.18: simplified long |
|
This page was generated on 2023-11-02 11:40:28 -0400 (Thu, 02 Nov 2023).
| Hostname | OS | Arch (*) | R version | Installed pkgs |
|---|---|---|---|---|
| nebbiolo2 | Linux (Ubuntu 22.04.2 LTS) | x86_64 | 4.3.1 (2023-06-16) -- "Beagle Scouts" | 4729 |
| palomino4 | Windows Server 2022 Datacenter | x64 | 4.3.1 (2023-06-16 ucrt) -- "Beagle Scouts" | 4463 |
| lconway | macOS 12.6.5 Monterey | x86_64 | 4.3.1 Patched (2023-06-17 r84564) -- "Beagle Scouts" | 4478 |
| kunpeng2 | Linux (openEuler 22.03 LTS-SP1) | aarch64 | 4.3.1 (2023-06-16) -- "Beagle Scouts" | 4464 |
| Click on any hostname to see more info about the system (e.g. compilers) (*) as reported by 'uname -p', except on Windows and Mac OS X | ||||
| Package 215/2266 | Hostname | OS / Arch | INSTALL | BUILD | CHECK | BUILD BIN | ||||||||
| BioQC 1.30.0 (landing page) Jitao David Zhang
| nebbiolo2 | Linux (Ubuntu 22.04.2 LTS) / x86_64 | OK | OK | OK | |||||||||
| palomino4 | Windows Server 2022 Datacenter / x64 | OK | OK | OK | OK | |||||||||
| lconway | macOS 12.6.5 Monterey / x86_64 | OK | OK | OK | OK | |||||||||
| kjohnson1 | macOS 13.6.1 Ventura / arm64 | see weekly results here | ||||||||||||
| kunpeng2 | Linux (openEuler 22.03 LTS-SP1) / aarch64 | OK | OK | OK | ||||||||||
|
To the developers/maintainers of the BioQC package: - Allow up to 24 hours (and sometimes 48 hours) for your latest push to git@git.bioconductor.org:packages/BioQC.git to reflect on this report. See Troubleshooting Build Report for more information. - Use the following Renviron settings to reproduce errors and warnings. - If 'R CMD check' started to fail recently on the Linux builder(s) over a missing dependency, add the missing dependency to 'Suggests:' in your DESCRIPTION file. See Renviron.bioc for more information. - See Martin Grigorov's blog post for how to debug Linux ARM64 related issues on a x86_64 host. |
| Package: BioQC |
| Version: 1.30.0 |
| Command: /home/biocbuild/R/R-4.3.1/bin/R CMD INSTALL BioQC |
| StartedAt: 2023-11-01 20:12:00 -0000 (Wed, 01 Nov 2023) |
| EndedAt: 2023-11-01 20:12:20 -0000 (Wed, 01 Nov 2023) |
| EllapsedTime: 19.7 seconds |
| RetCode: 0 |
| Status: OK |
##############################################################################
##############################################################################
###
### Running command:
###
### /home/biocbuild/R/R-4.3.1/bin/R CMD INSTALL BioQC
###
##############################################################################
##############################################################################
* installing to library ‘/home/biocbuild/R/R-4.3.1/site-library’
* installing *source* package ‘BioQC’ ...
** using staged installation
** libs
using C compiler: ‘gcc (GCC) 10.3.1’
using C++ compiler: ‘g++ (GCC) 10.3.1’
gcc -I"/home/biocbuild/R/R-4.3.1/include" -DNDEBUG `/home/biocbuild/R/R-4.3.1/bin/Rscript -e 'Rcpp:::CxxFlags()'` -I'/home/biocbuild/R/R-4.3.1/site-library/Rcpp/include' -I/usr/local/include -fPIC -g -O2 -Wall -c gini.c -o gini.o
gcc -I"/home/biocbuild/R/R-4.3.1/include" -DNDEBUG `/home/biocbuild/R/R-4.3.1/bin/Rscript -e 'Rcpp:::CxxFlags()'` -I'/home/biocbuild/R/R-4.3.1/site-library/Rcpp/include' -I/usr/local/include -fPIC -g -O2 -Wall -c init.c -o init.o
g++ -std=gnu++17 -I"/home/biocbuild/R/R-4.3.1/include" -DNDEBUG `/home/biocbuild/R/R-4.3.1/bin/Rscript -e 'Rcpp:::CxxFlags()'` -I'/home/biocbuild/R/R-4.3.1/site-library/Rcpp/include' -I/usr/local/include -fPIC -g -O2 -Wall -c read_gmt.cpp -o read_gmt.o
gcc -I"/home/biocbuild/R/R-4.3.1/include" -DNDEBUG `/home/biocbuild/R/R-4.3.1/bin/Rscript -e 'Rcpp:::CxxFlags()'` -I'/home/biocbuild/R/R-4.3.1/site-library/Rcpp/include' -I/usr/local/include -fPIC -g -O2 -Wall -c stat_rank.c -o stat_rank.o
gcc -I"/home/biocbuild/R/R-4.3.1/include" -DNDEBUG `/home/biocbuild/R/R-4.3.1/bin/Rscript -e 'Rcpp:::CxxFlags()'` -I'/home/biocbuild/R/R-4.3.1/site-library/Rcpp/include' -I/usr/local/include -fPIC -g -O2 -Wall -c wmw_test.c -o wmw_test.o
wmw_test.c: In function ‘wmw_test_list’:
wmw_test.c:118: warning: ignoring ‘#pragma omp parallel’ [-Wunknown-pragmas]
118 | #pragma omp parallel for
|
wmw_test.c: In function ‘wmw_test’:
wmw_test.c:168: warning: ignoring ‘#pragma omp parallel’ [-Wunknown-pragmas]
168 | #pragma omp parallel for
|
wmw_test.c: In function ‘signed_wmw_test_list’:
wmw_test.c:201: warning: ignoring ‘#pragma omp parallel’ [-Wunknown-pragmas]
201 | #pragma omp parallel for
|
wmw_test.c: In function ‘signed_wmw_test’:
wmw_test.c:270: warning: ignoring ‘#pragma omp parallel’ [-Wunknown-pragmas]
270 | #pragma omp parallel for
|
g++ -std=gnu++17 -shared -L/home/biocbuild/R/R-4.3.1/lib -L/usr/local/lib -o BioQC.so gini.o init.o read_gmt.o stat_rank.o wmw_test.o -L/home/biocbuild/R/R-4.3.1/lib -lR
installing to /home/biocbuild/R/R-4.3.1/site-library/00LOCK-BioQC/00new/BioQC/libs
** R
** inst
** byte-compile and prepare package for lazy loading
** help
*** installing help indices
*** copying figures
** building package indices
** installing vignettes
** testing if installed package can be loaded from temporary location
** checking absolute paths in shared objects and dynamic libraries
** testing if installed package can be loaded from final location
** testing if installed package keeps a record of temporary installation path
* DONE (BioQC)