| Back to Multiple platform build/check report for BioC 3.18: simplified long |
|
This page was generated on 2023-11-02 11:40:28 -0400 (Thu, 02 Nov 2023).
| Hostname | OS | Arch (*) | R version | Installed pkgs |
|---|---|---|---|---|
| nebbiolo2 | Linux (Ubuntu 22.04.2 LTS) | x86_64 | 4.3.1 (2023-06-16) -- "Beagle Scouts" | 4729 |
| palomino4 | Windows Server 2022 Datacenter | x64 | 4.3.1 (2023-06-16 ucrt) -- "Beagle Scouts" | 4463 |
| lconway | macOS 12.6.5 Monterey | x86_64 | 4.3.1 Patched (2023-06-17 r84564) -- "Beagle Scouts" | 4478 |
| kunpeng2 | Linux (openEuler 22.03 LTS-SP1) | aarch64 | 4.3.1 (2023-06-16) -- "Beagle Scouts" | 4464 |
| Click on any hostname to see more info about the system (e.g. compilers) (*) as reported by 'uname -p', except on Windows and Mac OS X | ||||
| Package 214/2266 | Hostname | OS / Arch | INSTALL | BUILD | CHECK | BUILD BIN | ||||||||
| BioNetStat 1.22.0 (landing page) Vinicius Jardim
| nebbiolo2 | Linux (Ubuntu 22.04.2 LTS) / x86_64 | OK | OK | OK | |||||||||
| palomino4 | Windows Server 2022 Datacenter / x64 | OK | OK | OK | OK | |||||||||
| lconway | macOS 12.6.5 Monterey / x86_64 | OK | OK | OK | OK | |||||||||
| kjohnson1 | macOS 13.6.1 Ventura / arm64 | see weekly results here | ||||||||||||
| kunpeng2 | Linux (openEuler 22.03 LTS-SP1) / aarch64 | OK | OK | OK | ||||||||||
|
To the developers/maintainers of the BioNetStat package: - Allow up to 24 hours (and sometimes 48 hours) for your latest push to git@git.bioconductor.org:packages/BioNetStat.git to reflect on this report. See Troubleshooting Build Report for more information. - Use the following Renviron settings to reproduce errors and warnings. - If 'R CMD check' started to fail recently on the Linux builder(s) over a missing dependency, add the missing dependency to 'Suggests:' in your DESCRIPTION file. See Renviron.bioc for more information. - See Martin Grigorov's blog post for how to debug Linux ARM64 related issues on a x86_64 host. |
| Package: BioNetStat |
| Version: 1.22.0 |
| Command: /home/biocbuild/R/R-4.3.1/bin/R CMD check --install=check:BioNetStat.install-out.txt --library=/home/biocbuild/R/R-4.3.1/site-library --no-vignettes --timings BioNetStat_1.22.0.tar.gz |
| StartedAt: 2023-11-02 08:48:02 -0000 (Thu, 02 Nov 2023) |
| EndedAt: 2023-11-02 08:51:56 -0000 (Thu, 02 Nov 2023) |
| EllapsedTime: 233.8 seconds |
| RetCode: 0 |
| Status: OK |
| CheckDir: BioNetStat.Rcheck |
| Warnings: 0 |
##############################################################################
##############################################################################
###
### Running command:
###
### /home/biocbuild/R/R-4.3.1/bin/R CMD check --install=check:BioNetStat.install-out.txt --library=/home/biocbuild/R/R-4.3.1/site-library --no-vignettes --timings BioNetStat_1.22.0.tar.gz
###
##############################################################################
##############################################################################
* using log directory ‘/home/biocbuild/bbs-3.18-bioc/meat/BioNetStat.Rcheck’
* using R version 4.3.1 (2023-06-16)
* using platform: aarch64-unknown-linux-gnu (64-bit)
* R was compiled by
gcc (GCC) 10.3.1
GNU Fortran (GCC) 10.3.1
* running under: openEuler 22.03 (LTS-SP1)
* using session charset: UTF-8
* using option ‘--no-vignettes’
* checking for file ‘BioNetStat/DESCRIPTION’ ... OK
* checking extension type ... Package
* this is package ‘BioNetStat’ version ‘1.22.0’
* package encoding: UTF-8
* checking package namespace information ... OK
* checking package dependencies ... OK
* checking if this is a source package ... OK
* checking if there is a namespace ... OK
* checking for hidden files and directories ... OK
* checking for portable file names ... OK
* checking for sufficient/correct file permissions ... OK
* checking whether package ‘BioNetStat’ can be installed ... OK
* checking installed package size ... NOTE
installed size is 5.4Mb
sub-directories of 1Mb or more:
extdata 1.9Mb
shiny 1.9Mb
* checking package directory ... OK
* checking ‘build’ directory ... OK
* checking DESCRIPTION meta-information ... OK
* checking top-level files ... OK
* checking for left-over files ... OK
* checking index information ... OK
* checking package subdirectories ... NOTE
Found the following CITATION file in a non-standard place:
CITATION
Most likely ‘inst/CITATION’ should be used instead.
* checking R files for non-ASCII characters ... OK
* checking R files for syntax errors ... OK
* checking whether the package can be loaded ... OK
* checking whether the package can be loaded with stated dependencies ... OK
* checking whether the package can be unloaded cleanly ... OK
* checking whether the namespace can be loaded with stated dependencies ... OK
* checking whether the namespace can be unloaded cleanly ... OK
* checking loading without being on the library search path ... OK
* checking dependencies in R code ... NOTE
Namespaces in Imports field not imported from:
‘BiocParallel’ ‘RColorBrewer’ ‘RJSONIO’ ‘ggplot2’ ‘knitr’ ‘markdown’
‘pheatmap’ ‘plyr’ ‘rmarkdown’ ‘stats’ ‘utils’ ‘whisker’ ‘yaml’
All declared Imports should be used.
Packages in Depends field not imported from:
‘DT’ ‘shiny’ ‘shinyBS’
These packages need to be imported from (in the NAMESPACE file)
for when this namespace is loaded but not attached.
* checking S3 generic/method consistency ... OK
* checking replacement functions ... OK
* checking foreign function calls ... OK
* checking R code for possible problems ... NOTE
adjacencyMatrix : <anonymous>: no visible global function definition
for ‘cor’
adjacencyMatrix : <anonymous>: no visible global function definition
for ‘p.adjust’
betweennessCentralityTest: no visible global function definition for
‘bplapply’
betweennessCentralityVertexTest: no visible global function definition
for ‘bplapply’
closenessCentralityTest: no visible global function definition for
‘bplapply’
closenessCentralityVertexTest: no visible global function definition
for ‘bplapply’
clusteringCoefficientTest : <anonymous>: no visible global function
definition for ‘dist’
clusteringCoefficientTest : <anonymous> : <anonymous>: no visible
global function definition for ‘dist’
clusteringCoefficientTest: no visible global function definition for
‘bplapply’
clusteringCoefficientVertexTest: no visible global function definition
for ‘bplapply’
degreeCentralityTest: no visible global function definition for
‘bplapply’
degreeCentralityVertexTest: no visible global function definition for
‘bplapply’
degreeDistributionTest: no visible global function definition for
‘bplapply’
diffNetAnalysis: no visible binding for global variable ‘expr’
diffNetAnalysis: no visible global function definition for ‘p.adjust’
doLabels: no visible global function definition for ‘read.csv’
edgeBetweennessEdgeTest: no visible global function definition for
‘bplapply’
edgeBetweennessTest: no visible global function definition for
‘bplapply’
edgesResInt : <anonymous>: no visible global function definition for
‘dist’
eigenvectorCentralityTest: no visible global function definition for
‘bplapply’
eigenvectorCentralityVertexTest: no visible global function definition
for ‘bplapply’
gaussianDensity: no visible global function definition for ‘bw.nrd0’
gaussianDensity: no visible global function definition for ‘density’
pathPlot: no visible binding for global variable ‘median’
readVarFile: no visible global function definition for ‘read.table’
resInt : <anonymous>: no visible global function definition for ‘dist’
retEdgesTable: no visible global function definition for ‘p.adjust’
retTable: no visible global function definition for ‘p.adjust’
spectralDistributionTest: no visible global function definition for
‘bplapply’
spectralEntropyTest: no visible global function definition for
‘bplapply’
var.list: no visible global function definition for ‘aggregate’
Undefined global functions or variables:
aggregate bplapply bw.nrd0 cor density dist expr median p.adjust
read.csv read.table
Consider adding
importFrom("stats", "aggregate", "bw.nrd0", "cor", "density", "dist",
"median", "p.adjust")
importFrom("utils", "read.csv", "read.table")
to your NAMESPACE file.
* checking Rd files ... NOTE
checkRd: (-1) centralityPathPlot.Rd:47: Escaped LaTeX specials: \#
* checking Rd metadata ... OK
* checking Rd cross-references ... OK
* checking for missing documentation entries ... OK
* checking for code/documentation mismatches ... OK
* checking Rd \usage sections ... OK
* checking Rd contents ... OK
* checking for unstated dependencies in examples ... OK
* checking contents of ‘data’ directory ... OK
* checking data for non-ASCII characters ... OK
* checking data for ASCII and uncompressed saves ... OK
* checking files in ‘vignettes’ ... OK
* checking examples ... OK
Examples with CPU (user + system) or elapsed time > 5s
user system elapsed
centralityPathPlot 15.361 2.342 21.188
pathPlot 13.835 0.427 14.341
networkTest 13.973 0.095 14.090
* checking for unstated dependencies in vignettes ... OK
* checking package vignettes in ‘inst/doc’ ... OK
* checking running R code from vignettes ... SKIPPED
* checking re-building of vignette outputs ... SKIPPED
* checking PDF version of manual ... OK
* DONE
Status: 5 NOTEs
See
‘/home/biocbuild/bbs-3.18-bioc/meat/BioNetStat.Rcheck/00check.log’
for details.
BioNetStat.Rcheck/00install.out
############################################################################## ############################################################################## ### ### Running command: ### ### /home/biocbuild/R/R-4.3.1/bin/R CMD INSTALL BioNetStat ### ############################################################################## ############################################################################## * installing to library ‘/home/biocbuild/R/R-4.3.1/site-library’ * installing *source* package ‘BioNetStat’ ... ** using staged installation ** R ** data ** inst ** byte-compile and prepare package for lazy loading ** help *** installing help indices ** building package indices ** installing vignettes ** testing if installed package can be loaded from temporary location ** testing if installed package can be loaded from final location ** testing if installed package keeps a record of temporary installation path * DONE (BioNetStat)
BioNetStat.Rcheck/BioNetStat-Ex.timings
| name | user | system | elapsed | |
| KLdegree | 0.011 | 0.004 | 0.015 | |
| KLspectrum | 1.761 | 0.040 | 1.805 | |
| adjacencyMatrix | 0.001 | 0.000 | 0.002 | |
| centralityPathPlot | 15.361 | 2.342 | 21.188 | |
| diffNetAnalysis | 1.796 | 0.060 | 1.874 | |
| doLabels | 0.175 | 0.007 | 0.184 | |
| edgeTest | 0.098 | 0.011 | 0.111 | |
| labels | 0.002 | 0.000 | 0.002 | |
| nDegreeDensities | 0.064 | 0.000 | 0.065 | |
| nSpectralDensities | 0.089 | 0.000 | 0.088 | |
| networkFeature | 0.109 | 0.008 | 0.119 | |
| networkTest | 13.973 | 0.095 | 14.090 | |
| nodeScores | 0.087 | 0.008 | 0.096 | |
| nodeTest | 0.165 | 0.008 | 0.173 | |
| pathPlot | 13.835 | 0.427 | 14.341 | |
| readSetFile | 0.050 | 0.008 | 0.064 | |
| readVarFile | 0.235 | 0.004 | 0.243 | |
| runBioNetStat | 0.000 | 0.000 | 0.001 | |
| varFile | 0.008 | 0.000 | 0.015 | |