| Back to Multiple platform build/check report for BioC 3.18: simplified long | 
 | 
This page was generated on 2023-11-02 11:40:25 -0400 (Thu, 02 Nov 2023).
| Hostname | OS | Arch (*) | R version | Installed pkgs | 
|---|---|---|---|---|
| nebbiolo2 | Linux (Ubuntu 22.04.2 LTS) | x86_64 | 4.3.1 (2023-06-16) -- "Beagle Scouts" | 4729 | 
| palomino4 | Windows Server 2022 Datacenter | x64 | 4.3.1 (2023-06-16 ucrt) -- "Beagle Scouts" | 4463 | 
| lconway | macOS 12.6.5 Monterey | x86_64 | 4.3.1 Patched (2023-06-17 r84564) -- "Beagle Scouts" | 4478 | 
| kunpeng2 | Linux (openEuler 22.03 LTS-SP1) | aarch64 | 4.3.1 (2023-06-16) -- "Beagle Scouts" | 4464 | 
| Click on any hostname to see more info about the system (e.g. compilers) (*) as reported by 'uname -p', except on Windows and Mac OS X | ||||
| Package 110/2266 | Hostname | OS / Arch | INSTALL | BUILD | CHECK | BUILD BIN | ||||||||
| AUCell 1.24.0  (landing page) Sara Aibar 
 | nebbiolo2 | Linux (Ubuntu 22.04.2 LTS) / x86_64 | OK | OK | OK |  | ||||||||
| palomino4 | Windows Server 2022 Datacenter / x64 | OK | OK | OK | OK |  | ||||||||
| lconway | macOS 12.6.5 Monterey / x86_64 | OK | OK | OK | OK |  | ||||||||
| kjohnson1 | macOS 13.6.1 Ventura / arm64 | see weekly results here | ||||||||||||
| kunpeng2 | Linux (openEuler 22.03 LTS-SP1) / aarch64 | OK | OK | OK | ||||||||||
| To the developers/maintainers of the AUCell package: - Allow up to 24 hours (and sometimes 48 hours) for your latest push to git@git.bioconductor.org:packages/AUCell.git to reflect on this report. See Troubleshooting Build Report for more information. - Use the following Renviron settings to reproduce errors and warnings. - If 'R CMD check' started to fail recently on the Linux builder(s) over a missing dependency, add the missing dependency to 'Suggests:' in your DESCRIPTION file. See Renviron.bioc for more information. - See Martin Grigorov's blog post for how to debug Linux ARM64 related issues on a x86_64 host. | 
| Package: AUCell | 
| Version: 1.24.0 | 
| Command: /home/biocbuild/R/R-4.3.1/bin/R CMD check --install=check:AUCell.install-out.txt --library=/home/biocbuild/R/R-4.3.1/site-library --no-vignettes --timings AUCell_1.24.0.tar.gz | 
| StartedAt: 2023-11-02 08:26:40 -0000 (Thu, 02 Nov 2023) | 
| EndedAt: 2023-11-02 08:32:13 -0000 (Thu, 02 Nov 2023) | 
| EllapsedTime: 333.6 seconds | 
| RetCode: 0 | 
| Status: OK | 
| CheckDir: AUCell.Rcheck | 
| Warnings: 0 | 
##############################################################################
##############################################################################
###
### Running command:
###
###   /home/biocbuild/R/R-4.3.1/bin/R CMD check --install=check:AUCell.install-out.txt --library=/home/biocbuild/R/R-4.3.1/site-library --no-vignettes --timings AUCell_1.24.0.tar.gz
###
##############################################################################
##############################################################################
* using log directory ‘/home/biocbuild/bbs-3.18-bioc/meat/AUCell.Rcheck’
* using R version 4.3.1 (2023-06-16)
* using platform: aarch64-unknown-linux-gnu (64-bit)
* R was compiled by
    gcc (GCC) 10.3.1
    GNU Fortran (GCC) 10.3.1
* running under: openEuler 22.03 (LTS-SP1)
* using session charset: UTF-8
* using option ‘--no-vignettes’
* checking for file ‘AUCell/DESCRIPTION’ ... OK
* checking extension type ... Package
* this is package ‘AUCell’ version ‘1.24.0’
* checking package namespace information ... OK
* checking package dependencies ... OK
* checking if this is a source package ... OK
* checking if there is a namespace ... OK
* checking for hidden files and directories ... OK
* checking for portable file names ... OK
* checking for sufficient/correct file permissions ... OK
* checking whether package ‘AUCell’ can be installed ... OK
* checking installed package size ... NOTE
  installed size is  5.1Mb
  sub-directories of 1Mb or more:
    doc   4.2Mb
* checking package directory ... OK
* checking ‘build’ directory ... OK
* checking DESCRIPTION meta-information ... OK
* checking top-level files ... OK
* checking for left-over files ... OK
* checking index information ... OK
* checking package subdirectories ... OK
* checking R files for non-ASCII characters ... OK
* checking R files for syntax errors ... OK
* checking whether the package can be loaded ... OK
* checking whether the package can be loaded with stated dependencies ... OK
* checking whether the package can be unloaded cleanly ... OK
* checking whether the namespace can be loaded with stated dependencies ... OK
* checking whether the namespace can be unloaded cleanly ... OK
* checking loading without being on the library search path ... OK
* checking dependencies in R code ... OK
* checking S3 generic/method consistency ... OK
* checking replacement functions ... OK
* checking foreign function calls ... OK
* checking R code for possible problems ... NOTE
AUCell_assignCells: no visible binding for global variable ‘verbose’
AUCell_createViewerApp : <anonymous>: no visible global function
  definition for ‘%>%’
AUCell_createViewerApp : <anonymous>: no visible binding for global
  variable ‘tsne1’
AUCell_createViewerApp : <anonymous>: no visible binding for global
  variable ‘tsne2’
AUCell_createViewerApp : <anonymous>: no visible binding for global
  variable ‘cell’
plotEmb_rgb : <anonymous>: no visible global function definition for
  ‘rgb’
Undefined global functions or variables:
  %>% cell rgb tsne1 tsne2 verbose
Consider adding
  importFrom("grDevices", "rgb")
to your NAMESPACE file.
* checking Rd files ... OK
* checking Rd metadata ... OK
* checking Rd cross-references ... OK
* checking for missing documentation entries ... OK
* checking for code/documentation mismatches ... OK
* checking Rd \usage sections ... OK
* checking Rd contents ... OK
* checking for unstated dependencies in examples ... OK
* checking installed files from ‘inst/doc’ ... OK
* checking files in ‘vignettes’ ... OK
* checking examples ... OK
* checking for unstated dependencies in ‘tests’ ... OK
* checking tests ...
  Running ‘testthat.R’
 OK
* checking for unstated dependencies in vignettes ... OK
* checking package vignettes in ‘inst/doc’ ... OK
* checking running R code from vignettes ... SKIPPED
* checking re-building of vignette outputs ... SKIPPED
* checking PDF version of manual ... OK
* DONE
Status: 2 NOTEs
See
  ‘/home/biocbuild/bbs-3.18-bioc/meat/AUCell.Rcheck/00check.log’
for details.
AUCell.Rcheck/00install.out
############################################################################## ############################################################################## ### ### Running command: ### ### /home/biocbuild/R/R-4.3.1/bin/R CMD INSTALL AUCell ### ############################################################################## ############################################################################## * installing to library ‘/home/biocbuild/R/R-4.3.1/site-library’ * installing *source* package ‘AUCell’ ... ** using staged installation ** R ** inst ** byte-compile and prepare package for lazy loading ** help *** installing help indices ** building package indices ** installing vignettes ** testing if installed package can be loaded from temporary location ** testing if installed package can be loaded from final location ** testing if installed package keeps a record of temporary installation path * DONE (AUCell)
AUCell.Rcheck/tests/testthat.Rout
R version 4.3.1 (2023-06-16) -- "Beagle Scouts"
Copyright (C) 2023 The R Foundation for Statistical Computing
Platform: aarch64-unknown-linux-gnu (64-bit)
R is free software and comes with ABSOLUTELY NO WARRANTY.
You are welcome to redistribute it under certain conditions.
Type 'license()' or 'licence()' for distribution details.
R is a collaborative project with many contributors.
Type 'contributors()' for more information and
'citation()' on how to cite R or R packages in publications.
Type 'demo()' for some demos, 'help()' for on-line help, or
'help.start()' for an HTML browser interface to help.
Type 'q()' to quit R.
> library(testthat)
> library(AUCell)
> 
> test_check("AUCell")
[ FAIL 0 | WARN 0 | SKIP 0 | PASS 56 ]
> 
> proc.time()
   user  system elapsed 
 19.723   4.300  27.278 
AUCell.Rcheck/AUCell-Ex.timings
| name | user | system | elapsed | |
| AUCell_assignCells | 4.230 | 0.263 | 4.696 | |
| AUCell_buildRankings | 0.067 | 0.000 | 0.069 | |
| AUCell_calcAUC | 0.788 | 0.441 | 1.837 | |
| AUCell_createViewerApp | 0.548 | 0.019 | 0.667 | |
| AUCell_exploreThresholds | 2.188 | 0.040 | 2.234 | |
| AUCell_plotHist | 0.113 | 0.000 | 0.113 | |
| AUCell_plotTSNE | 0.388 | 0.000 | 0.388 | |
| AUCell_run | 1.266 | 0.000 | 1.278 | |
| GeneSet-methods | 0.208 | 0.000 | 0.208 | |
| aucellResults-class | 0.313 | 0.003 | 0.318 | |
| orderAUC | 0 | 0 | 0 | |
| plotGeneCount | 0.007 | 0.351 | 0.630 | |
| plotTsne_cellProps | 0.381 | 0.004 | 0.410 | |
| updateAucellResults | 0.039 | 0.003 | 0.042 | |