| Back to Mac ARM64 build report for BioC 3.17 |
|
This page was generated on 2023-03-16 11:02:07 -0400 (Thu, 16 Mar 2023).
| Hostname | OS | Arch (*) | R version | Installed pkgs |
|---|---|---|---|---|
| kjohnson2 | macOS 12.6.1 Monterey | arm64 | R Under development (unstable) (2023-01-10 r83596) -- "Unsuffered Consequences" | 4115 |
| Click on any hostname to see more info about the system (e.g. compilers) (*) as reported by 'uname -p', except on Windows and Mac OS X | ||||
|
To the developers/maintainers of the omada package: Make sure to use the following settings in order to reproduce any error or warning you see on this page. |
| Package 1391/2189 | Hostname | OS / Arch | INSTALL | BUILD | CHECK | BUILD BIN | ||||||||
| omada 1.1.0 (landing page) Sokratis Kariotis
| kjohnson2 | macOS 12.6.1 Monterey / arm64 | OK | OK | OK | OK | ||||||||
| Package: omada |
| Version: 1.1.0 |
| Command: /Library/Frameworks/R.framework/Resources/bin/R CMD check --install=check:omada.install-out.txt --library=/Library/Frameworks/R.framework/Resources/library --no-vignettes --timings omada_1.1.0.tar.gz |
| StartedAt: 2023-03-14 09:06:27 -0400 (Tue, 14 Mar 2023) |
| EndedAt: 2023-03-14 09:11:04 -0400 (Tue, 14 Mar 2023) |
| EllapsedTime: 277.1 seconds |
| RetCode: 0 |
| Status: OK |
| CheckDir: omada.Rcheck |
| Warnings: 0 |
##############################################################################
##############################################################################
###
### Running command:
###
### /Library/Frameworks/R.framework/Resources/bin/R CMD check --install=check:omada.install-out.txt --library=/Library/Frameworks/R.framework/Resources/library --no-vignettes --timings omada_1.1.0.tar.gz
###
##############################################################################
##############################################################################
* using log directory ‘/Users/biocbuild/bbs-3.17-bioc-mac-arm64/meat/omada.Rcheck’
* using R Under development (unstable) (2023-01-10 r83596)
* using platform: aarch64-apple-darwin20 (64-bit)
* R was compiled by
Apple clang version 13.0.0 (clang-1300.0.29.3)
GNU Fortran (GCC) 12.0.1 20220312 (experimental)
* running under: macOS Monterey 12.6.1
* using session charset: UTF-8
* using option ‘--no-vignettes’
* checking for file ‘omada/DESCRIPTION’ ... OK
* checking extension type ... Package
* this is package ‘omada’ version ‘1.1.0’
* package encoding: UTF-8
* checking package namespace information ... OK
* checking package dependencies ... NOTE
Depends: includes the non-default packages:
'pdfCluster', 'kernlab', 'fpc', 'Rcpp', 'diceR', 'ggplot2',
'reshape', 'clusterCrit', 'clValid', 'glmnet', 'dplyr'
Adding so many packages to the search path is excessive and importing
selectively is preferable.
* checking if this is a source package ... OK
* checking if there is a namespace ... OK
* checking for hidden files and directories ... OK
* checking for portable file names ... OK
* checking for sufficient/correct file permissions ... OK
* checking whether package ‘omada’ can be installed ... OK
* checking installed package size ... OK
* checking package directory ... OK
* checking ‘build’ directory ... OK
* checking DESCRIPTION meta-information ... OK
* checking top-level files ... NOTE
File
LICENSE
is not mentioned in the DESCRIPTION file.
* checking for left-over files ... OK
* checking index information ... OK
* checking package subdirectories ... OK
* checking R files for non-ASCII characters ... OK
* checking R files for syntax errors ... OK
* checking whether the package can be loaded ... OK
* checking whether the package can be loaded with stated dependencies ... OK
* checking whether the package can be unloaded cleanly ... OK
* checking whether the namespace can be loaded with stated dependencies ... OK
* checking whether the namespace can be unloaded cleanly ... OK
* checking dependencies in R code ... NOTE
Packages in Depends field not imported from:
‘Rcpp’ ‘clusterCrit’ ‘glmnet’ ‘kernlab’ ‘reshape’
These packages need to be imported from (in the NAMESPACE file)
for when this namespace is loaded but not attached.
* checking S3 generic/method consistency ... OK
* checking replacement functions ... OK
* checking foreign function calls ... OK
* checking R code for possible problems ... NOTE
clusterVoting: no visible binding for global variable ‘k’
clusterVoting: no visible binding for global variable ‘Frequency’
clusteringMethodSelection: no visible binding for global variable
‘value’
clusteringMethodSelection: no visible binding for global variable
‘methods’
featureSelection: no visible binding for global variable ‘featureSet’
featureSelection: no visible binding for global variable ‘means’
geneSignatures: no visible global function definition for ‘where’
geneSignatures: no visible binding for global variable ‘features’
geneSignatures: no visible binding for global variable ‘value’
geneSignatures: no visible binding for global variable ‘variable’
Undefined global functions or variables:
Frequency featureSet features k means methods value variable where
Consider adding
importFrom("utils", "methods")
to your NAMESPACE file.
* checking Rd files ... OK
* checking Rd metadata ... OK
* checking Rd cross-references ... OK
* checking for missing documentation entries ... OK
* checking for code/documentation mismatches ... OK
* checking Rd \usage sections ... OK
* checking Rd contents ... OK
* checking for unstated dependencies in examples ... OK
* checking contents of ‘data’ directory ... OK
* checking data for non-ASCII characters ... OK
* checking LazyData ... OK
* checking data for ASCII and uncompressed saves ... OK
* checking files in ‘vignettes’ ... OK
* checking examples ... OK
Examples with CPU (user + system) or elapsed time > 5s
user system elapsed
get_feature_selection_optimal_number_of_features 16.753 0.307 17.062
get_feature_selection_scores 15.389 0.349 15.740
get_signature_feature_coefs 12.982 0.127 13.130
plot_feature_selection 12.450 0.170 12.654
get_cluster_voting_k_votes 11.832 0.121 11.988
get_feature_selection_optimal_features 11.744 0.203 11.949
get_partition_agreement_scores 11.570 0.237 11.824
get_cluster_voting_metric_votes 11.566 0.187 11.755
get_sample_memberships 11.452 0.150 11.629
get_cluster_voting_memberships 11.369 0.184 11.564
plot_partition_agreement 11.257 0.213 11.472
plot_signature_feature 10.907 0.187 11.095
get_cluster_voting_scores 10.819 0.204 11.026
omada 9.285 0.122 9.422
plot_cluster_voting 8.933 0.141 9.101
* checking for unstated dependencies in ‘tests’ ... OK
* checking tests ...
Running ‘testthat.R’
OK
* checking for unstated dependencies in vignettes ... OK
* checking package vignettes in ‘inst/doc’ ... OK
* checking running R code from vignettes ... SKIPPED
* checking re-building of vignette outputs ... SKIPPED
* checking PDF version of manual ... OK
* DONE
Status: 4 NOTEs
See
‘/Users/biocbuild/bbs-3.17-bioc-mac-arm64/meat/omada.Rcheck/00check.log’
for details.
omada.Rcheck/00install.out
############################################################################## ############################################################################## ### ### Running command: ### ### /Library/Frameworks/R.framework/Resources/bin/R CMD INSTALL omada ### ############################################################################## ############################################################################## * installing to library ‘/Library/Frameworks/R.framework/Versions/4.3-arm64/Resources/library’ * installing *source* package ‘omada’ ... ** using staged installation ** R ** data *** moving datasets to lazyload DB ** inst ** byte-compile and prepare package for lazy loading ** help *** installing help indices ** building package indices ** installing vignettes ** testing if installed package can be loaded from temporary location ** testing if installed package can be loaded from final location ** testing if installed package keeps a record of temporary installation path * DONE (omada)
omada.Rcheck/tests/testthat.Rout
R Under development (unstable) (2023-01-10 r83596) -- "Unsuffered Consequences"
Copyright (C) 2023 The R Foundation for Statistical Computing
Platform: aarch64-apple-darwin20 (64-bit)
R is free software and comes with ABSOLUTELY NO WARRANTY.
You are welcome to redistribute it under certain conditions.
Type 'license()' or 'licence()' for distribution details.
R is a collaborative project with many contributors.
Type 'contributors()' for more information and
'citation()' on how to cite R or R packages in publications.
Type 'demo()' for some demos, 'help()' for on-line help, or
'help.start()' for an HTML browser interface to help.
Type 'q()' to quit R.
> library(testthat)
> library(omada)
Loading required package: pdfCluster
pdfCluster 1.0-4
Loading required package: kernlab
Loading required package: fpc
Loading required package: Rcpp
Loading required package: diceR
Loading required package: ggplot2
Attaching package: 'ggplot2'
The following object is masked from 'package:kernlab':
alpha
Loading required package: reshape
Loading required package: clusterCrit
Loading required package: clValid
Loading required package: cluster
Loading required package: glmnet
Loading required package: Matrix
Attaching package: 'Matrix'
The following object is masked from 'package:reshape':
expand
Loaded glmnet 4.1-6
Loading required package: dplyr
Attaching package: 'dplyr'
The following object is masked from 'package:reshape':
rename
The following object is masked from 'package:pdfCluster':
groups
The following object is masked from 'package:testthat':
matches
The following objects are masked from 'package:stats':
filter, lag
The following objects are masked from 'package:base':
intersect, setdiff, setequal, union
>
> test_check("omada")
[ FAIL 0 | WARN 1 | SKIP 0 | PASS 39 ]
[ FAIL 0 | WARN 1 | SKIP 0 | PASS 39 ]
>
> proc.time()
user system elapsed
28.717 0.516 29.231
omada.Rcheck/omada-Ex.timings
| name | user | system | elapsed | |
| clusterVoting | 0.935 | 0.020 | 0.960 | |
| clusteringMethodSelection | 0.435 | 0.008 | 0.443 | |
| feasibilityAnalysis | 0.424 | 0.002 | 0.428 | |
| feasibilityAnalysisDataBased | 1.362 | 0.023 | 1.386 | |
| featureSelection | 3.032 | 0.037 | 3.076 | |
| geneSignatures | 0.375 | 0.006 | 0.382 | |
| get_agreement_scores | 0.073 | 0.001 | 0.074 | |
| get_average_feature_k_stabilities | 2.228 | 0.026 | 2.259 | |
| get_average_stabilities_per_k | 0.283 | 0.002 | 0.287 | |
| get_average_stability | 0.291 | 0.002 | 0.293 | |
| get_cluster_memberships_k | 0.136 | 0.004 | 0.141 | |
| get_cluster_voting_k_votes | 11.832 | 0.121 | 11.988 | |
| get_cluster_voting_memberships | 11.369 | 0.184 | 11.564 | |
| get_cluster_voting_metric_votes | 11.566 | 0.187 | 11.755 | |
| get_cluster_voting_scores | 10.819 | 0.204 | 11.026 | |
| get_coefficient_dataset | 0.167 | 0.003 | 0.172 | |
| get_feature_selection_optimal_features | 11.744 | 0.203 | 11.949 | |
| get_feature_selection_optimal_number_of_features | 16.753 | 0.307 | 17.062 | |
| get_feature_selection_scores | 15.389 | 0.349 | 15.740 | |
| get_generated_dataset | 1.125 | 0.017 | 1.142 | |
| get_internal_metric_scores | 0.115 | 0.003 | 0.119 | |
| get_max_stability | 0.282 | 0.006 | 0.287 | |
| get_metric_votes_k | 0.116 | 0.003 | 0.119 | |
| get_optimal_features | 3.848 | 0.064 | 3.912 | |
| get_optimal_memberships | 2.989 | 0.063 | 3.052 | |
| get_optimal_number_of_features | 4.086 | 0.064 | 4.150 | |
| get_optimal_parameter_used | 3.000 | 0.055 | 3.055 | |
| get_optimal_stability_score | 3.078 | 0.078 | 3.156 | |
| get_partition_agreement_scores | 11.570 | 0.237 | 11.824 | |
| get_sample_memberships | 11.452 | 0.150 | 11.629 | |
| get_signature_feature_coefs | 12.982 | 0.127 | 13.130 | |
| get_vote_frequencies_k | 0.132 | 0.003 | 0.134 | |
| omada | 9.285 | 0.122 | 9.422 | |
| optimalClustering | 0.026 | 0.003 | 0.028 | |
| partitionAgreement | 0.142 | 0.004 | 0.146 | |
| plot_average_stabilities | 3.608 | 0.079 | 3.691 | |
| plot_cluster_voting | 8.933 | 0.141 | 9.101 | |
| plot_feature_selection | 12.450 | 0.170 | 12.654 | |
| plot_partition_agreement | 11.257 | 0.213 | 11.472 | |
| plot_signature_feature | 10.907 | 0.187 | 11.095 | |
| plot_top30percent_coefficients | 0.245 | 0.002 | 0.247 | |
| plot_vote_frequencies | 0.310 | 0.004 | 0.316 | |
| toy_gene_memberships | 0.006 | 0.001 | 0.007 | |
| toy_genes | 0.000 | 0.001 | 0.000 | |