| Back to Mac ARM64 build report for BioC 3.17 |
|
This page was generated on 2023-10-20 09:38:08 -0400 (Fri, 20 Oct 2023).
| Hostname | OS | Arch (*) | R version | Installed pkgs |
|---|---|---|---|---|
| kjohnson2 | macOS 12.6.1 Monterey | arm64 | 4.3.1 (2023-06-16) -- "Beagle Scouts" | 4347 |
| Click on any hostname to see more info about the system (e.g. compilers) (*) as reported by 'uname -p', except on Windows and Mac OS X | ||||
| Package 1414/2230 | Hostname | OS / Arch | INSTALL | BUILD | CHECK | BUILD BIN | ||||||||
| omada 1.2.0 (landing page) Sokratis Kariotis
| kjohnson2 | macOS 12.6.1 Monterey / arm64 | ERROR | ERROR | skipped | skipped | ||||||||
|
To the developers/maintainers of the omada package: - Use the following Renviron settings to reproduce errors and warnings. - If 'R CMD check' started to fail recently on the Linux builder(s) over a missing dependency, add the missing dependency to 'Suggests:' in your DESCRIPTION file. See Renviron.bioc for more information. |
| Package: omada |
| Version: 1.2.0 |
| Command: /Library/Frameworks/R.framework/Resources/bin/R CMD build --keep-empty-dirs --no-resave-data omada |
| StartedAt: 2023-10-16 12:50:38 -0400 (Mon, 16 Oct 2023) |
| EndedAt: 2023-10-16 12:50:40 -0400 (Mon, 16 Oct 2023) |
| EllapsedTime: 2.1 seconds |
| RetCode: 1 |
| Status: ERROR |
| PackageFile: None |
| PackageFileSize: NA |
##############################################################################
##############################################################################
###
### Running command:
###
### /Library/Frameworks/R.framework/Resources/bin/R CMD build --keep-empty-dirs --no-resave-data omada
###
##############################################################################
##############################################################################
* checking for file ‘omada/DESCRIPTION’ ... OK
* preparing ‘omada’:
* checking DESCRIPTION meta-information ... OK
* installing the package to build vignettes
-----------------------------------
ERROR: dependency ‘clusterCrit’ is not available for package ‘omada’
* removing ‘/private/tmp/RtmpPQvHYr/Rinsta592c3df655/omada’
-----------------------------------
ERROR: package installation failed