| Back to Multiple platform build/check report for BioC 3.17: simplified long |
|
This page was generated on 2023-10-16 11:35:45 -0400 (Mon, 16 Oct 2023).
| Hostname | OS | Arch (*) | R version | Installed pkgs |
|---|---|---|---|---|
| nebbiolo1 | Linux (Ubuntu 22.04.2 LTS) | x86_64 | 4.3.1 (2023-06-16) -- "Beagle Scouts" | 4626 |
| palomino3 | Windows Server 2022 Datacenter | x64 | 4.3.1 (2023-06-16 ucrt) -- "Beagle Scouts" | 4379 |
| merida1 | macOS 12.6.4 Monterey | x86_64 | 4.3.1 (2023-06-16) -- "Beagle Scouts" | 4395 |
| Click on any hostname to see more info about the system (e.g. compilers) (*) as reported by 'uname -p', except on Windows and Mac OS X | ||||
| Package 1849/2230 | Hostname | OS / Arch | INSTALL | BUILD | CHECK | BUILD BIN | ||||||||
| Sconify 1.20.0 (landing page) Tyler J Burns
| nebbiolo1 | Linux (Ubuntu 22.04.2 LTS) / x86_64 | OK | OK | OK | |||||||||
| palomino3 | Windows Server 2022 Datacenter / x64 | OK | OK | OK | OK | |||||||||
| merida1 | macOS 12.6.4 Monterey / x86_64 | OK | OK | OK | OK | |||||||||
| kjohnson2 | macOS 12.6.1 Monterey / arm64 | see weekly results here | ||||||||||||
|
To the developers/maintainers of the Sconify package: - Allow up to 24 hours (and sometimes 48 hours) for your latest push to git@git.bioconductor.org:packages/Sconify.git to reflect on this report. See Troubleshooting Build Report for more information. - Use the following Renviron settings to reproduce errors and warnings. - If 'R CMD check' started to fail recently on the Linux builder(s) over a missing dependency, add the missing dependency to 'Suggests:' in your DESCRIPTION file. See Renviron.bioc for more information. |
| Package: Sconify |
| Version: 1.20.0 |
| Command: /home/biocbuild/bbs-3.17-bioc/R/bin/R CMD check --install=check:Sconify.install-out.txt --library=/home/biocbuild/bbs-3.17-bioc/R/site-library --timings Sconify_1.20.0.tar.gz |
| StartedAt: 2023-10-16 00:52:59 -0400 (Mon, 16 Oct 2023) |
| EndedAt: 2023-10-16 00:55:10 -0400 (Mon, 16 Oct 2023) |
| EllapsedTime: 131.0 seconds |
| RetCode: 0 |
| Status: OK |
| CheckDir: Sconify.Rcheck |
| Warnings: 0 |
##############################################################################
##############################################################################
###
### Running command:
###
### /home/biocbuild/bbs-3.17-bioc/R/bin/R CMD check --install=check:Sconify.install-out.txt --library=/home/biocbuild/bbs-3.17-bioc/R/site-library --timings Sconify_1.20.0.tar.gz
###
##############################################################################
##############################################################################
* using log directory ‘/home/biocbuild/bbs-3.17-bioc/meat/Sconify.Rcheck’
* using R version 4.3.1 (2023-06-16)
* using platform: x86_64-pc-linux-gnu (64-bit)
* R was compiled by
gcc (Ubuntu 11.3.0-1ubuntu1~22.04.1) 11.3.0
GNU Fortran (Ubuntu 11.3.0-1ubuntu1~22.04.1) 11.3.0
* running under: Ubuntu 22.04.3 LTS
* using session charset: UTF-8
* checking for file ‘Sconify/DESCRIPTION’ ... OK
* checking extension type ... Package
* this is package ‘Sconify’ version ‘1.20.0’
* package encoding: UTF-8
* checking package namespace information ... OK
* checking package dependencies ... OK
* checking if this is a source package ... OK
* checking if there is a namespace ... OK
* checking for hidden files and directories ... OK
* checking for portable file names ... OK
* checking for sufficient/correct file permissions ... OK
* checking whether package ‘Sconify’ can be installed ... OK
* checking installed package size ... OK
* checking package directory ... OK
* checking ‘build’ directory ... OK
* checking DESCRIPTION meta-information ... OK
* checking top-level files ... OK
* checking for left-over files ... OK
* checking index information ... OK
* checking package subdirectories ... OK
* checking R files for non-ASCII characters ... OK
* checking R files for syntax errors ... OK
* checking whether the package can be loaded ... OK
* checking whether the package can be loaded with stated dependencies ... OK
* checking whether the package can be unloaded cleanly ... OK
* checking whether the namespace can be loaded with stated dependencies ... OK
* checking whether the namespace can be unloaded cleanly ... OK
* checking loading without being on the library search path ... OK
* checking dependencies in R code ... OK
* checking S3 generic/method consistency ... OK
* checking replacement functions ... OK
* checking foreign function calls ... OK
* checking R code for possible problems ... OK
* checking Rd files ... OK
* checking Rd metadata ... OK
* checking Rd cross-references ... OK
* checking for missing documentation entries ... OK
* checking for code/documentation mismatches ... OK
* checking Rd \usage sections ... OK
* checking Rd contents ... OK
* checking for unstated dependencies in examples ... OK
* checking contents of ‘data’ directory ... OK
* checking data for non-ASCII characters ... OK
* checking LazyData ... OK
* checking data for ASCII and uncompressed saves ... OK
* checking files in ‘vignettes’ ... OK
* checking examples ... OK
Examples with CPU (user + system) or elapsed time > 5s
user system elapsed
SconeValues 12.891 0.183 13.076
* checking for unstated dependencies in ‘tests’ ... OK
* checking tests ...
Running ‘testthat.R’
OK
* checking for unstated dependencies in vignettes ... OK
* checking package vignettes in ‘inst/doc’ ... OK
* checking running R code from vignettes ...
‘DataQuality.Rmd’ using ‘UTF-8’... OK
‘FindingIdealK.Rmd’ using ‘UTF-8’... OK
‘Step1.PreProcessing.Rmd’ using ‘UTF-8’... OK
‘Step2.TheSconeWorkflow.Rmd’ using ‘UTF-8’... OK
‘Step3.PostProcessing.Rmd’ using ‘UTF-8’... OK
NONE
* checking re-building of vignette outputs ... OK
* checking PDF version of manual ... OK
* DONE
Status: OK
Sconify.Rcheck/00install.out
############################################################################## ############################################################################## ### ### Running command: ### ### /home/biocbuild/bbs-3.17-bioc/R/bin/R CMD INSTALL Sconify ### ############################################################################## ############################################################################## * installing to library ‘/home/biocbuild/bbs-3.17-bioc/R/site-library’ * installing *source* package ‘Sconify’ ... ** using staged installation ** R ** data *** moving datasets to lazyload DB ** inst ** byte-compile and prepare package for lazy loading Note: wrong number of arguments to '/' Note: wrong number of arguments to 'asinh' ** help *** installing help indices ** building package indices ** installing vignettes ** testing if installed package can be loaded from temporary location ** testing if installed package can be loaded from final location ** testing if installed package keeps a record of temporary installation path * DONE (Sconify)
Sconify.Rcheck/tests/testthat.Rout
R version 4.3.1 (2023-06-16) -- "Beagle Scouts"
Copyright (C) 2023 The R Foundation for Statistical Computing
Platform: x86_64-pc-linux-gnu (64-bit)
R is free software and comes with ABSOLUTELY NO WARRANTY.
You are welcome to redistribute it under certain conditions.
Type 'license()' or 'licence()' for distribution details.
R is a collaborative project with many contributors.
Type 'contributors()' for more information and
'citation()' on how to cite R or R packages in publications.
Type 'demo()' for some demos, 'help()' for on-line help, or
'help.start()' for an HTML browser interface to help.
Type 'q()' to quit R.
> library(testthat)
> library(Sconify)
>
> test_check("Sconify")
Read the 100 x 27 data matrix successfully!
OpenMP is working. 1 threads.
Using no_dims = 2, perplexity = 30.000000, and theta = 0.500000
Computing input similarities...
Building tree...
Done in 0.01 seconds (sparsity = 0.966200)!
Learning embedding...
Iteration 50: error is 51.804268 (50 iterations in 0.01 seconds)
Iteration 100: error is 52.505715 (50 iterations in 0.01 seconds)
Iteration 150: error is 54.370854 (50 iterations in 0.01 seconds)
Iteration 200: error is 53.104238 (50 iterations in 0.01 seconds)
Iteration 250: error is 54.845063 (50 iterations in 0.01 seconds)
Iteration 300: error is 1.386093 (50 iterations in 0.01 seconds)
Iteration 350: error is 0.744612 (50 iterations in 0.01 seconds)
Iteration 400: error is 0.289439 (50 iterations in 0.01 seconds)
Iteration 450: error is 0.197741 (50 iterations in 0.01 seconds)
Iteration 500: error is 0.175702 (50 iterations in 0.01 seconds)
Iteration 550: error is 0.174874 (50 iterations in 0.01 seconds)
Iteration 600: error is 0.172673 (50 iterations in 0.01 seconds)
Iteration 650: error is 0.173343 (50 iterations in 0.01 seconds)
Iteration 700: error is 0.172165 (50 iterations in 0.01 seconds)
Iteration 750: error is 0.173001 (50 iterations in 0.01 seconds)
Iteration 800: error is 0.170835 (50 iterations in 0.01 seconds)
Iteration 850: error is 0.172664 (50 iterations in 0.01 seconds)
Iteration 900: error is 0.173657 (50 iterations in 0.01 seconds)
Iteration 950: error is 0.171392 (50 iterations in 0.01 seconds)
Iteration 1000: error is 0.170891 (50 iterations in 0.01 seconds)
Fitting performed in 0.16 seconds.
Read the 1000 x 27 data matrix successfully!
OpenMP is working. 1 threads.
Using no_dims = 2, perplexity = 30.000000, and theta = 0.500000
Computing input similarities...
Building tree...
Done in 0.12 seconds (sparsity = 0.129120)!
Learning embedding...
Iteration 50: error is 64.034863 (50 iterations in 0.23 seconds)
Iteration 100: error is 60.678110 (50 iterations in 0.16 seconds)
Iteration 150: error is 60.332664 (50 iterations in 0.17 seconds)
Iteration 200: error is 60.217811 (50 iterations in 0.19 seconds)
Iteration 250: error is 60.156190 (50 iterations in 0.19 seconds)
Iteration 300: error is 1.336155 (50 iterations in 0.14 seconds)
Iteration 350: error is 1.224113 (50 iterations in 0.13 seconds)
Iteration 400: error is 1.193054 (50 iterations in 0.13 seconds)
Iteration 450: error is 1.183003 (50 iterations in 0.13 seconds)
Iteration 500: error is 1.175358 (50 iterations in 0.13 seconds)
Iteration 550: error is 1.169469 (50 iterations in 0.13 seconds)
Iteration 600: error is 1.165425 (50 iterations in 0.13 seconds)
Iteration 650: error is 1.160685 (50 iterations in 0.13 seconds)
Iteration 700: error is 1.157007 (50 iterations in 0.13 seconds)
Iteration 750: error is 1.154060 (50 iterations in 0.13 seconds)
Iteration 800: error is 1.151361 (50 iterations in 0.13 seconds)
Iteration 850: error is 1.149539 (50 iterations in 0.13 seconds)
Iteration 900: error is 1.148049 (50 iterations in 0.13 seconds)
Iteration 950: error is 1.146617 (50 iterations in 0.13 seconds)
Iteration 1000: error is 1.145803 (50 iterations in 0.13 seconds)
Fitting performed in 2.94 seconds.
[ FAIL 0 | WARN 4 | SKIP 0 | PASS 72 ]
[ FAIL 0 | WARN 4 | SKIP 0 | PASS 72 ]
>
> proc.time()
user system elapsed
18.566 0.376 18.952
Sconify.Rcheck/Sconify-Ex.timings
| name | user | system | elapsed | |
| FcsToTibble | 0.120 | 0.001 | 0.121 | |
| Fnn | 0.282 | 1.119 | 1.402 | |
| GetKnnDe | 0.068 | 0.016 | 0.085 | |
| GetMarkerNames | 0.034 | 0.000 | 0.034 | |
| ImputeTesting | 3.317 | 0.028 | 3.345 | |
| MakeHist | 0.309 | 0.008 | 0.317 | |
| MakeKnnList | 0.318 | 0.012 | 0.329 | |
| MeaningOfLife | 0.001 | 0.000 | 0.000 | |
| ParseMarkers | 0.233 | 0.009 | 0.263 | |
| PostProcessing | 0.126 | 0.004 | 0.130 | |
| ProcessMultipleFiles | 0.118 | 0.000 | 0.119 | |
| QuantNormalizeElements | 0.384 | 0.011 | 0.395 | |
| SconeValues | 12.891 | 0.183 | 13.076 | |
| SplitFile | 0.075 | 0.003 | 0.080 | |
| StringToNumbers | 0 | 0 | 0 | |
| SubsampleAndTsne | 1.612 | 0.004 | 1.617 | |
| TsneVis | 0.178 | 0.000 | 0.179 | |