| Back to Multiple platform build/check report for BioC 3.17: simplified long |
|
This page was generated on 2023-10-16 11:37:30 -0400 (Mon, 16 Oct 2023).
| Hostname | OS | Arch (*) | R version | Installed pkgs |
|---|---|---|---|---|
| nebbiolo1 | Linux (Ubuntu 22.04.2 LTS) | x86_64 | 4.3.1 (2023-06-16) -- "Beagle Scouts" | 4626 |
| palomino3 | Windows Server 2022 Datacenter | x64 | 4.3.1 (2023-06-16 ucrt) -- "Beagle Scouts" | 4379 |
| merida1 | macOS 12.6.4 Monterey | x86_64 | 4.3.1 (2023-06-16) -- "Beagle Scouts" | 4395 |
| Click on any hostname to see more info about the system (e.g. compilers) (*) as reported by 'uname -p', except on Windows and Mac OS X | ||||
| Package 1849/2230 | Hostname | OS / Arch | INSTALL | BUILD | CHECK | BUILD BIN | ||||||||
| Sconify 1.20.0 (landing page) Tyler J Burns
| nebbiolo1 | Linux (Ubuntu 22.04.2 LTS) / x86_64 | OK | OK | OK | |||||||||
| palomino3 | Windows Server 2022 Datacenter / x64 | OK | OK | OK | OK | |||||||||
| merida1 | macOS 12.6.4 Monterey / x86_64 | OK | OK | OK | OK | |||||||||
| kjohnson2 | macOS 12.6.1 Monterey / arm64 | see weekly results here | ||||||||||||
|
To the developers/maintainers of the Sconify package: - Allow up to 24 hours (and sometimes 48 hours) for your latest push to git@git.bioconductor.org:packages/Sconify.git to reflect on this report. See Troubleshooting Build Report for more information. - Use the following Renviron settings to reproduce errors and warnings. - If 'R CMD check' started to fail recently on the Linux builder(s) over a missing dependency, add the missing dependency to 'Suggests:' in your DESCRIPTION file. See Renviron.bioc for more information. |
| Package: Sconify |
| Version: 1.20.0 |
| Command: /Library/Frameworks/R.framework/Resources/bin/R CMD check --install=check:Sconify.install-out.txt --library=/Library/Frameworks/R.framework/Resources/library --no-vignettes --timings Sconify_1.20.0.tar.gz |
| StartedAt: 2023-10-16 06:45:32 -0400 (Mon, 16 Oct 2023) |
| EndedAt: 2023-10-16 06:50:27 -0400 (Mon, 16 Oct 2023) |
| EllapsedTime: 294.8 seconds |
| RetCode: 0 |
| Status: OK |
| CheckDir: Sconify.Rcheck |
| Warnings: 0 |
##############################################################################
##############################################################################
###
### Running command:
###
### /Library/Frameworks/R.framework/Resources/bin/R CMD check --install=check:Sconify.install-out.txt --library=/Library/Frameworks/R.framework/Resources/library --no-vignettes --timings Sconify_1.20.0.tar.gz
###
##############################################################################
##############################################################################
* using log directory ‘/Users/biocbuild/bbs-3.17-bioc/meat/Sconify.Rcheck’
* using R version 4.3.1 (2023-06-16)
* using platform: x86_64-apple-darwin20 (64-bit)
* R was compiled by
Apple clang version 14.0.3 (clang-1403.0.22.14.1)
GNU Fortran (GCC) 12.2.0
* running under: macOS Monterey 12.6.4
* using session charset: UTF-8
* using option ‘--no-vignettes’
* checking for file ‘Sconify/DESCRIPTION’ ... OK
* checking extension type ... Package
* this is package ‘Sconify’ version ‘1.20.0’
* package encoding: UTF-8
* checking package namespace information ... OK
* checking package dependencies ... OK
* checking if this is a source package ... OK
* checking if there is a namespace ... OK
* checking for hidden files and directories ... OK
* checking for portable file names ... OK
* checking for sufficient/correct file permissions ... OK
* checking whether package ‘Sconify’ can be installed ... OK
* checking installed package size ... OK
* checking package directory ... OK
* checking ‘build’ directory ... OK
* checking DESCRIPTION meta-information ... OK
* checking top-level files ... OK
* checking for left-over files ... OK
* checking index information ... OK
* checking package subdirectories ... OK
* checking R files for non-ASCII characters ... OK
* checking R files for syntax errors ... OK
* checking whether the package can be loaded ... OK
* checking whether the package can be loaded with stated dependencies ... OK
* checking whether the package can be unloaded cleanly ... OK
* checking whether the namespace can be loaded with stated dependencies ... OK
* checking whether the namespace can be unloaded cleanly ... OK
* checking dependencies in R code ... OK
* checking S3 generic/method consistency ... OK
* checking replacement functions ... OK
* checking foreign function calls ... OK
* checking R code for possible problems ... OK
* checking Rd files ... OK
* checking Rd metadata ... OK
* checking Rd cross-references ... OK
* checking for missing documentation entries ... OK
* checking for code/documentation mismatches ... OK
* checking Rd \usage sections ... OK
* checking Rd contents ... OK
* checking for unstated dependencies in examples ... OK
* checking contents of ‘data’ directory ... OK
* checking data for non-ASCII characters ... OK
* checking LazyData ... OK
* checking data for ASCII and uncompressed saves ... OK
* checking files in ‘vignettes’ ... OK
* checking examples ... OK
Examples with CPU (user + system) or elapsed time > 5s
user system elapsed
SconeValues 28.458 0.318 40.336
ImputeTesting 7.900 0.056 11.313
* checking for unstated dependencies in ‘tests’ ... OK
* checking tests ...
Running ‘testthat.R’
OK
* checking for unstated dependencies in vignettes ... OK
* checking package vignettes in ‘inst/doc’ ... OK
* checking running R code from vignettes ... SKIPPED
* checking re-building of vignette outputs ... SKIPPED
* checking PDF version of manual ... OK
* DONE
Status: OK
Sconify.Rcheck/00install.out
############################################################################## ############################################################################## ### ### Running command: ### ### /Library/Frameworks/R.framework/Resources/bin/R CMD INSTALL Sconify ### ############################################################################## ############################################################################## * installing to library ‘/Library/Frameworks/R.framework/Versions/4.3-x86_64/Resources/library’ * installing *source* package ‘Sconify’ ... ** using staged installation ** R ** data *** moving datasets to lazyload DB ** inst ** byte-compile and prepare package for lazy loading Note: wrong number of arguments to '/' Note: wrong number of arguments to 'asinh' ** help *** installing help indices ** building package indices ** installing vignettes ** testing if installed package can be loaded from temporary location ** testing if installed package can be loaded from final location ** testing if installed package keeps a record of temporary installation path * DONE (Sconify)
Sconify.Rcheck/tests/testthat.Rout
R version 4.3.1 (2023-06-16) -- "Beagle Scouts"
Copyright (C) 2023 The R Foundation for Statistical Computing
Platform: x86_64-apple-darwin20 (64-bit)
R is free software and comes with ABSOLUTELY NO WARRANTY.
You are welcome to redistribute it under certain conditions.
Type 'license()' or 'licence()' for distribution details.
R is a collaborative project with many contributors.
Type 'contributors()' for more information and
'citation()' on how to cite R or R packages in publications.
Type 'demo()' for some demos, 'help()' for on-line help, or
'help.start()' for an HTML browser interface to help.
Type 'q()' to quit R.
> library(testthat)
> library(Sconify)
>
> test_check("Sconify")
Read the 100 x 27 data matrix successfully!
Using no_dims = 2, perplexity = 30.000000, and theta = 0.500000
Computing input similarities...
Building tree...
Done in 0.01 seconds (sparsity = 0.967600)!
Learning embedding...
Iteration 50: error is 51.288834 (50 iterations in 0.02 seconds)
Iteration 100: error is 50.240717 (50 iterations in 0.02 seconds)
Iteration 150: error is 51.733074 (50 iterations in 0.02 seconds)
Iteration 200: error is 52.872994 (50 iterations in 0.02 seconds)
Iteration 250: error is 50.787843 (50 iterations in 0.02 seconds)
Iteration 300: error is 1.371707 (50 iterations in 0.01 seconds)
Iteration 350: error is 0.642383 (50 iterations in 0.01 seconds)
Iteration 400: error is 0.265314 (50 iterations in 0.01 seconds)
Iteration 450: error is 0.207692 (50 iterations in 0.01 seconds)
Iteration 500: error is 0.163305 (50 iterations in 0.01 seconds)
Iteration 550: error is 0.158733 (50 iterations in 0.01 seconds)
Iteration 600: error is 0.160928 (50 iterations in 0.01 seconds)
Iteration 650: error is 0.160075 (50 iterations in 0.02 seconds)
Iteration 700: error is 0.159627 (50 iterations in 0.01 seconds)
Iteration 750: error is 0.160426 (50 iterations in 0.01 seconds)
Iteration 800: error is 0.161433 (50 iterations in 0.01 seconds)
Iteration 850: error is 0.162694 (50 iterations in 0.01 seconds)
Iteration 900: error is 0.160136 (50 iterations in 0.01 seconds)
Iteration 950: error is 0.161633 (50 iterations in 0.01 seconds)
Iteration 1000: error is 0.162627 (50 iterations in 0.01 seconds)
Fitting performed in 0.30 seconds.
Read the 1000 x 27 data matrix successfully!
Using no_dims = 2, perplexity = 30.000000, and theta = 0.500000
Computing input similarities...
Building tree...
Done in 0.23 seconds (sparsity = 0.129120)!
Learning embedding...
Iteration 50: error is 64.990400 (50 iterations in 0.34 seconds)
Iteration 100: error is 60.631248 (50 iterations in 0.24 seconds)
Iteration 150: error is 60.321841 (50 iterations in 0.24 seconds)
Iteration 200: error is 60.174957 (50 iterations in 0.25 seconds)
Iteration 250: error is 60.121816 (50 iterations in 0.26 seconds)
Iteration 300: error is 1.331947 (50 iterations in 0.21 seconds)
Iteration 350: error is 1.226849 (50 iterations in 0.20 seconds)
Iteration 400: error is 1.201329 (50 iterations in 0.21 seconds)
Iteration 450: error is 1.186436 (50 iterations in 0.21 seconds)
Iteration 500: error is 1.176932 (50 iterations in 0.21 seconds)
Iteration 550: error is 1.170437 (50 iterations in 0.21 seconds)
Iteration 600: error is 1.166834 (50 iterations in 0.21 seconds)
Iteration 650: error is 1.162967 (50 iterations in 0.21 seconds)
Iteration 700: error is 1.161377 (50 iterations in 0.21 seconds)
Iteration 750: error is 1.159666 (50 iterations in 0.21 seconds)
Iteration 800: error is 1.158213 (50 iterations in 0.22 seconds)
Iteration 850: error is 1.156861 (50 iterations in 0.21 seconds)
Iteration 900: error is 1.153824 (50 iterations in 0.21 seconds)
Iteration 950: error is 1.151090 (50 iterations in 0.21 seconds)
Iteration 1000: error is 1.149196 (50 iterations in 0.21 seconds)
Fitting performed in 4.48 seconds.
[ FAIL 0 | WARN 4 | SKIP 0 | PASS 72 ]
[ FAIL 0 | WARN 4 | SKIP 0 | PASS 72 ]
>
> proc.time()
user system elapsed
44.239 0.994 65.017
Sconify.Rcheck/Sconify-Ex.timings
| name | user | system | elapsed | |
| FcsToTibble | 0.273 | 0.010 | 0.396 | |
| Fnn | 0.921 | 2.627 | 4.903 | |
| GetKnnDe | 0.116 | 0.017 | 0.182 | |
| GetMarkerNames | 0.054 | 0.005 | 0.085 | |
| ImputeTesting | 7.900 | 0.056 | 11.313 | |
| MakeHist | 0.673 | 0.015 | 0.950 | |
| MakeKnnList | 0.756 | 0.027 | 1.070 | |
| MeaningOfLife | 0.001 | 0.001 | 0.003 | |
| ParseMarkers | 0.511 | 0.042 | 0.802 | |
| PostProcessing | 0.247 | 0.005 | 0.353 | |
| ProcessMultipleFiles | 0.274 | 0.010 | 0.395 | |
| QuantNormalizeElements | 0.500 | 0.005 | 0.730 | |
| SconeValues | 28.458 | 0.318 | 40.336 | |
| SplitFile | 0.201 | 0.008 | 0.293 | |
| StringToNumbers | 0.000 | 0.001 | 0.006 | |
| SubsampleAndTsne | 2.798 | 0.064 | 3.851 | |
| TsneVis | 0.369 | 0.007 | 0.506 | |