| Back to Multiple platform build/check report for BioC 3.17: simplified long |
|
This page was generated on 2023-10-16 11:35:37 -0400 (Mon, 16 Oct 2023).
| Hostname | OS | Arch (*) | R version | Installed pkgs |
|---|---|---|---|---|
| nebbiolo1 | Linux (Ubuntu 22.04.2 LTS) | x86_64 | 4.3.1 (2023-06-16) -- "Beagle Scouts" | 4626 |
| palomino3 | Windows Server 2022 Datacenter | x64 | 4.3.1 (2023-06-16 ucrt) -- "Beagle Scouts" | 4379 |
| merida1 | macOS 12.6.4 Monterey | x86_64 | 4.3.1 (2023-06-16) -- "Beagle Scouts" | 4395 |
| Click on any hostname to see more info about the system (e.g. compilers) (*) as reported by 'uname -p', except on Windows and Mac OS X | ||||
| Package 1510/2230 | Hostname | OS / Arch | INSTALL | BUILD | CHECK | BUILD BIN | ||||||||
| PhenStat 2.36.0 (landing page) Hamed Haselimashhadi
| nebbiolo1 | Linux (Ubuntu 22.04.2 LTS) / x86_64 | OK | OK | OK | |||||||||
| palomino3 | Windows Server 2022 Datacenter / x64 | OK | OK | OK | OK | |||||||||
| merida1 | macOS 12.6.4 Monterey / x86_64 | OK | OK | OK | OK | |||||||||
| kjohnson2 | macOS 12.6.1 Monterey / arm64 | see weekly results here | ||||||||||||
|
To the developers/maintainers of the PhenStat package: - Allow up to 24 hours (and sometimes 48 hours) for your latest push to git@git.bioconductor.org:packages/PhenStat.git to reflect on this report. See Troubleshooting Build Report for more information. - Use the following Renviron settings to reproduce errors and warnings. - If 'R CMD check' started to fail recently on the Linux builder(s) over a missing dependency, add the missing dependency to 'Suggests:' in your DESCRIPTION file. See Renviron.bioc for more information. |
| Package: PhenStat |
| Version: 2.36.0 |
| Command: /home/biocbuild/bbs-3.17-bioc/R/bin/R CMD check --install=check:PhenStat.install-out.txt --library=/home/biocbuild/bbs-3.17-bioc/R/site-library --timings PhenStat_2.36.0.tar.gz |
| StartedAt: 2023-10-15 23:51:57 -0400 (Sun, 15 Oct 2023) |
| EndedAt: 2023-10-15 23:54:17 -0400 (Sun, 15 Oct 2023) |
| EllapsedTime: 139.9 seconds |
| RetCode: 0 |
| Status: OK |
| CheckDir: PhenStat.Rcheck |
| Warnings: 0 |
##############################################################################
##############################################################################
###
### Running command:
###
### /home/biocbuild/bbs-3.17-bioc/R/bin/R CMD check --install=check:PhenStat.install-out.txt --library=/home/biocbuild/bbs-3.17-bioc/R/site-library --timings PhenStat_2.36.0.tar.gz
###
##############################################################################
##############################################################################
* using log directory ‘/home/biocbuild/bbs-3.17-bioc/meat/PhenStat.Rcheck’
* using R version 4.3.1 (2023-06-16)
* using platform: x86_64-pc-linux-gnu (64-bit)
* R was compiled by
gcc (Ubuntu 11.3.0-1ubuntu1~22.04.1) 11.3.0
GNU Fortran (Ubuntu 11.3.0-1ubuntu1~22.04.1) 11.3.0
* running under: Ubuntu 22.04.3 LTS
* using session charset: UTF-8
* checking for file ‘PhenStat/DESCRIPTION’ ... OK
* checking extension type ... Package
* this is package ‘PhenStat’ version ‘2.36.0’
* checking package namespace information ... OK
* checking package dependencies ... OK
* checking if this is a source package ... OK
* checking if there is a namespace ... OK
* checking for hidden files and directories ... OK
* checking for portable file names ... OK
* checking for sufficient/correct file permissions ... OK
* checking whether package ‘PhenStat’ can be installed ... OK
* checking installed package size ... OK
* checking package directory ... OK
* checking ‘build’ directory ... OK
* checking DESCRIPTION meta-information ... OK
* checking top-level files ... OK
* checking for left-over files ... OK
* checking index information ... OK
* checking package subdirectories ... OK
* checking R files for non-ASCII characters ... OK
* checking R files for syntax errors ... OK
* checking whether the package can be loaded ... OK
* checking whether the package can be loaded with stated dependencies ... OK
* checking whether the package can be unloaded cleanly ... OK
* checking whether the namespace can be loaded with stated dependencies ... OK
* checking whether the namespace can be unloaded cleanly ... OK
* checking loading without being on the library search path ... OK
* checking startup messages can be suppressed ... OK
* checking dependencies in R code ... NOTE
Namespace in Imports field not imported from: ‘SmoothWin’
All declared Imports should be used.
* checking S3 generic/method consistency ... OK
* checking replacement functions ... OK
* checking foreign function calls ... OK
* checking R code for possible problems ... OK
* checking Rd files ... OK
* checking Rd metadata ... OK
* checking Rd cross-references ... OK
* checking for missing documentation entries ... OK
* checking for code/documentation mismatches ... OK
* checking Rd \usage sections ... OK
* checking Rd contents ... OK
* checking for unstated dependencies in examples ... OK
* checking installed files from ‘inst/doc’ ... OK
* checking files in ‘vignettes’ ... OK
* checking examples ... OK
* checking for unstated dependencies in ‘tests’ ... OK
* checking tests ...
Running ‘runTests.R’
OK
* checking for unstated dependencies in vignettes ... OK
* checking package vignettes in ‘inst/doc’ ... OK
* checking running R code from vignettes ...
‘PhenStat.Rnw’... OK
OK
* checking re-building of vignette outputs ... OK
* checking PDF version of manual ... OK
* DONE
Status: 1 NOTE
See
‘/home/biocbuild/bbs-3.17-bioc/meat/PhenStat.Rcheck/00check.log’
for details.
PhenStat.Rcheck/00install.out
############################################################################## ############################################################################## ### ### Running command: ### ### /home/biocbuild/bbs-3.17-bioc/R/bin/R CMD INSTALL PhenStat ### ############################################################################## ############################################################################## * installing to library ‘/home/biocbuild/bbs-3.17-bioc/R/site-library’ * installing *source* package ‘PhenStat’ ... ** using staged installation ** R ** inst ** byte-compile and prepare package for lazy loading ** help *** installing help indices ** building package indices ** installing vignettes ** testing if installed package can be loaded from temporary location ** testing if installed package can be loaded from final location ** testing if installed package keeps a record of temporary installation path * DONE (PhenStat)
PhenStat.Rcheck/tests/runTests.Rout
R version 4.3.1 (2023-06-16) -- "Beagle Scouts"
Copyright (C) 2023 The R Foundation for Statistical Computing
Platform: x86_64-pc-linux-gnu (64-bit)
R is free software and comes with ABSOLUTELY NO WARRANTY.
You are welcome to redistribute it under certain conditions.
Type 'license()' or 'licence()' for distribution details.
R is a collaborative project with many contributors.
Type 'contributors()' for more information and
'citation()' on how to cite R or R packages in publications.
Type 'demo()' for some demos, 'help()' for on-line help, or
'help.start()' for an HTML browser interface to help.
Type 'q()' to quit R.
> BiocGenerics:::testPackage("PhenStat")
>=========================================================================<
This version of PhenStat includes *FEWER* functions than the previous ones
You *still* can use the previous functions by using `:::`. For example :
PhenStat:::boxplotSexGenotype or PhenStat:::FisherExactTest
*** Want to know what is new in this version? run PhenStat:::WhatIsNew()
>=========================================================================<
RUNIT TEST PROTOCOL -- Sun Oct 15 23:53:52 2023
***********************************************
Number of test functions: 0
Number of errors: 0
Number of failures: 0
1 Test Suite :
PhenStat RUnit Tests - 0 test functions, 0 errors, 0 failures
Number of test functions: 0
Number of errors: 0
Number of failures: 0
>
> proc.time()
user system elapsed
3.013 0.184 3.186
PhenStat.Rcheck/PhenStat-Ex.timings
| name | user | system | elapsed | |
| FisherExactTest | 0.132 | 0.011 | 0.144 | |
| JSONOutput | 0.821 | 0.004 | 0.827 | |
| LRDataset | 0.041 | 0.003 | 0.044 | |
| PhenList-class | 0.162 | 0.004 | 0.169 | |
| PhenList | 0.166 | 0.008 | 0.174 | |
| PhenStatReport | 0.035 | 0.001 | 0.035 | |
| PhenTestResult-class | 0.635 | 0.012 | 0.646 | |
| PhenTestResult | 0.551 | 0.015 | 0.567 | |
| RRTest | 0.073 | 0.009 | 0.082 | |
| TFDataset | 0.225 | 0.007 | 0.233 | |
| analysedDataset | 0.663 | 0.004 | 0.667 | |
| analysisResults | 0.647 | 0.008 | 0.654 | |
| boxplotResidualBatch | 0.656 | 0.008 | 0.664 | |
| boxplotSexGenotype | 0.063 | 0.001 | 0.064 | |
| boxplotSexGenotypeBatch | 0.116 | 0.000 | 0.117 | |
| boxplotSexGenotypeBatchAdjusted | 0.061 | 0.000 | 0.060 | |
| boxplotSexGenotypeResult | 0.818 | 0.023 | 0.841 | |
| boxplotSexGenotypeWeightBatchAdjusted | 0.058 | 0.004 | 0.062 | |
| categoricalBarplot | 0.366 | 0.017 | 0.382 | |
| checkDataset | 0.031 | 0.003 | 0.034 | |
| classificationTag | 0.636 | 0.008 | 0.644 | |
| determiningLambda | 0.641 | 0.031 | 0.672 | |
| dim | 0.034 | 0.001 | 0.035 | |
| finalLRModel | 0.471 | 0.000 | 0.470 | |
| finalModel | 0.533 | 0.000 | 0.533 | |
| finalTFModel | 0.401 | 0.000 | 0.402 | |
| htestPhenStat-class | 0.109 | 0.000 | 0.109 | |
| modelFormula | 0.001 | 0.000 | 0.001 | |
| modelFormulaLR | 0 | 0 | 0 | |
| parserOutputSummary | 0.624 | 0.019 | 0.644 | |
| parserOutputSummaryLR | 0.401 | 0.008 | 0.409 | |
| parserOutputTFSummary | 0.081 | 0.000 | 0.081 | |
| performReverseTransformation | 0 | 0 | 0 | |
| performTransformation | 0 | 0 | 0 | |
| plot.PhenList | 2.092 | 0.042 | 2.134 | |
| plot.PhenTestResult | 2.133 | 0.032 | 2.164 | |
| plotResidualPredicted | 0.625 | 0.008 | 0.634 | |
| printLROutput | 0.409 | 0.012 | 0.421 | |
| printTabStyle | 0.001 | 0.000 | 0.001 | |
| qqplotGenotype | 0.658 | 0.004 | 0.663 | |
| qqplotRandomEffects | 0.635 | 0.000 | 0.634 | |
| qqplotRotatedResiduals | 3.933 | 0.068 | 4.000 | |
| recommendMethod | 0.191 | 0.028 | 0.219 | |
| scatterplotGenotypeWeight | 0.154 | 0.008 | 0.162 | |
| scatterplotGenotypeWeightResult | 0.795 | 0.016 | 0.812 | |
| scatterplotSexGenotypeBatch | 0.071 | 0.008 | 0.079 | |
| scatterplotSexGenotypeBatchResult | 0.810 | 0.004 | 0.814 | |
| startLRModel | 0.382 | 0.000 | 0.383 | |
| startModel | 0.454 | 0.000 | 0.455 | |
| startTFModel | 0.349 | 0.000 | 0.348 | |
| summaryOutput | 0.730 | 0.020 | 0.749 | |
| summaryPhenListResult | 0.708 | 0.004 | 0.712 | |
| testDataset | 2.069 | 0.008 | 2.077 | |
| testFinalLRModel | 0.415 | 0.000 | 0.416 | |
| testFinalModel | 1.008 | 0.032 | 1.040 | |
| vectorOutput | 0.722 | 0.032 | 0.753 | |
| vectorOutputMatrices | 0.111 | 0.000 | 0.111 | |