| Back to Multiple platform build/check report for BioC 3.17: simplified long | 
  | 
This page was generated on 2023-10-16 11:37:22 -0400 (Mon, 16 Oct 2023).
| Hostname | OS | Arch (*) | R version | Installed pkgs | 
|---|---|---|---|---|
| nebbiolo1 | Linux (Ubuntu 22.04.2 LTS) | x86_64 | 4.3.1 (2023-06-16) -- "Beagle Scouts" | 4626 | 
| palomino3 | Windows Server 2022 Datacenter | x64 | 4.3.1 (2023-06-16 ucrt) -- "Beagle Scouts" | 4379 | 
| merida1 | macOS 12.6.4 Monterey | x86_64 | 4.3.1 (2023-06-16) -- "Beagle Scouts" | 4395 | 
| Click on any hostname to see more info about the system (e.g. compilers) (*) as reported by 'uname -p', except on Windows and Mac OS X | ||||
| Package 1510/2230 | Hostname | OS / Arch | INSTALL | BUILD | CHECK | BUILD BIN | ||||||||
| PhenStat 2.36.0  (landing page) Hamed Haselimashhadi 
  | nebbiolo1 | Linux (Ubuntu 22.04.2 LTS) / x86_64 | OK | OK | OK | |||||||||
| palomino3 | Windows Server 2022 Datacenter / x64 | OK | OK | OK | OK | |||||||||
| merida1 | macOS 12.6.4 Monterey / x86_64 | OK | OK | OK | OK | |||||||||
| kjohnson2 | macOS 12.6.1 Monterey / arm64 | see weekly results here | ||||||||||||
| 
To the developers/maintainers of the PhenStat package: - Allow up to 24 hours (and sometimes 48 hours) for your latest push to git@git.bioconductor.org:packages/PhenStat.git to reflect on this report. See Troubleshooting Build Report for more information. - Use the following Renviron settings to reproduce errors and warnings. - If 'R CMD check' started to fail recently on the Linux builder(s) over a missing dependency, add the missing dependency to 'Suggests:' in your DESCRIPTION file. See Renviron.bioc for more information.  | 
| Package: PhenStat | 
| Version: 2.36.0 | 
| Command: /Library/Frameworks/R.framework/Resources/bin/R CMD check --install=check:PhenStat.install-out.txt --library=/Library/Frameworks/R.framework/Resources/library --no-vignettes --timings PhenStat_2.36.0.tar.gz | 
| StartedAt: 2023-10-16 05:15:05 -0400 (Mon, 16 Oct 2023) | 
| EndedAt: 2023-10-16 05:20:41 -0400 (Mon, 16 Oct 2023) | 
| EllapsedTime: 336.4 seconds | 
| RetCode: 0 | 
| Status: OK | 
| CheckDir: PhenStat.Rcheck | 
| Warnings: 0 | 
##############################################################################
##############################################################################
###
### Running command:
###
###   /Library/Frameworks/R.framework/Resources/bin/R CMD check --install=check:PhenStat.install-out.txt --library=/Library/Frameworks/R.framework/Resources/library --no-vignettes --timings PhenStat_2.36.0.tar.gz
###
##############################################################################
##############################################################################
* using log directory ‘/Users/biocbuild/bbs-3.17-bioc/meat/PhenStat.Rcheck’
* using R version 4.3.1 (2023-06-16)
* using platform: x86_64-apple-darwin20 (64-bit)
* R was compiled by
    Apple clang version 14.0.3 (clang-1403.0.22.14.1)
    GNU Fortran (GCC) 12.2.0
* running under: macOS Monterey 12.6.4
* using session charset: UTF-8
* using option ‘--no-vignettes’
* checking for file ‘PhenStat/DESCRIPTION’ ... OK
* checking extension type ... Package
* this is package ‘PhenStat’ version ‘2.36.0’
* checking package namespace information ... OK
* checking package dependencies ... OK
* checking if this is a source package ... OK
* checking if there is a namespace ... OK
* checking for hidden files and directories ... OK
* checking for portable file names ... OK
* checking for sufficient/correct file permissions ... OK
* checking whether package ‘PhenStat’ can be installed ... OK
* checking installed package size ... OK
* checking package directory ... OK
* checking ‘build’ directory ... OK
* checking DESCRIPTION meta-information ... OK
* checking top-level files ... OK
* checking for left-over files ... OK
* checking index information ... OK
* checking package subdirectories ... OK
* checking R files for non-ASCII characters ... OK
* checking R files for syntax errors ... OK
* checking whether the package can be loaded ... OK
* checking whether the package can be loaded with stated dependencies ... OK
* checking whether the package can be unloaded cleanly ... OK
* checking whether the namespace can be loaded with stated dependencies ... OK
* checking whether the namespace can be unloaded cleanly ... OK
* checking startup messages can be suppressed ... OK
* checking dependencies in R code ... NOTE
Namespace in Imports field not imported from: ‘SmoothWin’
  All declared Imports should be used.
* checking S3 generic/method consistency ... OK
* checking replacement functions ... OK
* checking foreign function calls ... OK
* checking R code for possible problems ... OK
* checking Rd files ... OK
* checking Rd metadata ... OK
* checking Rd cross-references ... OK
* checking for missing documentation entries ... OK
* checking for code/documentation mismatches ... OK
* checking Rd \usage sections ... OK
* checking Rd contents ... OK
* checking for unstated dependencies in examples ... OK
* checking sizes of PDF files under ‘inst/doc’ ... OK
* checking installed files from ‘inst/doc’ ... OK
* checking files in ‘vignettes’ ... OK
* checking examples ... OK
Examples with CPU (user + system) or elapsed time > 5s
                        user system elapsed
qqplotRotatedResiduals 7.161  0.065   9.569
plot.PhenList          4.290  0.100   5.813
plot.PhenTestResult    4.226  0.102   5.826
testDataset            4.179  0.092   5.845
* checking for unstated dependencies in ‘tests’ ... OK
* checking tests ...
  Running ‘runTests.R’
 OK
* checking for unstated dependencies in vignettes ... OK
* checking package vignettes in ‘inst/doc’ ... OK
* checking running R code from vignettes ... SKIPPED
* checking re-building of vignette outputs ... SKIPPED
* checking PDF version of manual ... OK
* DONE
Status: 1 NOTE
See
  ‘/Users/biocbuild/bbs-3.17-bioc/meat/PhenStat.Rcheck/00check.log’
for details.
PhenStat.Rcheck/00install.out
############################################################################## ############################################################################## ### ### Running command: ### ### /Library/Frameworks/R.framework/Resources/bin/R CMD INSTALL PhenStat ### ############################################################################## ############################################################################## * installing to library ‘/Library/Frameworks/R.framework/Versions/4.3-x86_64/Resources/library’ * installing *source* package ‘PhenStat’ ... ** using staged installation ** R ** inst ** byte-compile and prepare package for lazy loading ** help *** installing help indices ** building package indices ** installing vignettes ** testing if installed package can be loaded from temporary location ** testing if installed package can be loaded from final location ** testing if installed package keeps a record of temporary installation path * DONE (PhenStat)
PhenStat.Rcheck/tests/runTests.Rout
R version 4.3.1 (2023-06-16) -- "Beagle Scouts"
Copyright (C) 2023 The R Foundation for Statistical Computing
Platform: x86_64-apple-darwin20 (64-bit)
R is free software and comes with ABSOLUTELY NO WARRANTY.
You are welcome to redistribute it under certain conditions.
Type 'license()' or 'licence()' for distribution details.
R is a collaborative project with many contributors.
Type 'contributors()' for more information and
'citation()' on how to cite R or R packages in publications.
Type 'demo()' for some demos, 'help()' for on-line help, or
'help.start()' for an HTML browser interface to help.
Type 'q()' to quit R.
> BiocGenerics:::testPackage("PhenStat")
 >=========================================================================<
 This version of PhenStat includes *FEWER* functions than the previous ones 
 You *still* can use the previous functions by using `:::`. For example :   
 PhenStat:::boxplotSexGenotype   or   PhenStat:::FisherExactTest            
 *** Want to know what is new in this version? run PhenStat:::WhatIsNew()   
 >=========================================================================<
RUNIT TEST PROTOCOL -- Mon Oct 16 05:20:17 2023 
*********************************************** 
Number of test functions: 0 
Number of errors: 0 
Number of failures: 0 
 
1 Test Suite : 
PhenStat RUnit Tests - 0 test functions, 0 errors, 0 failures
Number of test functions: 0 
Number of errors: 0 
Number of failures: 0 
> 
> proc.time()
   user  system elapsed 
  6.540   0.586   9.694 
PhenStat.Rcheck/PhenStat-Ex.timings
| name | user | system | elapsed | |
| FisherExactTest | 0.352 | 0.035 | 0.503 | |
| JSONOutput | 1.687 | 0.038 | 2.322 | |
| LRDataset | 0.114 | 0.004 | 0.159 | |
| PhenList-class | 0.342 | 0.019 | 0.511 | |
| PhenList | 0.36 | 0.01 | 0.48 | |
| PhenStatReport | 0.073 | 0.002 | 0.100 | |
| PhenTestResult-class | 1.426 | 0.026 | 1.906 | |
| PhenTestResult | 1.149 | 0.011 | 1.536 | |
| RRTest | 0.189 | 0.007 | 0.265 | |
| TFDataset | 0.625 | 0.009 | 0.856 | |
| analysedDataset | 1.348 | 0.019 | 1.816 | |
| analysisResults | 1.310 | 0.012 | 1.759 | |
| boxplotResidualBatch | 1.416 | 0.014 | 1.933 | |
| boxplotSexGenotype | 0.139 | 0.006 | 0.199 | |
| boxplotSexGenotypeBatch | 0.566 | 0.012 | 0.804 | |
| boxplotSexGenotypeBatchAdjusted | 0.129 | 0.003 | 0.174 | |
| boxplotSexGenotypeResult | 1.641 | 0.018 | 2.180 | |
| boxplotSexGenotypeWeightBatchAdjusted | 0.127 | 0.004 | 0.163 | |
| categoricalBarplot | 0.286 | 0.009 | 0.383 | |
| checkDataset | 0.073 | 0.001 | 0.100 | |
| classificationTag | 1.305 | 0.014 | 1.798 | |
| determiningLambda | 1.307 | 0.217 | 2.067 | |
| dim | 0.074 | 0.001 | 0.096 | |
| finalLRModel | 0.950 | 0.017 | 1.275 | |
| finalModel | 1.112 | 0.006 | 1.470 | |
| finalTFModel | 1.119 | 0.017 | 1.491 | |
| htestPhenStat-class | 0.281 | 0.007 | 0.370 | |
| modelFormula | 0.000 | 0.001 | 0.001 | |
| modelFormulaLR | 0.000 | 0.000 | 0.001 | |
| parserOutputSummary | 1.300 | 0.013 | 1.703 | |
| parserOutputSummaryLR | 0.858 | 0.014 | 1.156 | |
| parserOutputTFSummary | 0.228 | 0.003 | 0.299 | |
| performReverseTransformation | 0.001 | 0.000 | 0.001 | |
| performTransformation | 0.000 | 0.000 | 0.003 | |
| plot.PhenList | 4.290 | 0.100 | 5.813 | |
| plot.PhenTestResult | 4.226 | 0.102 | 5.826 | |
| plotResidualPredicted | 1.320 | 0.012 | 1.742 | |
| printLROutput | 0.861 | 0.012 | 1.138 | |
| printTabStyle | 0.001 | 0.001 | 0.007 | |
| qqplotGenotype | 1.337 | 0.010 | 1.834 | |
| qqplotRandomEffects | 1.327 | 0.012 | 1.769 | |
| qqplotRotatedResiduals | 7.161 | 0.065 | 9.569 | |
| recommendMethod | 0.865 | 0.014 | 1.161 | |
| scatterplotGenotypeWeight | 0.270 | 0.011 | 0.363 | |
| scatterplotGenotypeWeightResult | 1.704 | 0.020 | 2.219 | |
| scatterplotSexGenotypeBatch | 0.173 | 0.008 | 0.232 | |
| scatterplotSexGenotypeBatchResult | 1.683 | 0.019 | 2.166 | |
| startLRModel | 0.804 | 0.009 | 1.048 | |
| startModel | 1.043 | 0.008 | 1.415 | |
| startTFModel | 1.017 | 0.010 | 1.358 | |
| summaryOutput | 1.574 | 0.015 | 2.082 | |
| summaryPhenListResult | 1.556 | 0.015 | 2.065 | |
| testDataset | 4.179 | 0.092 | 5.845 | |
| testFinalLRModel | 0.865 | 0.013 | 1.174 | |
| testFinalModel | 1.571 | 0.014 | 2.113 | |
| vectorOutput | 1.562 | 0.020 | 2.100 | |
| vectorOutputMatrices | 0.278 | 0.013 | 0.387 | |