| Back to Multiple platform build/check report for BioC 3.17: simplified long |
|
This page was generated on 2023-03-16 11:05:34 -0400 (Thu, 16 Mar 2023).
| Hostname | OS | Arch (*) | R version | Installed pkgs |
|---|---|---|---|---|
| nebbiolo1 | Linux (Ubuntu 22.04.1 LTS) | x86_64 | R Under development (unstable) (2023-01-10 r83596) -- "Unsuffered Consequences" | 4540 |
| palomino3 | Windows Server 2022 Datacenter | x64 | R Under development (unstable) (2023-01-10 r83596 ucrt) -- "Unsuffered Consequences" | 4302 |
| merida1 | macOS 10.14.6 Mojave | x86_64 | R Under development (unstable) (2023-01-10 r83596) -- "Unsuffered Consequences" | 4330 |
| Click on any hostname to see more info about the system (e.g. compilers) (*) as reported by 'uname -p', except on Windows and Mac OS X | ||||
|
To the developers/maintainers of the PFP package: - Please allow up to 24 hours (and sometimes 48 hours) for your latest push to git@git.bioconductor.org:packages/PFP.git to reflect on this report. See How and When does the builder pull? When will my changes propagate? for more information. - Make sure to use the following settings in order to reproduce any error or warning you see on this page. |
| Package 1475/2189 | Hostname | OS / Arch | INSTALL | BUILD | CHECK | BUILD BIN | ||||||||
| PFP 1.7.0 (landing page) XC Zhang
| nebbiolo1 | Linux (Ubuntu 22.04.1 LTS) / x86_64 | OK | OK | OK | |||||||||
| palomino3 | Windows Server 2022 Datacenter / x64 | OK | OK | OK | OK | |||||||||
| merida1 | macOS 10.14.6 Mojave / x86_64 | OK | OK | OK | OK | |||||||||
| Package: PFP |
| Version: 1.7.0 |
| Command: /home/biocbuild/bbs-3.17-bioc/R/bin/R CMD check --install=check:PFP.install-out.txt --library=/home/biocbuild/bbs-3.17-bioc/R/library --timings PFP_1.7.0.tar.gz |
| StartedAt: 2023-03-15 22:28:22 -0400 (Wed, 15 Mar 2023) |
| EndedAt: 2023-03-15 22:34:49 -0400 (Wed, 15 Mar 2023) |
| EllapsedTime: 386.7 seconds |
| RetCode: 0 |
| Status: OK |
| CheckDir: PFP.Rcheck |
| Warnings: 0 |
##############################################################################
##############################################################################
###
### Running command:
###
### /home/biocbuild/bbs-3.17-bioc/R/bin/R CMD check --install=check:PFP.install-out.txt --library=/home/biocbuild/bbs-3.17-bioc/R/library --timings PFP_1.7.0.tar.gz
###
##############################################################################
##############################################################################
* using log directory ‘/home/biocbuild/bbs-3.17-bioc/meat/PFP.Rcheck’
* using R Under development (unstable) (2023-01-10 r83596)
* using platform: x86_64-pc-linux-gnu (64-bit)
* R was compiled by
gcc (Ubuntu 11.3.0-1ubuntu1~22.04) 11.3.0
GNU Fortran (Ubuntu 11.3.0-1ubuntu1~22.04) 11.3.0
* running under: Ubuntu 22.04.2 LTS
* using session charset: UTF-8
* checking for file ‘PFP/DESCRIPTION’ ... OK
* checking extension type ... Package
* this is package ‘PFP’ version ‘1.7.0’
* package encoding: UTF-8
* checking package namespace information ... OK
* checking package dependencies ... OK
* checking if this is a source package ... OK
* checking if there is a namespace ... OK
* checking for hidden files and directories ... OK
* checking for portable file names ... OK
* checking for sufficient/correct file permissions ... OK
* checking whether package ‘PFP’ can be installed ... OK
* checking installed package size ... OK
* checking package directory ... OK
* checking ‘build’ directory ... OK
* checking DESCRIPTION meta-information ... OK
* checking top-level files ... OK
* checking for left-over files ... OK
* checking index information ... OK
* checking package subdirectories ... OK
* checking R files for non-ASCII characters ... OK
* checking R files for syntax errors ... OK
* checking whether the package can be loaded ... OK
* checking whether the package can be loaded with stated dependencies ... OK
* checking whether the package can be unloaded cleanly ... OK
* checking whether the namespace can be loaded with stated dependencies ... OK
* checking whether the namespace can be unloaded cleanly ... OK
* checking dependencies in R code ... OK
* checking S3 generic/method consistency ... OK
* checking replacement functions ... OK
* checking foreign function calls ... OK
* checking R code for possible problems ... OK
* checking Rd files ... OK
* checking Rd metadata ... OK
* checking Rd cross-references ... OK
* checking for missing documentation entries ... OK
* checking for code/documentation mismatches ... OK
* checking Rd \usage sections ... OK
* checking Rd contents ... OK
* checking for unstated dependencies in examples ... OK
* checking contents of ‘data’ directory ... OK
* checking data for non-ASCII characters ... OK
* checking data for ASCII and uncompressed saves ... OK
* checking files in ‘vignettes’ ... OK
* checking examples ... OK
Examples with CPU (user + system) or elapsed time > 5s
user system elapsed
calc_PFP_score 14.763 0.309 15.229
get_asso_net 5.240 0.096 5.486
* checking for unstated dependencies in ‘tests’ ... OK
* checking tests ...
Running ‘testthat.R’
OK
* checking for unstated dependencies in vignettes ... OK
* checking package vignettes in ‘inst/doc’ ... OK
* checking running R code from vignettes ...
‘PFP.Rmd’ using ‘UTF-8’... OK
NONE
* checking re-building of vignette outputs ... OK
* checking PDF version of manual ... OK
* DONE
Status: OK
PFP.Rcheck/00install.out
############################################################################## ############################################################################## ### ### Running command: ### ### /home/biocbuild/bbs-3.17-bioc/R/bin/R CMD INSTALL PFP ### ############################################################################## ############################################################################## * installing to library ‘/home/biocbuild/bbs-3.17-bioc/R/library’ * installing *source* package ‘PFP’ ... ** using staged installation ** R ** data ** byte-compile and prepare package for lazy loading ** help *** installing help indices ** building package indices ** installing vignettes ** testing if installed package can be loaded from temporary location ** testing if installed package can be loaded from final location ** testing if installed package keeps a record of temporary installation path * DONE (PFP)
PFP.Rcheck/tests/testthat.Rout
R Under development (unstable) (2023-01-10 r83596) -- "Unsuffered Consequences"
Copyright (C) 2023 The R Foundation for Statistical Computing
Platform: x86_64-pc-linux-gnu (64-bit)
R is free software and comes with ABSOLUTELY NO WARRANTY.
You are welcome to redistribute it under certain conditions.
Type 'license()' or 'licence()' for distribution details.
R is a collaborative project with many contributors.
Type 'contributors()' for more information and
'citation()' on how to cite R or R packages in publications.
Type 'demo()' for some demos, 'help()' for on-line help, or
'help.start()' for an HTML browser interface to help.
Type 'q()' to quit R.
> library(testthat)
> library(PFP)
> test_check('PFP')
[ FAIL 0 | WARN 6 | SKIP 0 | PASS 31 ]
[ FAIL 0 | WARN 6 | SKIP 0 | PASS 31 ]
>
> proc.time()
user system elapsed
14.057 0.793 15.048
PFP.Rcheck/PFP-Ex.timings
| name | user | system | elapsed | |
| PFP-class | 0.124 | 0.040 | 0.164 | |
| PFPRefnet-class | 0.526 | 0.040 | 0.566 | |
| PFPRefnet_hsa | 0.282 | 0.000 | 0.282 | |
| PFPRefnet_mmu | 0.462 | 0.012 | 0.474 | |
| PFP_score-methods | 0.005 | 0.000 | 0.005 | |
| PFP_test1 | 0.004 | 0.000 | 0.004 | |
| PFP_test2 | 0.004 | 0.000 | 0.004 | |
| calc_PFP_score | 14.763 | 0.309 | 15.229 | |
| data_std | 0.009 | 0.007 | 0.016 | |
| gene_list_hsa | 0.002 | 0.000 | 0.002 | |
| genes_score-methods | 0.008 | 0.000 | 0.008 | |
| get_PFPRefnet | 0.001 | 0.000 | 0.001 | |
| get_asso_net | 5.240 | 0.096 | 5.486 | |
| get_bg_related_kegg | 3.093 | 0.056 | 3.205 | |
| get_exp_cor_edges | 0.257 | 0.000 | 0.260 | |
| get_pathway_info | 0.229 | 0.003 | 3.056 | |
| group-methods | 0.536 | 0.008 | 0.544 | |
| kegg_download | 0.000 | 0.001 | 0.001 | |
| net_info-methods | 0.487 | 0.000 | 0.486 | |
| net_names-methods | 0.291 | 0.000 | 0.292 | |
| network-methods | 0.302 | 0.000 | 0.301 | |
| pathway_info | 0.003 | 0.000 | 0.004 | |
| pathway_info_hsa | 0.002 | 0.000 | 0.003 | |
| pathways_score-methods | 0.004 | 0.000 | 0.005 | |
| plot_PFP-methods | 0.333 | 0.000 | 0.333 | |
| plot_PFPlist | 0.212 | 0.000 | 0.212 | |
| rank_PFP-methods | 0.121 | 0.036 | 0.157 | |
| refnet_info-methods | 0.000 | 0.003 | 0.005 | |
| refnet_names-methods | 0.005 | 0.000 | 0.004 | |
| result_PFP-methods | 0.005 | 0.000 | 0.006 | |
| show_PFP-methods | 0.006 | 0.004 | 0.010 | |
| show_net-methods | 0.292 | 0.000 | 0.292 | |
| stats_test-methods | 0.004 | 0.000 | 0.004 | |
| sub_PFP-methods | 0.116 | 0.039 | 0.157 | |
| subnet-methods | 0.316 | 0.000 | 0.316 | |
| trans_edges_id | 1.775 | 0.051 | 1.954 | |
| trans_graph2PFPRefnet | 0.480 | 0.072 | 0.552 | |
| trans_xml2graph | 0.000 | 0.000 | 0.001 | |