| Back to Multiple platform build/check report for BioC 3.17: simplified long |
|
This page was generated on 2023-03-16 11:07:18 -0400 (Thu, 16 Mar 2023).
| Hostname | OS | Arch (*) | R version | Installed pkgs |
|---|---|---|---|---|
| nebbiolo1 | Linux (Ubuntu 22.04.1 LTS) | x86_64 | R Under development (unstable) (2023-01-10 r83596) -- "Unsuffered Consequences" | 4540 |
| palomino3 | Windows Server 2022 Datacenter | x64 | R Under development (unstable) (2023-01-10 r83596 ucrt) -- "Unsuffered Consequences" | 4302 |
| merida1 | macOS 10.14.6 Mojave | x86_64 | R Under development (unstable) (2023-01-10 r83596) -- "Unsuffered Consequences" | 4330 |
| Click on any hostname to see more info about the system (e.g. compilers) (*) as reported by 'uname -p', except on Windows and Mac OS X | ||||
|
To the developers/maintainers of the PFP package: - Please allow up to 24 hours (and sometimes 48 hours) for your latest push to git@git.bioconductor.org:packages/PFP.git to reflect on this report. See How and When does the builder pull? When will my changes propagate? for more information. - Make sure to use the following settings in order to reproduce any error or warning you see on this page. |
| Package 1475/2189 | Hostname | OS / Arch | INSTALL | BUILD | CHECK | BUILD BIN | ||||||||
| PFP 1.7.0 (landing page) XC Zhang
| nebbiolo1 | Linux (Ubuntu 22.04.1 LTS) / x86_64 | OK | OK | OK | |||||||||
| palomino3 | Windows Server 2022 Datacenter / x64 | OK | OK | OK | OK | |||||||||
| merida1 | macOS 10.14.6 Mojave / x86_64 | OK | OK | OK | OK | |||||||||
| Package: PFP |
| Version: 1.7.0 |
| Command: /Library/Frameworks/R.framework/Resources/bin/R CMD check --install=check:PFP.install-out.txt --library=/Library/Frameworks/R.framework/Resources/library --no-vignettes --timings PFP_1.7.0.tar.gz |
| StartedAt: 2023-03-16 05:03:46 -0400 (Thu, 16 Mar 2023) |
| EndedAt: 2023-03-16 05:13:02 -0400 (Thu, 16 Mar 2023) |
| EllapsedTime: 556.7 seconds |
| RetCode: 0 |
| Status: OK |
| CheckDir: PFP.Rcheck |
| Warnings: 0 |
##############################################################################
##############################################################################
###
### Running command:
###
### /Library/Frameworks/R.framework/Resources/bin/R CMD check --install=check:PFP.install-out.txt --library=/Library/Frameworks/R.framework/Resources/library --no-vignettes --timings PFP_1.7.0.tar.gz
###
##############################################################################
##############################################################################
* using log directory ‘/Users/biocbuild/bbs-3.17-bioc/meat/PFP.Rcheck’
* using R Under development (unstable) (2023-01-10 r83596)
* using platform: x86_64-apple-darwin17.0 (64-bit)
* R was compiled by
Apple clang version 12.0.0 (clang-1200.0.32.29)
GNU Fortran (GCC) 8.2.0
* running under: macOS Mojave 10.14.6
* using session charset: UTF-8
* using option ‘--no-vignettes’
* checking for file ‘PFP/DESCRIPTION’ ... OK
* checking extension type ... Package
* this is package ‘PFP’ version ‘1.7.0’
* package encoding: UTF-8
* checking package namespace information ... OK
* checking package dependencies ... OK
* checking if this is a source package ... OK
* checking if there is a namespace ... OK
* checking for hidden files and directories ... OK
* checking for portable file names ... OK
* checking for sufficient/correct file permissions ... OK
* checking whether package ‘PFP’ can be installed ... OK
* checking installed package size ... OK
* checking package directory ... OK
* checking ‘build’ directory ... OK
* checking DESCRIPTION meta-information ... OK
* checking top-level files ... OK
* checking for left-over files ... OK
* checking index information ... OK
* checking package subdirectories ... OK
* checking R files for non-ASCII characters ... OK
* checking R files for syntax errors ... OK
* checking whether the package can be loaded ... OK
* checking whether the package can be loaded with stated dependencies ... OK
* checking whether the package can be unloaded cleanly ... OK
* checking whether the namespace can be loaded with stated dependencies ... OK
* checking whether the namespace can be unloaded cleanly ... OK
* checking dependencies in R code ... OK
* checking S3 generic/method consistency ... OK
* checking replacement functions ... OK
* checking foreign function calls ... OK
* checking R code for possible problems ... OK
* checking Rd files ... OK
* checking Rd metadata ... OK
* checking Rd cross-references ... OK
* checking for missing documentation entries ... OK
* checking for code/documentation mismatches ... OK
* checking Rd \usage sections ... OK
* checking Rd contents ... OK
* checking for unstated dependencies in examples ... OK
* checking contents of ‘data’ directory ... OK
* checking data for non-ASCII characters ... OK
* checking data for ASCII and uncompressed saves ... OK
* checking files in ‘vignettes’ ... OK
* checking examples ... OK
Examples with CPU (user + system) or elapsed time > 5s
user system elapsed
calc_PFP_score 30.098 0.333 40.925
get_asso_net 4.969 0.068 6.234
get_pathway_info 0.161 0.005 7.853
* checking for unstated dependencies in ‘tests’ ... OK
* checking tests ...
Running ‘testthat.R’
OK
* checking for unstated dependencies in vignettes ... OK
* checking package vignettes in ‘inst/doc’ ... OK
* checking running R code from vignettes ... SKIPPED
* checking re-building of vignette outputs ... SKIPPED
* checking PDF version of manual ... OK
* DONE
Status: OK
PFP.Rcheck/00install.out
############################################################################## ############################################################################## ### ### Running command: ### ### /Library/Frameworks/R.framework/Resources/bin/R CMD INSTALL PFP ### ############################################################################## ############################################################################## * installing to library ‘/Library/Frameworks/R.framework/Versions/4.3/Resources/library’ * installing *source* package ‘PFP’ ... ** using staged installation ** R ** data ** byte-compile and prepare package for lazy loading ** help *** installing help indices ** building package indices ** installing vignettes ** testing if installed package can be loaded from temporary location ** testing if installed package can be loaded from final location ** testing if installed package keeps a record of temporary installation path * DONE (PFP)
PFP.Rcheck/tests/testthat.Rout
R Under development (unstable) (2023-01-10 r83596) -- "Unsuffered Consequences"
Copyright (C) 2023 The R Foundation for Statistical Computing
Platform: x86_64-apple-darwin17.0 (64-bit)
R is free software and comes with ABSOLUTELY NO WARRANTY.
You are welcome to redistribute it under certain conditions.
Type 'license()' or 'licence()' for distribution details.
R is a collaborative project with many contributors.
Type 'contributors()' for more information and
'citation()' on how to cite R or R packages in publications.
Type 'demo()' for some demos, 'help()' for on-line help, or
'help.start()' for an HTML browser interface to help.
Type 'q()' to quit R.
> library(testthat)
> library(PFP)
> test_check('PFP')
[ FAIL 0 | WARN 6 | SKIP 0 | PASS 31 ]
[ FAIL 0 | WARN 6 | SKIP 0 | PASS 31 ]
>
> proc.time()
user system elapsed
16.459 0.742 22.868
PFP.Rcheck/PFP-Ex.timings
| name | user | system | elapsed | |
| PFP-class | 0.301 | 0.042 | 0.482 | |
| PFPRefnet-class | 1.145 | 0.070 | 1.726 | |
| PFPRefnet_hsa | 0.631 | 0.018 | 0.918 | |
| PFPRefnet_mmu | 0.870 | 0.010 | 1.233 | |
| PFP_score-methods | 0.008 | 0.001 | 0.012 | |
| PFP_test1 | 0.009 | 0.001 | 0.017 | |
| PFP_test2 | 0.007 | 0.001 | 0.011 | |
| calc_PFP_score | 30.098 | 0.333 | 40.925 | |
| data_std | 0.017 | 0.002 | 0.023 | |
| gene_list_hsa | 0.002 | 0.002 | 0.003 | |
| genes_score-methods | 0.008 | 0.002 | 0.012 | |
| get_PFPRefnet | 0.001 | 0.000 | 0.000 | |
| get_asso_net | 4.969 | 0.068 | 6.234 | |
| get_bg_related_kegg | 3.841 | 0.085 | 4.999 | |
| get_exp_cor_edges | 0.236 | 0.013 | 0.308 | |
| get_pathway_info | 0.161 | 0.005 | 7.853 | |
| group-methods | 0.640 | 0.003 | 0.774 | |
| kegg_download | 0.001 | 0.000 | 0.001 | |
| net_info-methods | 0.643 | 0.004 | 0.873 | |
| net_names-methods | 0.629 | 0.008 | 0.798 | |
| network-methods | 0.636 | 0.009 | 0.826 | |
| pathway_info | 0.004 | 0.001 | 0.010 | |
| pathway_info_hsa | 0.003 | 0.001 | 0.004 | |
| pathways_score-methods | 0.008 | 0.002 | 0.013 | |
| plot_PFP-methods | 0.656 | 0.006 | 0.845 | |
| plot_PFPlist | 0.450 | 0.003 | 0.567 | |
| rank_PFP-methods | 0.289 | 0.043 | 0.414 | |
| refnet_info-methods | 0.008 | 0.002 | 0.014 | |
| refnet_names-methods | 0.009 | 0.002 | 0.012 | |
| result_PFP-methods | 0.011 | 0.002 | 0.015 | |
| show_PFP-methods | 0.013 | 0.005 | 0.025 | |
| show_net-methods | 0.637 | 0.004 | 0.884 | |
| stats_test-methods | 0.009 | 0.002 | 0.021 | |
| sub_PFP-methods | 0.294 | 0.038 | 0.438 | |
| subnet-methods | 0.668 | 0.003 | 0.907 | |
| trans_edges_id | 3.837 | 0.027 | 4.925 | |
| trans_graph2PFPRefnet | 1.164 | 0.050 | 1.485 | |
| trans_xml2graph | 0.001 | 0.000 | 0.004 | |