| Back to Multiple platform build/check report for BioC 3.17: simplified long | 
  | 
This page was generated on 2023-10-16 11:35:25 -0400 (Mon, 16 Oct 2023).
| Hostname | OS | Arch (*) | R version | Installed pkgs | 
|---|---|---|---|---|
| nebbiolo1 | Linux (Ubuntu 22.04.2 LTS) | x86_64 | 4.3.1 (2023-06-16) -- "Beagle Scouts" | 4626 | 
| palomino3 | Windows Server 2022 Datacenter | x64 | 4.3.1 (2023-06-16 ucrt) -- "Beagle Scouts" | 4379 | 
| merida1 | macOS 12.6.4 Monterey | x86_64 | 4.3.1 (2023-06-16) -- "Beagle Scouts" | 4395 | 
| Click on any hostname to see more info about the system (e.g. compilers) (*) as reported by 'uname -p', except on Windows and Mac OS X | ||||
| Package 925/2230 | Hostname | OS / Arch | INSTALL | BUILD | CHECK | BUILD BIN | ||||||||
| HiCBricks 1.18.0  (landing page) Koustav Pal 
  | nebbiolo1 | Linux (Ubuntu 22.04.2 LTS) / x86_64 | OK | OK | OK | |||||||||
| palomino3 | Windows Server 2022 Datacenter / x64 | OK | OK | OK | OK | |||||||||
| merida1 | macOS 12.6.4 Monterey / x86_64 | OK | OK | OK | OK | |||||||||
| kjohnson2 | macOS 12.6.1 Monterey / arm64 | see weekly results here | ||||||||||||
| 
To the developers/maintainers of the HiCBricks package: - Allow up to 24 hours (and sometimes 48 hours) for your latest push to git@git.bioconductor.org:packages/HiCBricks.git to reflect on this report. See Troubleshooting Build Report for more information. - Use the following Renviron settings to reproduce errors and warnings. - If 'R CMD check' started to fail recently on the Linux builder(s) over a missing dependency, add the missing dependency to 'Suggests:' in your DESCRIPTION file. See Renviron.bioc for more information.  | 
| Package: HiCBricks | 
| Version: 1.18.0 | 
| Command: /home/biocbuild/bbs-3.17-bioc/R/bin/R CMD check --install=check:HiCBricks.install-out.txt --library=/home/biocbuild/bbs-3.17-bioc/R/site-library --timings HiCBricks_1.18.0.tar.gz | 
| StartedAt: 2023-10-15 21:59:08 -0400 (Sun, 15 Oct 2023) | 
| EndedAt: 2023-10-15 22:02:20 -0400 (Sun, 15 Oct 2023) | 
| EllapsedTime: 191.9 seconds | 
| RetCode: 0 | 
| Status: OK | 
| CheckDir: HiCBricks.Rcheck | 
| Warnings: 0 | 
##############################################################################
##############################################################################
###
### Running command:
###
###   /home/biocbuild/bbs-3.17-bioc/R/bin/R CMD check --install=check:HiCBricks.install-out.txt --library=/home/biocbuild/bbs-3.17-bioc/R/site-library --timings HiCBricks_1.18.0.tar.gz
###
##############################################################################
##############################################################################
* using log directory ‘/home/biocbuild/bbs-3.17-bioc/meat/HiCBricks.Rcheck’
* using R version 4.3.1 (2023-06-16)
* using platform: x86_64-pc-linux-gnu (64-bit)
* R was compiled by
    gcc (Ubuntu 11.3.0-1ubuntu1~22.04.1) 11.3.0
    GNU Fortran (Ubuntu 11.3.0-1ubuntu1~22.04.1) 11.3.0
* running under: Ubuntu 22.04.3 LTS
* using session charset: UTF-8
* checking for file ‘HiCBricks/DESCRIPTION’ ... OK
* checking extension type ... Package
* this is package ‘HiCBricks’ version ‘1.18.0’
* package encoding: UTF-8
* checking package namespace information ... OK
* checking package dependencies ... OK
* checking if this is a source package ... OK
* checking if there is a namespace ... OK
* checking for hidden files and directories ... OK
* checking for portable file names ... OK
* checking for sufficient/correct file permissions ... OK
* checking whether package ‘HiCBricks’ can be installed ... OK
* checking installed package size ... OK
* checking package directory ... OK
* checking ‘build’ directory ... OK
* checking DESCRIPTION meta-information ... OK
* checking top-level files ... OK
* checking for left-over files ... OK
* checking index information ... OK
* checking package subdirectories ... OK
* checking R files for non-ASCII characters ... OK
* checking R files for syntax errors ... OK
* checking whether the package can be loaded ... OK
* checking whether the package can be loaded with stated dependencies ... OK
* checking whether the package can be unloaded cleanly ... OK
* checking whether the namespace can be loaded with stated dependencies ... OK
* checking whether the namespace can be unloaded cleanly ... OK
* checking loading without being on the library search path ... OK
* checking dependencies in R code ... OK
* checking S3 generic/method consistency ... OK
* checking replacement functions ... OK
* checking foreign function calls ... OK
* checking R code for possible problems ... OK
* checking Rd files ... OK
* checking Rd metadata ... OK
* checking Rd cross-references ... OK
* checking for missing documentation entries ... OK
* checking for code/documentation mismatches ... OK
* checking Rd \usage sections ... OK
* checking Rd contents ... OK
* checking for unstated dependencies in examples ... OK
* checking files in ‘vignettes’ ... OK
* checking examples ... OK
* checking for unstated dependencies in vignettes ... OK
* checking package vignettes in ‘inst/doc’ ... OK
* checking running R code from vignettes ...
  ‘IntroductionToHiCBricks.rmd’ using ‘UTF-8’... OK
 NONE
* checking re-building of vignette outputs ... OK
* checking PDF version of manual ... OK
* DONE
Status: OK
HiCBricks.Rcheck/00install.out
############################################################################## ############################################################################## ### ### Running command: ### ### /home/biocbuild/bbs-3.17-bioc/R/bin/R CMD INSTALL HiCBricks ### ############################################################################## ############################################################################## * installing to library ‘/home/biocbuild/bbs-3.17-bioc/R/site-library’ * installing *source* package ‘HiCBricks’ ... ** using staged installation ** R ** inst ** byte-compile and prepare package for lazy loading ** help *** installing help indices ** building package indices ** installing vignettes ** testing if installed package can be loaded from temporary location ** testing if installed package can be loaded from final location ** testing if installed package keeps a record of temporary installation path * DONE (HiCBricks)
HiCBricks.Rcheck/HiCBricks-Ex.timings
| name | user | system | elapsed | |
| BrickContainer_change_experiment_name | 1.176 | 0.036 | 1.229 | |
| BrickContainer_change_output_directory | 0.828 | 0.040 | 0.868 | |
| BrickContainer_get_path_to_file | 0.796 | 0.008 | 0.804 | |
| BrickContainer_list_chromosomes | 0.773 | 0.012 | 0.784 | |
| BrickContainer_list_experiment_name | 0.757 | 0.020 | 0.777 | |
| BrickContainer_list_files | 0.768 | 0.019 | 0.788 | |
| BrickContainer_list_output_directory | 0.770 | 0.012 | 0.782 | |
| BrickContainer_list_resolutions | 0.738 | 0.003 | 0.742 | |
| BrickContainer_unlink_resolution | 1.617 | 0.049 | 1.664 | |
| Brick_add_ranges | 1.748 | 0.056 | 1.804 | |
| Brick_call_compartments | 1.153 | 0.043 | 1.198 | |
| Brick_export_to_sparse | 2.174 | 0.084 | 2.257 | |
| Brick_fetch_range_index | 0.889 | 0.004 | 0.893 | |
| Brick_fetch_row_vector | 1.286 | 0.048 | 1.335 | |
| Brick_get_bintable | 1.092 | 0.016 | 1.108 | |
| Brick_get_chrominfo | 0.737 | 0.044 | 0.780 | |
| Brick_get_entire_matrix | 1.082 | 0.016 | 1.097 | |
| Brick_get_matrix | 1.016 | 0.024 | 1.041 | |
| Brick_get_matrix_mcols | 1.005 | 0.040 | 1.046 | |
| Brick_get_matrix_within_coords | 1.437 | 0.024 | 1.463 | |
| Brick_get_ranges | 0.765 | 0.008 | 0.772 | |
| Brick_get_values_by_distance | 1.147 | 0.028 | 1.175 | |
| Brick_get_vector_values | 1.035 | 0.056 | 1.091 | |
| Brick_list_matrices | 0.742 | 0.004 | 0.746 | |
| Brick_list_matrix_mcols | 0.733 | 0.008 | 0.740 | |
| Brick_list_mcool_normalisations | 0.001 | 0.000 | 0.000 | |
| Brick_list_mcool_resolutions | 0.001 | 0.000 | 0.000 | |
| Brick_list_rangekeys | 0.726 | 0.016 | 0.741 | |
| Brick_list_ranges_mcols | 0.721 | 0.048 | 0.770 | |
| Brick_load_cis_matrix_till_distance | 0.953 | 0.012 | 0.965 | |
| Brick_load_data_from_mcool | 0 | 0 | 0 | |
| Brick_load_data_from_sparse | 0 | 0 | 0 | |
| Brick_load_matrix | 0.987 | 0.041 | 1.028 | |
| Brick_local_score_differentiator | 1.621 | 0.040 | 1.662 | |
| Brick_make_ranges | 0.009 | 0.000 | 0.009 | |
| Brick_matrix_dimensions | 1.024 | 0.048 | 1.072 | |
| Brick_matrix_exists | 0.993 | 0.008 | 1.002 | |
| Brick_matrix_filename | 0.988 | 0.011 | 1.000 | |
| Brick_matrix_isdone | 1.056 | 0.016 | 1.072 | |
| Brick_matrix_issparse | 1.070 | 0.029 | 1.099 | |
| Brick_matrix_maxdist | 1.005 | 0.060 | 1.066 | |
| Brick_matrix_minmax | 1.054 | 0.012 | 1.085 | |
| Brick_mcool_normalisation_exists | 0 | 0 | 0 | |
| Brick_rangekey_exists | 0.748 | 0.008 | 0.755 | |
| Brick_return_region_position | 0.854 | 0.004 | 0.858 | |
| Brick_vizart_plot_heatmap | 1.897 | 0.044 | 1.940 | |
| Create_many_Bricks | 0.756 | 0.032 | 0.788 | |
| Create_many_Bricks_from_mcool | 0.000 | 0.000 | 0.001 | |
| load_BrickContainer | 0.835 | 0.028 | 0.863 | |