| Back to Multiple platform build/check report for BioC 3.17: simplified long | 
  | 
This page was generated on 2023-10-16 11:37:07 -0400 (Mon, 16 Oct 2023).
| Hostname | OS | Arch (*) | R version | Installed pkgs | 
|---|---|---|---|---|
| nebbiolo1 | Linux (Ubuntu 22.04.2 LTS) | x86_64 | 4.3.1 (2023-06-16) -- "Beagle Scouts" | 4626 | 
| palomino3 | Windows Server 2022 Datacenter | x64 | 4.3.1 (2023-06-16 ucrt) -- "Beagle Scouts" | 4379 | 
| merida1 | macOS 12.6.4 Monterey | x86_64 | 4.3.1 (2023-06-16) -- "Beagle Scouts" | 4395 | 
| Click on any hostname to see more info about the system (e.g. compilers) (*) as reported by 'uname -p', except on Windows and Mac OS X | ||||
| Package 925/2230 | Hostname | OS / Arch | INSTALL | BUILD | CHECK | BUILD BIN | ||||||||
| HiCBricks 1.18.0  (landing page) Koustav Pal 
  | nebbiolo1 | Linux (Ubuntu 22.04.2 LTS) / x86_64 | OK | OK | OK | |||||||||
| palomino3 | Windows Server 2022 Datacenter / x64 | OK | OK | OK | OK | |||||||||
| merida1 | macOS 12.6.4 Monterey / x86_64 | OK | OK | OK | OK | |||||||||
| kjohnson2 | macOS 12.6.1 Monterey / arm64 | see weekly results here | ||||||||||||
| 
To the developers/maintainers of the HiCBricks package: - Allow up to 24 hours (and sometimes 48 hours) for your latest push to git@git.bioconductor.org:packages/HiCBricks.git to reflect on this report. See Troubleshooting Build Report for more information. - Use the following Renviron settings to reproduce errors and warnings. - If 'R CMD check' started to fail recently on the Linux builder(s) over a missing dependency, add the missing dependency to 'Suggests:' in your DESCRIPTION file. See Renviron.bioc for more information.  | 
| Package: HiCBricks | 
| Version: 1.18.0 | 
| Command: /Library/Frameworks/R.framework/Resources/bin/R CMD check --install=check:HiCBricks.install-out.txt --library=/Library/Frameworks/R.framework/Resources/library --no-vignettes --timings HiCBricks_1.18.0.tar.gz | 
| StartedAt: 2023-10-16 02:35:33 -0400 (Mon, 16 Oct 2023) | 
| EndedAt: 2023-10-16 02:42:24 -0400 (Mon, 16 Oct 2023) | 
| EllapsedTime: 411.5 seconds | 
| RetCode: 0 | 
| Status: OK | 
| CheckDir: HiCBricks.Rcheck | 
| Warnings: 0 | 
##############################################################################
##############################################################################
###
### Running command:
###
###   /Library/Frameworks/R.framework/Resources/bin/R CMD check --install=check:HiCBricks.install-out.txt --library=/Library/Frameworks/R.framework/Resources/library --no-vignettes --timings HiCBricks_1.18.0.tar.gz
###
##############################################################################
##############################################################################
* using log directory ‘/Users/biocbuild/bbs-3.17-bioc/meat/HiCBricks.Rcheck’
* using R version 4.3.1 (2023-06-16)
* using platform: x86_64-apple-darwin20 (64-bit)
* R was compiled by
    Apple clang version 14.0.3 (clang-1403.0.22.14.1)
    GNU Fortran (GCC) 12.2.0
* running under: macOS Monterey 12.6.4
* using session charset: UTF-8
* using option ‘--no-vignettes’
* checking for file ‘HiCBricks/DESCRIPTION’ ... OK
* checking extension type ... Package
* this is package ‘HiCBricks’ version ‘1.18.0’
* package encoding: UTF-8
* checking package namespace information ... OK
* checking package dependencies ... OK
* checking if this is a source package ... OK
* checking if there is a namespace ... OK
* checking for hidden files and directories ... OK
* checking for portable file names ... OK
* checking for sufficient/correct file permissions ... OK
* checking whether package ‘HiCBricks’ can be installed ... OK
* checking installed package size ... OK
* checking package directory ... OK
* checking ‘build’ directory ... OK
* checking DESCRIPTION meta-information ... OK
* checking top-level files ... OK
* checking for left-over files ... OK
* checking index information ... OK
* checking package subdirectories ... OK
* checking R files for non-ASCII characters ... OK
* checking R files for syntax errors ... OK
* checking whether the package can be loaded ... OK
* checking whether the package can be loaded with stated dependencies ... OK
* checking whether the package can be unloaded cleanly ... OK
* checking whether the namespace can be loaded with stated dependencies ... OK
* checking whether the namespace can be unloaded cleanly ... OK
* checking dependencies in R code ... OK
* checking S3 generic/method consistency ... OK
* checking replacement functions ... OK
* checking foreign function calls ... OK
* checking R code for possible problems ... OK
* checking Rd files ... OK
* checking Rd metadata ... OK
* checking Rd cross-references ... OK
* checking for missing documentation entries ... OK
* checking for code/documentation mismatches ... OK
* checking Rd \usage sections ... OK
* checking Rd contents ... OK
* checking for unstated dependencies in examples ... OK
* checking files in ‘vignettes’ ... OK
* checking examples ... OK
Examples with CPU (user + system) or elapsed time > 5s
                                  user system elapsed
Brick_export_to_sparse           5.590  0.464   7.772
Brick_vizart_plot_heatmap        4.541  0.578   6.473
Brick_local_score_differentiator 3.939  0.582   5.752
BrickContainer_unlink_resolution 4.019  0.226   5.449
Brick_get_matrix_within_coords   3.660  0.478   5.398
Brick_add_ranges                 3.888  0.152   5.167
* checking for unstated dependencies in vignettes ... OK
* checking package vignettes in ‘inst/doc’ ... OK
* checking running R code from vignettes ... SKIPPED
* checking re-building of vignette outputs ... SKIPPED
* checking PDF version of manual ... OK
* DONE
Status: OK
HiCBricks.Rcheck/00install.out
############################################################################## ############################################################################## ### ### Running command: ### ### /Library/Frameworks/R.framework/Resources/bin/R CMD INSTALL HiCBricks ### ############################################################################## ############################################################################## * installing to library ‘/Library/Frameworks/R.framework/Versions/4.3-x86_64/Resources/library’ * installing *source* package ‘HiCBricks’ ... ** using staged installation ** R ** inst ** byte-compile and prepare package for lazy loading ** help *** installing help indices ** building package indices ** installing vignettes ** testing if installed package can be loaded from temporary location ** testing if installed package can be loaded from final location ** testing if installed package keeps a record of temporary installation path * DONE (HiCBricks)
HiCBricks.Rcheck/HiCBricks-Ex.timings
| name | user | system | elapsed | |
| BrickContainer_change_experiment_name | 2.685 | 0.172 | 3.890 | |
| BrickContainer_change_output_directory | 2.047 | 0.121 | 2.905 | |
| BrickContainer_get_path_to_file | 1.862 | 0.102 | 2.659 | |
| BrickContainer_list_chromosomes | 1.907 | 0.106 | 2.741 | |
| BrickContainer_list_experiment_name | 1.867 | 0.105 | 2.709 | |
| BrickContainer_list_files | 1.942 | 0.111 | 2.791 | |
| BrickContainer_list_output_directory | 1.832 | 0.105 | 2.577 | |
| BrickContainer_list_resolutions | 1.848 | 0.102 | 2.530 | |
| BrickContainer_unlink_resolution | 4.019 | 0.226 | 5.449 | |
| Brick_add_ranges | 3.888 | 0.152 | 5.167 | |
| Brick_call_compartments | 2.920 | 0.358 | 4.300 | |
| Brick_export_to_sparse | 5.590 | 0.464 | 7.772 | |
| Brick_fetch_range_index | 2.146 | 0.103 | 2.932 | |
| Brick_fetch_row_vector | 3.622 | 0.390 | 4.977 | |
| Brick_get_bintable | 1.886 | 0.111 | 2.511 | |
| Brick_get_chrominfo | 1.815 | 0.102 | 2.453 | |
| Brick_get_entire_matrix | 2.676 | 0.423 | 4.030 | |
| Brick_get_matrix | 2.606 | 0.335 | 3.804 | |
| Brick_get_matrix_mcols | 2.567 | 0.358 | 4.023 | |
| Brick_get_matrix_within_coords | 3.660 | 0.478 | 5.398 | |
| Brick_get_ranges | 1.964 | 0.111 | 2.646 | |
| Brick_get_values_by_distance | 2.852 | 0.409 | 4.149 | |
| Brick_get_vector_values | 2.663 | 0.384 | 3.957 | |
| Brick_list_matrices | 1.860 | 0.111 | 2.464 | |
| Brick_list_matrix_mcols | 1.824 | 0.110 | 2.406 | |
| Brick_list_mcool_normalisations | 0.001 | 0.001 | 0.002 | |
| Brick_list_mcool_resolutions | 0.000 | 0.001 | 0.001 | |
| Brick_list_rangekeys | 1.838 | 0.104 | 2.449 | |
| Brick_list_ranges_mcols | 1.828 | 0.105 | 2.448 | |
| Brick_load_cis_matrix_till_distance | 2.395 | 0.336 | 3.511 | |
| Brick_load_data_from_mcool | 0.000 | 0.000 | 0.001 | |
| Brick_load_data_from_sparse | 0.000 | 0.001 | 0.001 | |
| Brick_load_matrix | 2.505 | 0.391 | 3.739 | |
| Brick_local_score_differentiator | 3.939 | 0.582 | 5.752 | |
| Brick_make_ranges | 0.020 | 0.001 | 0.026 | |
| Brick_matrix_dimensions | 2.541 | 0.358 | 3.674 | |
| Brick_matrix_exists | 2.489 | 0.354 | 3.600 | |
| Brick_matrix_filename | 2.522 | 0.375 | 3.680 | |
| Brick_matrix_isdone | 2.496 | 0.340 | 3.573 | |
| Brick_matrix_issparse | 2.563 | 0.352 | 3.723 | |
| Brick_matrix_maxdist | 2.524 | 0.398 | 3.724 | |
| Brick_matrix_minmax | 2.502 | 0.401 | 3.687 | |
| Brick_mcool_normalisation_exists | 0.000 | 0.002 | 0.002 | |
| Brick_rangekey_exists | 1.867 | 0.116 | 2.500 | |
| Brick_return_region_position | 2.037 | 0.113 | 2.743 | |
| Brick_vizart_plot_heatmap | 4.541 | 0.578 | 6.473 | |
| Create_many_Bricks | 1.848 | 0.110 | 2.520 | |
| Create_many_Bricks_from_mcool | 0.000 | 0.001 | 0.001 | |
| load_BrickContainer | 1.942 | 0.116 | 2.581 | |