| Back to Mac ARM64 build report for BioC 3.16 |
|
This page was generated on 2023-04-19 11:01:49 -0400 (Wed, 19 Apr 2023).
| Hostname | OS | Arch (*) | R version | Installed pkgs |
|---|---|---|---|---|
| kjohnson | macOS 13.0 Ventura | arm64 | 4.2.2 (2022-10-31) -- "Innocent and Trusting" | 4256 |
| Click on any hostname to see more info about the system (e.g. compilers) (*) as reported by 'uname -p', except on Windows and Mac OS X | ||||
|
To the developers/maintainers of the impute package: Make sure to use the following settings in order to reproduce any error or warning you see on this page. |
| Package 969/2183 | Hostname | OS / Arch | INSTALL | BUILD | BUILD BIN | ||||||||
| impute 1.72.3 (landing page) Balasubramanian Narasimhan
| kjohnson | macOS 13.0 Ventura / arm64 | OK | OK | OK | ||||||||
| QUICK STATS | OS / Arch | INSTALL | BUILD | BUILD BIN | |||||||||||||
| kjohnson | macOS 13.0 Ventura / arm64 |
|
|
| |||||||||||||
| Package 1/31 | Hostname | OS / Arch | INSTALL | BUILD | BUILD BIN | ||||||||||||
| AMARETTO 1.14.0 (landing page) Olivier Gevaert
| kjohnson | macOS 13.0 Ventura / arm64 | OK | OK | OK | ||||||||||||
| Package 2/31 | Hostname | OS / Arch | INSTALL | BUILD | BUILD BIN | ||||||||||||
| biscuiteer 1.12.0 (landing page) Jacob Morrison
| kjohnson | macOS 13.0 Ventura / arm64 | OK | OK | OK | ||||||||||||
| Package 3/31 | Hostname | OS / Arch | INSTALL | BUILD | BUILD BIN | ||||||||||||
| CancerSubtypes 1.24.0 (landing page) Taosheng Xu
| kjohnson | macOS 13.0 Ventura / arm64 | OK | OK | OK | ||||||||||||
| Package 4/31 | Hostname | OS / Arch | INSTALL | BUILD | BUILD BIN | ||||||||||||
| CGHcall 2.60.0 (landing page) Mark van de Wiel
| kjohnson | macOS 13.0 Ventura / arm64 | OK | OK | OK | ||||||||||||
| Package 5/31 | Hostname | OS / Arch | INSTALL | BUILD | BUILD BIN | ||||||||||||
| ChAMP 2.28.0 (landing page) Yuan Tian
| kjohnson | macOS 13.0 Ventura / arm64 | OK | OK | OK | ||||||||||||
| Package 6/31 | Hostname | OS / Arch | INSTALL | BUILD | BUILD BIN | ||||||||||||
| cola 2.4.0 (landing page) Zuguang Gu
| kjohnson | macOS 13.0 Ventura / arm64 | OK | OK | OK | ||||||||||||
| Package 7/31 | Hostname | OS / Arch | INSTALL | BUILD | BUILD BIN | ||||||||||||
| DExMA 1.6.0 (landing page) Juan Antonio Villatoro-GarcĂa
| kjohnson | macOS 13.0 Ventura / arm64 | OK | OK | OK | ||||||||||||
| Package 8/31 | Hostname | OS / Arch | INSTALL | BUILD | BUILD BIN | ||||||||||||
| doppelgangR 1.26.0 (landing page) Levi Waldron
| kjohnson | macOS 13.0 Ventura / arm64 | OK | OK | OK | ||||||||||||
| Package 9/31 | Hostname | OS / Arch | INSTALL | BUILD | BUILD BIN | ||||||||||||
| EGAD 1.26.0 (landing page) Sara Ballouz
| kjohnson | macOS 13.0 Ventura / arm64 | OK | OK | OK | ||||||||||||
| Package 10/31 | Hostname | OS / Arch | INSTALL | BUILD | BUILD BIN | ||||||||||||
| ENmix 1.34.02 (landing page) Zongli Xu
| kjohnson | macOS 13.0 Ventura / arm64 | OK | OK | OK | ||||||||||||
| Package 11/31 | Hostname | OS / Arch | INSTALL | BUILD | BUILD BIN | ||||||||||||
| EpiMix 1.0.2 (landing page) Yuanning Zheng
| kjohnson | macOS 13.0 Ventura / arm64 | OK | ERROR | skipped | ||||||||||||
| Package 12/31 | Hostname | OS / Arch | INSTALL | BUILD | BUILD BIN | ||||||||||||
| fastLiquidAssociation 1.34.0 (landing page) Tina Gunderson
| kjohnson | macOS 13.0 Ventura / arm64 | OK | OK | OK | ||||||||||||
| Package 13/31 | Hostname | OS / Arch | INSTALL | BUILD | BUILD BIN | ||||||||||||
| genefu 2.30.0 (landing page) Benjamin Haibe-Kains
| kjohnson | macOS 13.0 Ventura / arm64 | OK | OK | OK | ||||||||||||
| Package 14/31 | Hostname | OS / Arch | INSTALL | BUILD | BUILD BIN | ||||||||||||
| genomation 1.30.0 (landing page) Altuna Akalin
| kjohnson | macOS 13.0 Ventura / arm64 | OK | OK | OK | ||||||||||||
| Package 15/31 | Hostname | OS / Arch | INSTALL | BUILD | BUILD BIN | ||||||||||||
| GEOexplorer 1.4.0 (landing page) Guy Hunt
| kjohnson | macOS 13.0 Ventura / arm64 | OK | OK | OK | ||||||||||||
| Package 16/31 | Hostname | OS / Arch | INSTALL | BUILD | BUILD BIN | ||||||||||||
| MAGAR 1.6.0 (landing page) Michael Scherer
| kjohnson | macOS 13.0 Ventura / arm64 | OK | OK | OK | ||||||||||||
| Package 17/31 | Hostname | OS / Arch | INSTALL | BUILD | BUILD BIN | ||||||||||||
| MatrixQCvis 1.6.1 (landing page) Thomas Naake
| kjohnson | macOS 13.0 Ventura / arm64 | OK | OK | OK | ||||||||||||
| Package 18/31 | Hostname | OS / Arch | INSTALL | BUILD | BUILD BIN | ||||||||||||
| MEAT 1.10.0 (landing page) Sarah Voisin
| kjohnson | macOS 13.0 Ventura / arm64 | OK | OK | OK | ||||||||||||
| Package 19/31 | Hostname | OS / Arch | INSTALL | BUILD | BUILD BIN | ||||||||||||
| methylclock 1.4.0 (landing page) Dolors Pelegri-Siso
| kjohnson | macOS 13.0 Ventura / arm64 | OK | OK | OK | ||||||||||||
| Package 20/31 | Hostname | OS / Arch | INSTALL | BUILD | BUILD BIN | ||||||||||||
| MethylMix 2.28.0 (landing page) Olivier Gevaert
| kjohnson | macOS 13.0 Ventura / arm64 | OK | OK | OK | ||||||||||||
| Package 21/31 | Hostname | OS / Arch | INSTALL | BUILD | BUILD BIN | ||||||||||||
| miRLAB 1.28.0 (landing page) Thuc Duy Le
| kjohnson | macOS 13.0 Ventura / arm64 | OK | OK | OK | ||||||||||||
| Package 22/31 | Hostname | OS / Arch | INSTALL | BUILD | BUILD BIN | ||||||||||||
| MSnbase 2.24.2 (landing page) Laurent Gatto
| kjohnson | macOS 13.0 Ventura / arm64 | OK | OK | OK | ||||||||||||
| Package 23/31 | Hostname | OS / Arch | INSTALL | BUILD | BUILD BIN | ||||||||||||
| netboost 2.6.1 (landing page) Pascal Schlosser
| kjohnson | macOS 13.0 Ventura / arm64 | OK | OK | OK | ||||||||||||
| Package 24/31 | Hostname | OS / Arch | INSTALL | BUILD | BUILD BIN | ||||||||||||
| Pigengene 1.24.0 (landing page) Habil Zare
| kjohnson | macOS 13.0 Ventura / arm64 | OK | OK | OK | ||||||||||||
| Package 25/31 | Hostname | OS / Arch | INSTALL | BUILD | BUILD BIN | ||||||||||||
| pmp 1.10.0 (landing page) Gavin Rhys Lloyd
| kjohnson | macOS 13.0 Ventura / arm64 | OK | OK | OK | ||||||||||||
| Package 26/31 | Hostname | OS / Arch | INSTALL | BUILD | BUILD BIN | ||||||||||||
| POMA 1.8.0 (landing page) Pol Castellano-Escuder
| kjohnson | macOS 13.0 Ventura / arm64 | OK | OK | OK | ||||||||||||
| Package 27/31 | Hostname | OS / Arch | INSTALL | BUILD | BUILD BIN | ||||||||||||
| REMP 1.22.0 (landing page) Yinan Zheng
| kjohnson | macOS 13.0 Ventura / arm64 | OK | OK | OK | ||||||||||||
| Package 28/31 | Hostname | OS / Arch | INSTALL | BUILD | BUILD BIN | ||||||||||||
| RNAAgeCalc 1.10.0 (landing page) Xu Ren
| kjohnson | macOS 13.0 Ventura / arm64 | OK | OK | OK | ||||||||||||
| Package 29/31 | Hostname | OS / Arch | INSTALL | BUILD | BUILD BIN | ||||||||||||
| Rnits 1.32.1 (landing page) Dipen P. Sangurdekar
| kjohnson | macOS 13.0 Ventura / arm64 | OK | ERROR | skipped | ||||||||||||
| Package 30/31 | Hostname | OS / Arch | INSTALL | BUILD | BUILD BIN | ||||||||||||
| statTarget 1.28.0 (landing page) Hemi Luan
| kjohnson | macOS 13.0 Ventura / arm64 | OK | OK | OK | ||||||||||||
| Package 31/31 | Hostname | OS / Arch | INSTALL | BUILD | BUILD BIN | ||||||||||||
| TIN 1.30.0 (landing page) Bjarne Johannessen
| kjohnson | macOS 13.0 Ventura / arm64 | OK | OK | OK | ||||||||||||