| Back to Mac ARM64 build report for BioC 3.16 | 
 | 
This page was generated on 2023-04-19 11:01:53 -0400 (Wed, 19 Apr 2023).
| Hostname | OS | Arch (*) | R version | Installed pkgs | 
|---|---|---|---|---|
| kjohnson | macOS 13.0 Ventura | arm64 | 4.2.2 (2022-10-31) -- "Innocent and Trusting" | 4256 | 
| Click on any hostname to see more info about the system (e.g. compilers) (*) as reported by 'uname -p', except on Windows and Mac OS X | ||||
| To the developers/maintainers of the VariantAnnotation package: Make sure to use the following settings in order to reproduce any error or warning you see on this page. | 
| Package 2133/2183 | Hostname | OS / Arch | INSTALL | BUILD | BUILD BIN | ||||||||
| VariantAnnotation 1.44.1  (landing page) Bioconductor Package Maintainer 
 | kjohnson | macOS 13.0 Ventura / arm64 | OK | OK | OK |  | |||||||
| QUICK STATS | OS / Arch | INSTALL | BUILD | BUILD BIN | |||||||||||||
| kjohnson | macOS 13.0 Ventura / arm64 | 
 | 
 | 
 | |||||||||||||
| Package 1/64 | Hostname | OS / Arch | INSTALL | BUILD | BUILD BIN | ||||||||||||
| AllelicImbalance 1.36.0  (landing page) Jesper R Gadin 
 | kjohnson | macOS 13.0 Ventura / arm64 | OK | OK | OK |  | |||||||||||
| Package 2/64 | Hostname | OS / Arch | INSTALL | BUILD | BUILD BIN | ||||||||||||
| APAlyzer 1.12.0  (landing page) Ruijia Wang 
 | kjohnson | macOS 13.0 Ventura / arm64 | OK | OK | OK |  | |||||||||||
| Package 3/64 | Hostname | OS / Arch | INSTALL | BUILD | BUILD BIN | ||||||||||||
| appreci8R 1.16.0  (landing page) Sarah Sandmann 
 | kjohnson | macOS 13.0 Ventura / arm64 | OK | OK | OK |  | |||||||||||
| Package 4/64 | Hostname | OS / Arch | INSTALL | BUILD | BUILD BIN | ||||||||||||
| BadRegionFinder 1.26.0  (landing page) Sarah Sandmann 
 | kjohnson | macOS 13.0 Ventura / arm64 | OK | OK | OK |  | |||||||||||
| Package 5/64 | Hostname | OS / Arch | INSTALL | BUILD | BUILD BIN | ||||||||||||
| BBCAnalyzer 1.28.0  (landing page) Sarah Sandmann 
 | kjohnson | macOS 13.0 Ventura / arm64 | OK | OK | OK |  | |||||||||||
| Package 6/64 | Hostname | OS / Arch | INSTALL | BUILD | BUILD BIN | ||||||||||||
| biovizBase 1.46.0  (landing page) Michael Lawrence 
 | kjohnson | macOS 13.0 Ventura / arm64 | OK | OK | OK |  | |||||||||||
| Package 7/64 | Hostname | OS / Arch | INSTALL | BUILD | BUILD BIN | ||||||||||||
| biscuiteer 1.12.0  (landing page) Jacob Morrison 
 | kjohnson | macOS 13.0 Ventura / arm64 | OK | OK | OK |  | |||||||||||
| Package 8/64 | Hostname | OS / Arch | INSTALL | BUILD | BUILD BIN | ||||||||||||
| cardelino 1.0.0  (landing page) Jeffrey Pullin 
 | kjohnson | macOS 13.0 Ventura / arm64 | OK | OK | OK |  | |||||||||||
| Package 9/64 | Hostname | OS / Arch | INSTALL | BUILD | BUILD BIN | ||||||||||||
| CNVfilteR 1.12.2  (landing page) Jose Marcos Moreno-Cabrera 
 | kjohnson | macOS 13.0 Ventura / arm64 | OK | OK | OK |  | |||||||||||
| Package 10/64 | Hostname | OS / Arch | INSTALL | BUILD | BUILD BIN | ||||||||||||
| CNVrd2 1.36.0  (landing page) Hoang Tan Nguyen 
 | kjohnson | macOS 13.0 Ventura / arm64 | OK | OK | OK |  | |||||||||||
| Package 11/64 | Hostname | OS / Arch | INSTALL | BUILD | BUILD BIN | ||||||||||||
| CopyNumberPlots 1.14.0  (landing page) Bernat Gel 
 | kjohnson | macOS 13.0 Ventura / arm64 | OK | OK | OK |  | |||||||||||
| Package 12/64 | Hostname | OS / Arch | INSTALL | BUILD | BUILD BIN | ||||||||||||
| crisprDesign 1.0.0  (landing page) Jean-Philippe Fortin 
 | kjohnson | macOS 13.0 Ventura / arm64 | OK | OK | OK |  | |||||||||||
| Package 13/64 | Hostname | OS / Arch | INSTALL | BUILD | BUILD BIN | ||||||||||||
| customProDB 1.38.0  (landing page) Xiaojing Wang 
 | kjohnson | macOS 13.0 Ventura / arm64 | OK | OK | OK |  | |||||||||||
| Package 14/64 | Hostname | OS / Arch | INSTALL | BUILD | BUILD BIN | ||||||||||||
| DAMEfinder 1.10.1  (landing page) Stephany Orjuela 
 | kjohnson | macOS 13.0 Ventura / arm64 | OK | OK | OK |  | |||||||||||
| Package 15/64 | Hostname | OS / Arch | INSTALL | BUILD | BUILD BIN | ||||||||||||
| decompTumor2Sig 2.14.0  (landing page) Rosario M. Piro 
 | kjohnson | macOS 13.0 Ventura / arm64 | OK | TIMEOUT | skipped | ||||||||||||
| Package 16/64 | Hostname | OS / Arch | INSTALL | BUILD | BUILD BIN | ||||||||||||
| deepSNV 1.44.0  (landing page) Moritz Gerstung 
 | kjohnson | macOS 13.0 Ventura / arm64 | OK | OK | OK |  | |||||||||||
| Package 17/64 | Hostname | OS / Arch | INSTALL | BUILD | BUILD BIN | ||||||||||||
| DominoEffect 1.18.0  (landing page) Marija Buljan 
 | kjohnson | macOS 13.0 Ventura / arm64 | OK | OK | OK |  | |||||||||||
| Package 18/64 | Hostname | OS / Arch | INSTALL | BUILD | BUILD BIN | ||||||||||||
| ensemblVEP 1.40.0  (landing page) Bioconductor Package Maintainer 
 | kjohnson | macOS 13.0 Ventura / arm64 | OK | ERROR | skipped | ||||||||||||
| Package 19/64 | Hostname | OS / Arch | INSTALL | BUILD | BUILD BIN | ||||||||||||
| epialleleR 1.6.1  (landing page) Oleksii Nikolaienko 
 | kjohnson | macOS 13.0 Ventura / arm64 | OK | OK | OK |  | |||||||||||
| Package 20/64 | Hostname | OS / Arch | INSTALL | BUILD | BUILD BIN | ||||||||||||
| fcScan 1.12.0  (landing page) Pierre Khoueiry 
 | kjohnson | macOS 13.0 Ventura / arm64 | OK | OK | OK |  | |||||||||||
| Package 21/64 | Hostname | OS / Arch | INSTALL | BUILD | BUILD BIN | ||||||||||||
| GA4GHclient 1.22.0  (landing page) Welliton Souza 
 | kjohnson | macOS 13.0 Ventura / arm64 | OK | OK | OK |  | |||||||||||
| Package 22/64 | Hostname | OS / Arch | INSTALL | BUILD | BUILD BIN | ||||||||||||
| genbankr 1.26.0  (landing page) Gabriel Becker 
 | kjohnson | macOS 13.0 Ventura / arm64 | OK | OK | OK |  | |||||||||||
| Package 23/64 | Hostname | OS / Arch | INSTALL | BUILD | BUILD BIN | ||||||||||||
| GenomicFiles 1.34.0  (landing page) Bioconductor Package Maintainer 
 | kjohnson | macOS 13.0 Ventura / arm64 | OK | OK | OK |  | |||||||||||
| Package 24/64 | Hostname | OS / Arch | INSTALL | BUILD | BUILD BIN | ||||||||||||
| genotypeeval 1.30.0  (landing page) Jennifer Tom 
 | kjohnson | macOS 13.0 Ventura / arm64 | OK | OK | OK |  | |||||||||||
| Package 25/64 | Hostname | OS / Arch | INSTALL | BUILD | BUILD BIN | ||||||||||||
| GenVisR 1.30.0  (landing page) Zachary Skidmore 
 | kjohnson | macOS 13.0 Ventura / arm64 | OK | OK | OK |  | |||||||||||
| Package 26/64 | Hostname | OS / Arch | INSTALL | BUILD | BUILD BIN | ||||||||||||
| ggbio 1.46.0  (landing page) Michael Lawrence 
 | kjohnson | macOS 13.0 Ventura / arm64 | OK | OK | OK |  | |||||||||||
| Package 27/64 | Hostname | OS / Arch | INSTALL | BUILD | BUILD BIN | ||||||||||||
| gmapR 1.40.0  (landing page) Michael Lawrence 
 | kjohnson | macOS 13.0 Ventura / arm64 | ERROR | ERROR | skipped | ||||||||||||
| Package 28/64 | Hostname | OS / Arch | INSTALL | BUILD | BUILD BIN | ||||||||||||
| gwascat 2.30.0  (landing page) VJ Carey 
 | kjohnson | macOS 13.0 Ventura / arm64 | OK | OK | OK |  | |||||||||||
| Package 29/64 | Hostname | OS / Arch | INSTALL | BUILD | BUILD BIN | ||||||||||||
| gwasurvivr 1.16.0  (landing page) Abbas Rizvi 
 | kjohnson | macOS 13.0 Ventura / arm64 | OK | OK | OK |  | |||||||||||
| Package 30/64 | Hostname | OS / Arch | INSTALL | BUILD | BUILD BIN | ||||||||||||
| HelloRanges 1.24.0  (landing page) Michael Lawrence 
 | kjohnson | macOS 13.0 Ventura / arm64 | OK | OK | OK |  | |||||||||||
| Package 31/64 | Hostname | OS / Arch | INSTALL | BUILD | BUILD BIN | ||||||||||||
| icetea 1.16.0  (landing page) Vivek Bhardwaj 
 | kjohnson | macOS 13.0 Ventura / arm64 | OK | OK | OK |  | |||||||||||
| Package 32/64 | Hostname | OS / Arch | INSTALL | BUILD | BUILD BIN | ||||||||||||
| igvR 1.18.1  (landing page) Paul Shannon 
 | kjohnson | macOS 13.0 Ventura / arm64 | OK | OK | OK |  | |||||||||||
| Package 33/64 | Hostname | OS / Arch | INSTALL | BUILD | BUILD BIN | ||||||||||||
| karyoploteR 1.24.0  (landing page) Bernat Gel 
 | kjohnson | macOS 13.0 Ventura / arm64 | OK | OK | OK |  | |||||||||||
| Package 34/64 | Hostname | OS / Arch | INSTALL | BUILD | BUILD BIN | ||||||||||||
| katdetectr 1.0.0  (landing page) Daan Hazelaar 
 | kjohnson | macOS 13.0 Ventura / arm64 | OK | OK | OK |  | |||||||||||
| Package 35/64 | Hostname | OS / Arch | INSTALL | BUILD | BUILD BIN | ||||||||||||
| lineagespot 1.2.0  (landing page) Nikolaos Pechlivanis 
 | kjohnson | macOS 13.0 Ventura / arm64 | OK | OK | OK |  | |||||||||||
| Package 36/64 | Hostname | OS / Arch | INSTALL | BUILD | BUILD BIN | ||||||||||||
| MADSEQ 1.24.0  (landing page) Yu Kong 
 | kjohnson | macOS 13.0 Ventura / arm64 | OK | OK | OK |  | |||||||||||
| Package 37/64 | Hostname | OS / Arch | INSTALL | BUILD | BUILD BIN | ||||||||||||
| MMAPPR2 1.12.0  (landing page) Jonathon Hill 
 | kjohnson | macOS 13.0 Ventura / arm64 | ERROR | ERROR | skipped | ||||||||||||
| Package 38/64 | Hostname | OS / Arch | INSTALL | BUILD | BUILD BIN | ||||||||||||
| motifbreakR 2.12.4  (landing page) Simon Gert Coetzee 
 | kjohnson | macOS 13.0 Ventura / arm64 | OK | TIMEOUT | skipped | ||||||||||||
| Package 39/64 | Hostname | OS / Arch | INSTALL | BUILD | BUILD BIN | ||||||||||||
| MungeSumstats 1.6.0  (landing page) Alan Murphy 
 | kjohnson | macOS 13.0 Ventura / arm64 | OK | OK | OK |  | |||||||||||
| Package 40/64 | Hostname | OS / Arch | INSTALL | BUILD | BUILD BIN | ||||||||||||
| musicatk 1.8.0  (landing page) Aaron Chevalier 
 | kjohnson | macOS 13.0 Ventura / arm64 | OK | OK | OK |  | |||||||||||
| Package 41/64 | Hostname | OS / Arch | INSTALL | BUILD | BUILD BIN | ||||||||||||
| MutationalPatterns 3.8.1  (landing page) Mark van Roosmalen 
 | kjohnson | macOS 13.0 Ventura / arm64 | OK | OK | OK |  | |||||||||||
| Package 42/64 | Hostname | OS / Arch | INSTALL | BUILD | BUILD BIN | ||||||||||||
| myvariant 1.28.0  (landing page) Adam Mark, Chunlei Wu 
 | kjohnson | macOS 13.0 Ventura / arm64 | OK | OK | OK |  | |||||||||||
| Package 43/64 | Hostname | OS / Arch | INSTALL | BUILD | BUILD BIN | ||||||||||||
| ProteoDisco 1.4.0  (landing page) Job van Riet 
 | kjohnson | macOS 13.0 Ventura / arm64 | OK | OK | OK |  | |||||||||||
| Package 44/64 | Hostname | OS / Arch | INSTALL | BUILD | BUILD BIN | ||||||||||||
| PureCN 2.4.0  (landing page) Markus Riester 
 | kjohnson | macOS 13.0 Ventura / arm64 | OK | OK | OK |  | |||||||||||
| Package 45/64 | Hostname | OS / Arch | INSTALL | BUILD | BUILD BIN | ||||||||||||
| R453Plus1Toolbox 1.48.0  (landing page) Hans-Ulrich Klein 
 | kjohnson | macOS 13.0 Ventura / arm64 | OK | OK | OK |  | |||||||||||
| Package 46/64 | Hostname | OS / Arch | INSTALL | BUILD | BUILD BIN | ||||||||||||
| RareVariantVis 2.26.0  (landing page) Tomasz Stokowy 
 | kjohnson | macOS 13.0 Ventura / arm64 | OK | OK | OK |  | |||||||||||
| Package 47/64 | Hostname | OS / Arch | INSTALL | BUILD | BUILD BIN | ||||||||||||
| scoreInvHap 1.20.0  (landing page) Dolors Pelegri-Siso 
 | kjohnson | macOS 13.0 Ventura / arm64 | OK | OK | OK |  | |||||||||||
| Package 48/64 | Hostname | OS / Arch | INSTALL | BUILD | BUILD BIN | ||||||||||||
| seqCAT 1.20.0  (landing page) Erik Fasterius 
 | kjohnson | macOS 13.0 Ventura / arm64 | OK | OK | OK |  | |||||||||||
| Package 49/64 | Hostname | OS / Arch | INSTALL | BUILD | BUILD BIN | ||||||||||||
| signeR 2.0.2  (landing page) Renan Valieris 
 | kjohnson | macOS 13.0 Ventura / arm64 | OK | OK | OK |  | |||||||||||
| Package 50/64 | Hostname | OS / Arch | INSTALL | BUILD | BUILD BIN | ||||||||||||
| SigsPack 1.12.0  (landing page) Franziska Schumann 
 | kjohnson | macOS 13.0 Ventura / arm64 | OK | OK | OK |  | |||||||||||
| Package 51/64 | Hostname | OS / Arch | INSTALL | BUILD | BUILD BIN | ||||||||||||
| SNPhood 1.28.0  (landing page) Christian Arnold 
 | kjohnson | macOS 13.0 Ventura / arm64 | OK | OK | OK |  | |||||||||||
| Package 52/64 | Hostname | OS / Arch | INSTALL | BUILD | BUILD BIN | ||||||||||||
| SomaticSignatures 2.34.0  (landing page) Julian Gehring 
 | kjohnson | macOS 13.0 Ventura / arm64 | OK | OK | OK |  | |||||||||||
| Package 53/64 | Hostname | OS / Arch | INSTALL | BUILD | BUILD BIN | ||||||||||||
| StructuralVariantAnnotation 1.14.1  (landing page) Daniel Cameron 
 | kjohnson | macOS 13.0 Ventura / arm64 | OK | OK | OK |  | |||||||||||
| Package 54/64 | Hostname | OS / Arch | INSTALL | BUILD | BUILD BIN | ||||||||||||
| svaNUMT 1.4.0  (landing page) Ruining Dong 
 | kjohnson | macOS 13.0 Ventura / arm64 | OK | OK | OK |  | |||||||||||
| Package 55/64 | Hostname | OS / Arch | INSTALL | BUILD | BUILD BIN | ||||||||||||
| svaRetro 1.4.0  (landing page) Ruining Dong 
 | kjohnson | macOS 13.0 Ventura / arm64 | OK | OK | OK |  | |||||||||||
| Package 56/64 | Hostname | OS / Arch | INSTALL | BUILD | BUILD BIN | ||||||||||||
| TitanCNA 1.36.0  (landing page) Gavin Ha 
 | kjohnson | macOS 13.0 Ventura / arm64 | OK | OK | OK |  | |||||||||||
| Package 57/64 | Hostname | OS / Arch | INSTALL | BUILD | BUILD BIN | ||||||||||||
| tLOH 1.6.0  (landing page) Michelle Webb 
 | kjohnson | macOS 13.0 Ventura / arm64 | OK | OK | OK |  | |||||||||||
| Package 58/64 | Hostname | OS / Arch | INSTALL | BUILD | BUILD BIN | ||||||||||||
| TVTB 1.24.0  (landing page) Kevin Rue-Albrecht 
 | kjohnson | macOS 13.0 Ventura / arm64 | OK | OK | OK |  | |||||||||||
| Package 59/64 | Hostname | OS / Arch | INSTALL | BUILD | BUILD BIN | ||||||||||||
| Uniquorn 2.18.0  (landing page) 'Raik Otto' 
 | kjohnson | macOS 13.0 Ventura / arm64 | OK | OK | OK |  | |||||||||||
| Package 60/64 | Hostname | OS / Arch | INSTALL | BUILD | BUILD BIN | ||||||||||||
| VariantFiltering 1.34.0  (landing page) Robert Castelo 
 | kjohnson | macOS 13.0 Ventura / arm64 | OK | ERROR | skipped | ||||||||||||
| Package 61/64 | Hostname | OS / Arch | INSTALL | BUILD | BUILD BIN | ||||||||||||
| VariantTools 1.40.0  (landing page) Michael Lawrence 
 | kjohnson | macOS 13.0 Ventura / arm64 | OK | OK | OK |  | |||||||||||
| Package 62/64 | Hostname | OS / Arch | INSTALL | BUILD | BUILD BIN | ||||||||||||
| VCFArray 1.14.0  (landing page) Qian Liu 
 | kjohnson | macOS 13.0 Ventura / arm64 | OK | OK | OK |  | |||||||||||
| Package 63/64 | Hostname | OS / Arch | INSTALL | BUILD | BUILD BIN | ||||||||||||
| Renan Sauteraud 
 | kjohnson | macOS 13.0 Ventura / arm64 | OK | ERROR | skipped | ||||||||||||
| Package 64/64 | Hostname | OS / Arch | INSTALL | BUILD | BUILD BIN | ||||||||||||
| YAPSA 1.24.0  (landing page) Daniel Huebschmann 
 | kjohnson | macOS 13.0 Ventura / arm64 | OK | OK | OK |  | |||||||||||