| Back to Mac ARM64 build report for BioC 3.16 | 
 | 
This page was generated on 2023-04-19 11:01:49 -0400 (Wed, 19 Apr 2023).
| Hostname | OS | Arch (*) | R version | Installed pkgs | 
|---|---|---|---|---|
| kjohnson | macOS 13.0 Ventura | arm64 | 4.2.2 (2022-10-31) -- "Innocent and Trusting" | 4256 | 
| Click on any hostname to see more info about the system (e.g. compilers) (*) as reported by 'uname -p', except on Windows and Mac OS X | ||||
| To the developers/maintainers of the GenomicAlignments package: Make sure to use the following settings in order to reproduce any error or warning you see on this page. | 
| Package 782/2183 | Hostname | OS / Arch | INSTALL | BUILD | BUILD BIN | ||||||||
| GenomicAlignments 1.34.1  (landing page) Hervé Pagès 
 | kjohnson | macOS 13.0 Ventura / arm64 | OK | OK | OK |  | |||||||
| QUICK STATS | OS / Arch | INSTALL | BUILD | BUILD BIN | |||||||||||||
| kjohnson | macOS 13.0 Ventura / arm64 | 
 | 
 | 
 | |||||||||||||
| Package 1/110 | Hostname | OS / Arch | INSTALL | BUILD | BUILD BIN | ||||||||||||
| AllelicImbalance 1.36.0  (landing page) Jesper R Gadin 
 | kjohnson | macOS 13.0 Ventura / arm64 | OK | OK | OK |  | |||||||||||
| Package 2/110 | Hostname | OS / Arch | INSTALL | BUILD | BUILD BIN | ||||||||||||
| alpine 1.24.0  (landing page) Michael Love 
 | kjohnson | macOS 13.0 Ventura / arm64 | OK | OK | OK |  | |||||||||||
| Package 3/110 | Hostname | OS / Arch | INSTALL | BUILD | BUILD BIN | ||||||||||||
| AneuFinder 1.26.0  (landing page) Aaron Taudt 
 | kjohnson | macOS 13.0 Ventura / arm64 | ERROR | ERROR | skipped | ||||||||||||
| Package 4/110 | Hostname | OS / Arch | INSTALL | BUILD | BUILD BIN | ||||||||||||
| APAlyzer 1.12.0  (landing page) Ruijia Wang 
 | kjohnson | macOS 13.0 Ventura / arm64 | OK | OK | OK |  | |||||||||||
| Package 5/110 | Hostname | OS / Arch | INSTALL | BUILD | BUILD BIN | ||||||||||||
| ASpediaFI 1.12.0  (landing page) Doyeong Yu 
 | kjohnson | macOS 13.0 Ventura / arm64 | ERROR | ERROR | skipped | ||||||||||||
| Package 6/110 | Hostname | OS / Arch | INSTALL | BUILD | BUILD BIN | ||||||||||||
| ASpli 2.8.0  (landing page) Estefania Mancini 
 | kjohnson | macOS 13.0 Ventura / arm64 | OK | OK | OK |  | |||||||||||
| Package 7/110 | Hostname | OS / Arch | INSTALL | BUILD | BUILD BIN | ||||||||||||
| ATACseqQC 1.22.0  (landing page) Jianhong Ou 
 | kjohnson | macOS 13.0 Ventura / arm64 | OK | OK | OK |  | |||||||||||
| Package 8/110 | Hostname | OS / Arch | INSTALL | BUILD | BUILD BIN | ||||||||||||
| ATACseqTFEA 1.0.1  (landing page) Jianhong Ou 
 | kjohnson | macOS 13.0 Ventura / arm64 | OK | OK | OK |  | |||||||||||
| Package 9/110 | Hostname | OS / Arch | INSTALL | BUILD | BUILD BIN | ||||||||||||
| atena 1.4.1  (landing page) Beatriz Calvo-Serra 
 | kjohnson | macOS 13.0 Ventura / arm64 | OK | OK | OK |  | |||||||||||
| Package 10/110 | Hostname | OS / Arch | INSTALL | BUILD | BUILD BIN | ||||||||||||
| BaalChIP 1.24.0  (landing page) Ines de Santiago 
 | kjohnson | macOS 13.0 Ventura / arm64 | OK | OK | OK |  | |||||||||||
| Package 11/110 | Hostname | OS / Arch | INSTALL | BUILD | BUILD BIN | ||||||||||||
| bambu 3.0.8  (landing page) Ying Chen 
 | kjohnson | macOS 13.0 Ventura / arm64 | OK | OK | OK |  | |||||||||||
| Package 12/110 | Hostname | OS / Arch | INSTALL | BUILD | BUILD BIN | ||||||||||||
| Basic4Cseq 1.34.0  (landing page) Carolin Walter 
 | kjohnson | macOS 13.0 Ventura / arm64 | OK | OK | OK |  | |||||||||||
| Package 13/110 | Hostname | OS / Arch | INSTALL | BUILD | BUILD BIN | ||||||||||||
| BasicSTARRseq 1.26.0  (landing page) Annika Buerger 
 | kjohnson | macOS 13.0 Ventura / arm64 | OK | OK | OK |  | |||||||||||
| Package 14/110 | Hostname | OS / Arch | INSTALL | BUILD | BUILD BIN | ||||||||||||
| biovizBase 1.46.0  (landing page) Michael Lawrence 
 | kjohnson | macOS 13.0 Ventura / arm64 | OK | OK | OK |  | |||||||||||
| Package 15/110 | Hostname | OS / Arch | INSTALL | BUILD | BUILD BIN | ||||||||||||
| breakpointR 1.16.0  (landing page) David Porubsky 
 | kjohnson | macOS 13.0 Ventura / arm64 | OK | OK | OK |  | |||||||||||
| Package 16/110 | Hostname | OS / Arch | INSTALL | BUILD | BUILD BIN | ||||||||||||
| BRGenomics 1.10.0  (landing page) Mike DeBerardine 
 | kjohnson | macOS 13.0 Ventura / arm64 | OK | OK | OK |  | |||||||||||
| Package 17/110 | Hostname | OS / Arch | INSTALL | BUILD | BUILD BIN | ||||||||||||
| CAGEfightR 1.18.0  (landing page) Malte Thodberg 
 | kjohnson | macOS 13.0 Ventura / arm64 | OK | OK | OK |  | |||||||||||
| Package 18/110 | Hostname | OS / Arch | INSTALL | BUILD | BUILD BIN | ||||||||||||
| CAGEr 2.4.0  (landing page) Charles Plessy 
 | kjohnson | macOS 13.0 Ventura / arm64 | OK | OK | OK |  | |||||||||||
| Package 19/110 | Hostname | OS / Arch | INSTALL | BUILD | BUILD BIN | ||||||||||||
| cfDNAPro 1.4.0  (landing page) Haichao Wang 
 | kjohnson | macOS 13.0 Ventura / arm64 | OK | OK | OK |  | |||||||||||
| Package 20/110 | Hostname | OS / Arch | INSTALL | BUILD | BUILD BIN | ||||||||||||
| chimeraviz 1.24.0  (landing page) Stian Lågstad 
 | kjohnson | macOS 13.0 Ventura / arm64 | OK | OK | OK |  | |||||||||||
| Package 21/110 | Hostname | OS / Arch | INSTALL | BUILD | BUILD BIN | ||||||||||||
| ChIPexoQual 1.22.0  (landing page) Rene Welch 
 | kjohnson | macOS 13.0 Ventura / arm64 | OK | OK | OK |  | |||||||||||
| Package 22/110 | Hostname | OS / Arch | INSTALL | BUILD | BUILD BIN | ||||||||||||
| ChIPpeakAnno 3.32.0  (landing page) Jianhong Ou 
 | kjohnson | macOS 13.0 Ventura / arm64 | OK | OK | OK |  | |||||||||||
| Package 23/110 | Hostname | OS / Arch | INSTALL | BUILD | BUILD BIN | ||||||||||||
| ChIPQC 1.34.1  (landing page) Tom Carroll 
 | kjohnson | macOS 13.0 Ventura / arm64 | OK | OK | OK |  | |||||||||||
| Package 24/110 | Hostname | OS / Arch | INSTALL | BUILD | BUILD BIN | ||||||||||||
| chromstaR 1.24.0  (landing page) Aaron Taudt 
 | kjohnson | macOS 13.0 Ventura / arm64 | OK | OK | OK |  | |||||||||||
| Package 25/110 | Hostname | OS / Arch | INSTALL | BUILD | BUILD BIN | ||||||||||||
| CNEr 1.34.0  (landing page) Ge Tan 
 | kjohnson | macOS 13.0 Ventura / arm64 | OK | OK | OK |  | |||||||||||
| Package 26/110 | Hostname | OS / Arch | INSTALL | BUILD | BUILD BIN | ||||||||||||
| consensusDE 1.16.0  (landing page) Ashley J. Waardenberg 
 | kjohnson | macOS 13.0 Ventura / arm64 | OK | OK | OK |  | |||||||||||
| Package 27/110 | Hostname | OS / Arch | INSTALL | BUILD | BUILD BIN | ||||||||||||
| contiBAIT 1.26.0  (landing page) Kieran O'Neill 
 | kjohnson | macOS 13.0 Ventura / arm64 | OK | OK | OK |  | |||||||||||
| Package 28/110 | Hostname | OS / Arch | INSTALL | BUILD | BUILD BIN | ||||||||||||
| CopywriteR 2.30.0  (landing page) Oscar Krijgsman 
 | kjohnson | macOS 13.0 Ventura / arm64 | OK | OK | OK |  | |||||||||||
| Package 29/110 | Hostname | OS / Arch | INSTALL | BUILD | BUILD BIN | ||||||||||||
| CoverageView 1.36.0  (landing page) Ernesto Lowy 
 | kjohnson | macOS 13.0 Ventura / arm64 | OK | OK | OK |  | |||||||||||
| Package 30/110 | Hostname | OS / Arch | INSTALL | BUILD | BUILD BIN | ||||||||||||
| CrispRVariants 1.26.0  (landing page) Helen Lindsay 
 | kjohnson | macOS 13.0 Ventura / arm64 | OK | OK | OK |  | |||||||||||
| Package 31/110 | Hostname | OS / Arch | INSTALL | BUILD | BUILD BIN | ||||||||||||
| CSSQ 1.10.0  (landing page) Fan Lab at Georgia Institute of Technology 
 | kjohnson | macOS 13.0 Ventura / arm64 | OK | OK | OK |  | |||||||||||
| Package 32/110 | Hostname | OS / Arch | INSTALL | BUILD | BUILD BIN | ||||||||||||
| customProDB 1.38.0  (landing page) Xiaojing Wang 
 | kjohnson | macOS 13.0 Ventura / arm64 | OK | OK | OK |  | |||||||||||
| Package 33/110 | Hostname | OS / Arch | INSTALL | BUILD | BUILD BIN | ||||||||||||
| DAMEfinder 1.10.1  (landing page) Stephany Orjuela 
 | kjohnson | macOS 13.0 Ventura / arm64 | OK | OK | OK |  | |||||||||||
| Package 34/110 | Hostname | OS / Arch | INSTALL | BUILD | BUILD BIN | ||||||||||||
| DegNorm 1.8.2  (landing page) Ji-Ping Wang 
 | kjohnson | macOS 13.0 Ventura / arm64 | OK | OK | OK |  | |||||||||||
| Package 35/110 | Hostname | OS / Arch | INSTALL | BUILD | BUILD BIN | ||||||||||||
| derfinder 1.32.0  (landing page) Leonardo Collado-Torres 
 | kjohnson | macOS 13.0 Ventura / arm64 | OK | OK | OK |  | |||||||||||
| Package 36/110 | Hostname | OS / Arch | INSTALL | BUILD | BUILD BIN | ||||||||||||
| DEScan2 1.18.2  (landing page) Dario Righelli 
 | kjohnson | macOS 13.0 Ventura / arm64 | OK | OK | OK |  | |||||||||||
| Package 37/110 | Hostname | OS / Arch | INSTALL | BUILD | BUILD BIN | ||||||||||||
| DiffBind 3.8.4  (landing page) Rory Stark 
 | kjohnson | macOS 13.0 Ventura / arm64 | OK | OK | OK |  | |||||||||||
| Package 38/110 | Hostname | OS / Arch | INSTALL | BUILD | BUILD BIN | ||||||||||||
| DNAfusion 1.0.0  (landing page) Christoffer Trier Maansson 
 | kjohnson | macOS 13.0 Ventura / arm64 | OK | OK | OK |  | |||||||||||
| Package 39/110 | Hostname | OS / Arch | INSTALL | BUILD | BUILD BIN | ||||||||||||
| easyRNASeq 2.34.0  (landing page) Nicolas Delhomme 
 | kjohnson | macOS 13.0 Ventura / arm64 | OK | OK | OK |  | |||||||||||
| Package 40/110 | Hostname | OS / Arch | INSTALL | BUILD | BUILD BIN | ||||||||||||
| esATAC 1.20.0  (landing page) Zheng Wei 
 | kjohnson | macOS 13.0 Ventura / arm64 | OK | OK | OK |  | |||||||||||
| Package 41/110 | Hostname | OS / Arch | INSTALL | BUILD | BUILD BIN | ||||||||||||
| exomePeak2 1.10.0  (landing page) Zhen Wei 
 | kjohnson | macOS 13.0 Ventura / arm64 | OK | OK | OK |  | |||||||||||
| Package 42/110 | Hostname | OS / Arch | INSTALL | BUILD | BUILD BIN | ||||||||||||
| FRASER 1.10.2  (landing page) Christian Mertes 
 | kjohnson | macOS 13.0 Ventura / arm64 | OK | OK | OK |  | |||||||||||
| Package 43/110 | Hostname | OS / Arch | INSTALL | BUILD | BUILD BIN | ||||||||||||
| FunChIP 1.24.0  (landing page) Alice Parodi 
 | kjohnson | macOS 13.0 Ventura / arm64 | OK | OK | OK |  | |||||||||||
| Package 44/110 | Hostname | OS / Arch | INSTALL | BUILD | BUILD BIN | ||||||||||||
| gcapc 1.22.0  (landing page) Mingxiang Teng 
 | kjohnson | macOS 13.0 Ventura / arm64 | OK | OK | OK |  | |||||||||||
| Package 45/110 | Hostname | OS / Arch | INSTALL | BUILD | BUILD BIN | ||||||||||||
| genomation 1.30.0  (landing page) Altuna Akalin 
 | kjohnson | macOS 13.0 Ventura / arm64 | OK | OK | OK |  | |||||||||||
| Package 46/110 | Hostname | OS / Arch | INSTALL | BUILD | BUILD BIN | ||||||||||||
| GenomicFiles 1.34.0  (landing page) Bioconductor Package Maintainer 
 | kjohnson | macOS 13.0 Ventura / arm64 | OK | OK | OK |  | |||||||||||
| Package 47/110 | Hostname | OS / Arch | INSTALL | BUILD | BUILD BIN | ||||||||||||
| ggbio 1.46.0  (landing page) Michael Lawrence 
 | kjohnson | macOS 13.0 Ventura / arm64 | OK | OK | OK |  | |||||||||||
| Package 48/110 | Hostname | OS / Arch | INSTALL | BUILD | BUILD BIN | ||||||||||||
| gmapR 1.40.0  (landing page) Michael Lawrence 
 | kjohnson | macOS 13.0 Ventura / arm64 | ERROR | ERROR | skipped | ||||||||||||
| Package 49/110 | Hostname | OS / Arch | INSTALL | BUILD | BUILD BIN | ||||||||||||
| gmoviz 1.10.0  (landing page) Kathleen Zeglinski 
 | kjohnson | macOS 13.0 Ventura / arm64 | OK | OK | OK |  | |||||||||||
| Package 50/110 | Hostname | OS / Arch | INSTALL | BUILD | BUILD BIN | ||||||||||||
| GreyListChIP 1.30.0  (landing page) Rory Stark 
 | kjohnson | macOS 13.0 Ventura / arm64 | OK | OK | OK |  | |||||||||||
| Package 51/110 | Hostname | OS / Arch | INSTALL | BUILD | BUILD BIN | ||||||||||||
| groHMM 1.32.0  (landing page) Tulip Nandu 
 | kjohnson | macOS 13.0 Ventura / arm64 | OK | OK | OK |  | |||||||||||
| Package 52/110 | Hostname | OS / Arch | INSTALL | BUILD | BUILD BIN | ||||||||||||
| GUIDEseq 1.28.0  (landing page) Lihua Julie Zhu 
 | kjohnson | macOS 13.0 Ventura / arm64 | OK | OK | OK |  | |||||||||||
| Package 53/110 | Hostname | OS / Arch | INSTALL | BUILD | BUILD BIN | ||||||||||||
| Gviz 1.42.1  (landing page) Robert Ivanek 
 | kjohnson | macOS 13.0 Ventura / arm64 | OK | OK | OK |  | |||||||||||
| Package 54/110 | Hostname | OS / Arch | INSTALL | BUILD | BUILD BIN | ||||||||||||
| HelloRanges 1.24.0  (landing page) Michael Lawrence 
 | kjohnson | macOS 13.0 Ventura / arm64 | OK | OK | OK |  | |||||||||||
| Package 55/110 | Hostname | OS / Arch | INSTALL | BUILD | BUILD BIN | ||||||||||||
| hiReadsProcessor 1.34.0  (landing page) Nirav V Malani 
 | kjohnson | macOS 13.0 Ventura / arm64 | OK | OK | OK |  | |||||||||||
| Package 56/110 | Hostname | OS / Arch | INSTALL | BUILD | BUILD BIN | ||||||||||||
| icetea 1.16.0  (landing page) Vivek Bhardwaj 
 | kjohnson | macOS 13.0 Ventura / arm64 | OK | OK | OK |  | |||||||||||
| Package 57/110 | Hostname | OS / Arch | INSTALL | BUILD | BUILD BIN | ||||||||||||
| igvR 1.18.1  (landing page) Paul Shannon 
 | kjohnson | macOS 13.0 Ventura / arm64 | OK | OK | OK |  | |||||||||||
| Package 58/110 | Hostname | OS / Arch | INSTALL | BUILD | BUILD BIN | ||||||||||||
| IMAS 1.22.0  (landing page) Seonggyun Han 
 | kjohnson | macOS 13.0 Ventura / arm64 | OK | OK | OK |  | |||||||||||
| Package 59/110 | Hostname | OS / Arch | INSTALL | BUILD | BUILD BIN | ||||||||||||
| INSPEcT 1.28.0  (landing page) Stefano de Pretis 
 | kjohnson | macOS 13.0 Ventura / arm64 | OK | OK | OK |  | |||||||||||
| Package 60/110 | Hostname | OS / Arch | INSTALL | BUILD | BUILD BIN | ||||||||||||
| IntEREst 1.22.2  (landing page) Ali Oghabian 
 | kjohnson | macOS 13.0 Ventura / arm64 | OK | OK | OK |  | |||||||||||
| Package 61/110 | Hostname | OS / Arch | INSTALL | BUILD | BUILD BIN | ||||||||||||
| Ioannis Vardaxis 
 | kjohnson | macOS 13.0 Ventura / arm64 | ERROR | ERROR | skipped | ||||||||||||
| Package 62/110 | Hostname | OS / Arch | INSTALL | BUILD | BUILD BIN | ||||||||||||
| MADSEQ 1.24.0  (landing page) Yu Kong 
 | kjohnson | macOS 13.0 Ventura / arm64 | OK | OK | OK |  | |||||||||||
| Package 63/110 | Hostname | OS / Arch | INSTALL | BUILD | BUILD BIN | ||||||||||||
| MDTS 1.18.0  (landing page) Jack M.. Fu 
 | kjohnson | macOS 13.0 Ventura / arm64 | OK | OK | OK |  | |||||||||||
| Package 64/110 | Hostname | OS / Arch | INSTALL | BUILD | BUILD BIN | ||||||||||||
| metagene 2.30.0  (landing page) Charles Joly Beauparlant 
 | kjohnson | macOS 13.0 Ventura / arm64 | OK | OK | OK |  | |||||||||||
| Package 65/110 | Hostname | OS / Arch | INSTALL | BUILD | BUILD BIN | ||||||||||||
| metagene2 1.14.0  (landing page) Eric Fournier 
 | kjohnson | macOS 13.0 Ventura / arm64 | OK | OK | OK |  | |||||||||||
| Package 66/110 | Hostname | OS / Arch | INSTALL | BUILD | BUILD BIN | ||||||||||||
| metaseqR2 1.10.0  (landing page) Panagiotis Moulos 
 | kjohnson | macOS 13.0 Ventura / arm64 | OK | OK | OK |  | |||||||||||
| Package 67/110 | Hostname | OS / Arch | INSTALL | BUILD | BUILD BIN | ||||||||||||
| methylPipe 1.32.0  (landing page) Kamal Kishore 
 | kjohnson | macOS 13.0 Ventura / arm64 | OK | OK | OK |  | |||||||||||
| Package 68/110 | Hostname | OS / Arch | INSTALL | BUILD | BUILD BIN | ||||||||||||
| mosaics 2.36.0  (landing page) Dongjun Chung 
 | kjohnson | macOS 13.0 Ventura / arm64 | OK | OK | OK |  | |||||||||||
| Package 69/110 | Hostname | OS / Arch | INSTALL | BUILD | BUILD BIN | ||||||||||||
| Motif2Site 1.2.0  (landing page) Peyman Zarrineh 
 | kjohnson | macOS 13.0 Ventura / arm64 | OK | OK | OK |  | |||||||||||
| Package 70/110 | Hostname | OS / Arch | INSTALL | BUILD | BUILD BIN | ||||||||||||
| msgbsR 1.22.0  (landing page) Benjamin Mayne 
 | kjohnson | macOS 13.0 Ventura / arm64 | OK | OK | OK |  | |||||||||||
| Package 71/110 | Hostname | OS / Arch | INSTALL | BUILD | BUILD BIN | ||||||||||||
| NADfinder 1.22.0  (landing page) Jianhong Ou 
 | kjohnson | macOS 13.0 Ventura / arm64 | OK | OK | OK |  | |||||||||||
| Package 72/110 | Hostname | OS / Arch | INSTALL | BUILD | BUILD BIN | ||||||||||||
| ORFik 1.18.2  (landing page) Haakon Tjeldnes 
 | kjohnson | macOS 13.0 Ventura / arm64 | OK | OK | OK |  | |||||||||||
| Package 73/110 | Hostname | OS / Arch | INSTALL | BUILD | BUILD BIN | ||||||||||||
| PICS 2.42.0  (landing page) Renan Sauteraud 
 | kjohnson | macOS 13.0 Ventura / arm64 | OK | OK | OK |  | |||||||||||
| Package 74/110 | Hostname | OS / Arch | INSTALL | BUILD | BUILD BIN | ||||||||||||
| plyranges 1.18.0  (landing page) Stuart Lee 
 | kjohnson | macOS 13.0 Ventura / arm64 | OK | OK | OK |  | |||||||||||
| Package 75/110 | Hostname | OS / Arch | INSTALL | BUILD | BUILD BIN | ||||||||||||
| pram 1.14.0  (landing page) Peng Liu 
 | kjohnson | macOS 13.0 Ventura / arm64 | OK | OK | OK |  | |||||||||||
| Package 76/110 | Hostname | OS / Arch | INSTALL | BUILD | BUILD BIN | ||||||||||||
| prebs 1.38.0  (landing page) Karolis Uziela 
 | kjohnson | macOS 13.0 Ventura / arm64 | OK | OK | OK |  | |||||||||||
| Package 77/110 | Hostname | OS / Arch | INSTALL | BUILD | BUILD BIN | ||||||||||||
| proActiv 1.8.0  (landing page) Joseph Lee 
 | kjohnson | macOS 13.0 Ventura / arm64 | OK | OK | OK |  | |||||||||||
| Package 78/110 | Hostname | OS / Arch | INSTALL | BUILD | BUILD BIN | ||||||||||||
| ramwas 1.22.0  (landing page) Andrey A Shabalin 
 | kjohnson | macOS 13.0 Ventura / arm64 | OK | OK | OK |  | |||||||||||
| Package 79/110 | Hostname | OS / Arch | INSTALL | BUILD | BUILD BIN | ||||||||||||
| Jonathan Cairns 
 | kjohnson | macOS 13.0 Ventura / arm64 | OK | OK | OK |  | |||||||||||
| Package 80/110 | Hostname | OS / Arch | INSTALL | BUILD | BUILD BIN | ||||||||||||
| recoup 1.26.0  (landing page) Panagiotis Moulos 
 | kjohnson | macOS 13.0 Ventura / arm64 | OK | OK | OK |  | |||||||||||
| Package 81/110 | Hostname | OS / Arch | INSTALL | BUILD | BUILD BIN | ||||||||||||
| Repitools 1.44.0  (landing page) Mark Robinson 
 | kjohnson | macOS 13.0 Ventura / arm64 | OK | OK | OK |  | |||||||||||
| Package 82/110 | Hostname | OS / Arch | INSTALL | BUILD | BUILD BIN | ||||||||||||
| RiboDiPA 1.6.0  (landing page) Ji-Ping Wang 
 | kjohnson | macOS 13.0 Ventura / arm64 | OK | OK | OK |  | |||||||||||
| Package 83/110 | Hostname | OS / Arch | INSTALL | BUILD | BUILD BIN | ||||||||||||
| RiboProfiling 1.28.0  (landing page) A. Popa 
 | kjohnson | macOS 13.0 Ventura / arm64 | OK | OK | OK |  | |||||||||||
| Package 84/110 | Hostname | OS / Arch | INSTALL | BUILD | BUILD BIN | ||||||||||||
| ribosomeProfilingQC 1.10.0  (landing page) Jianhong Ou 
 | kjohnson | macOS 13.0 Ventura / arm64 | OK | OK | OK |  | |||||||||||
| Package 85/110 | Hostname | OS / Arch | INSTALL | BUILD | BUILD BIN | ||||||||||||
| RNAmodR 1.12.0  (landing page) Felix G.M. Ernst 
 | kjohnson | macOS 13.0 Ventura / arm64 | OK | OK | OK |  | |||||||||||
| Package 86/110 | Hostname | OS / Arch | INSTALL | BUILD | BUILD BIN | ||||||||||||
| roar 1.34.0  (landing page) Elena Grassi 
 | kjohnson | macOS 13.0 Ventura / arm64 | OK | OK | OK |  | |||||||||||
| Package 87/110 | Hostname | OS / Arch | INSTALL | BUILD | BUILD BIN | ||||||||||||
| Rqc 1.32.0  (landing page) Welliton Souza 
 | kjohnson | macOS 13.0 Ventura / arm64 | OK | OK | OK |  | |||||||||||
| Package 88/110 | Hostname | OS / Arch | INSTALL | BUILD | BUILD BIN | ||||||||||||
| rtracklayer 1.58.0  (landing page) Michael Lawrence 
 | kjohnson | macOS 13.0 Ventura / arm64 | OK | OK | OK |  | |||||||||||
| Package 89/110 | Hostname | OS / Arch | INSTALL | BUILD | BUILD BIN | ||||||||||||
| SCATE 1.8.0  (landing page) Wenpin Hou 
 | kjohnson | macOS 13.0 Ventura / arm64 | OK | TIMEOUT | skipped | ||||||||||||
| Package 90/110 | Hostname | OS / Arch | INSTALL | BUILD | BUILD BIN | ||||||||||||
| scPipe 1.20.6  (landing page) Shian Su 
 | kjohnson | macOS 13.0 Ventura / arm64 | OK | OK | OK |  | |||||||||||
| Package 91/110 | Hostname | OS / Arch | INSTALL | BUILD | BUILD BIN | ||||||||||||
| scruff 1.16.0  (landing page) Zhe Wang 
 | kjohnson | macOS 13.0 Ventura / arm64 | OK | OK | OK |  | |||||||||||
| Package 92/110 | Hostname | OS / Arch | INSTALL | BUILD | BUILD BIN | ||||||||||||
| seqsetvis 1.18.1  (landing page) Joseph R Boyd 
 | kjohnson | macOS 13.0 Ventura / arm64 | OK | OK | OK |  | |||||||||||
| Package 93/110 | Hostname | OS / Arch | INSTALL | BUILD | BUILD BIN | ||||||||||||
| SGSeq 1.32.0  (landing page) Leonard Goldstein 
 | kjohnson | macOS 13.0 Ventura / arm64 | OK | OK | OK |  | |||||||||||
| Package 94/110 | Hostname | OS / Arch | INSTALL | BUILD | BUILD BIN | ||||||||||||
| ShortRead 1.56.1  (landing page) Bioconductor Package Maintainer 
 | kjohnson | macOS 13.0 Ventura / arm64 | OK | OK | OK |  | |||||||||||
| Package 95/110 | Hostname | OS / Arch | INSTALL | BUILD | BUILD BIN | ||||||||||||
| single 1.2.0  (landing page) Rocio Espada 
 | kjohnson | macOS 13.0 Ventura / arm64 | OK | OK | OK |  | |||||||||||
| Package 96/110 | Hostname | OS / Arch | INSTALL | BUILD | BUILD BIN | ||||||||||||
| soGGi 1.30.0  (landing page) Tom Carroll 
 | kjohnson | macOS 13.0 Ventura / arm64 | OK | OK | OK |  | |||||||||||
| Package 97/110 | Hostname | OS / Arch | INSTALL | BUILD | BUILD BIN | ||||||||||||
| spiky 1.4.0  (landing page) Tim Triche 
 | kjohnson | macOS 13.0 Ventura / arm64 | OK | OK | OK |  | |||||||||||
| Package 98/110 | Hostname | OS / Arch | INSTALL | BUILD | BUILD BIN | ||||||||||||
| SplicingGraphs 1.38.0  (landing page) H. Pagès 
 | kjohnson | macOS 13.0 Ventura / arm64 | OK | OK | OK |  | |||||||||||
| Package 99/110 | Hostname | OS / Arch | INSTALL | BUILD | BUILD BIN | ||||||||||||
| SPLINTER 1.24.0  (landing page) Diana Low 
 | kjohnson | macOS 13.0 Ventura / arm64 | OK | OK | OK |  | |||||||||||
| Package 100/110 | Hostname | OS / Arch | INSTALL | BUILD | BUILD BIN | ||||||||||||
| srnadiff 1.18.2  (landing page) Zytnicki Matthias 
 | kjohnson | macOS 13.0 Ventura / arm64 | OK | OK | OK |  | |||||||||||
| Package 101/110 | Hostname | OS / Arch | INSTALL | BUILD | BUILD BIN | ||||||||||||
| strandCheckR 1.16.0  (landing page) Thu-Hien To 
 | kjohnson | macOS 13.0 Ventura / arm64 | OK | OK | OK |  | |||||||||||
| Package 102/110 | Hostname | OS / Arch | INSTALL | BUILD | BUILD BIN | ||||||||||||
| TAPseq 1.10.0  (landing page) Andreas R. Gschwind 
 | kjohnson | macOS 13.0 Ventura / arm64 | OK | OK | OK |  | |||||||||||
| Package 103/110 | Hostname | OS / Arch | INSTALL | BUILD | BUILD BIN | ||||||||||||
| TarSeqQC 1.28.0  (landing page) Gabriela Merino 
 | kjohnson | macOS 13.0 Ventura / arm64 | OK | OK | OK |  | |||||||||||
| Package 104/110 | Hostname | OS / Arch | INSTALL | BUILD | BUILD BIN | ||||||||||||
| TCseq 1.22.6  (landing page) Mengjun Wu 
 | kjohnson | macOS 13.0 Ventura / arm64 | OK | OK | OK |  | |||||||||||
| Package 105/110 | Hostname | OS / Arch | INSTALL | BUILD | BUILD BIN | ||||||||||||
| trackViewer 1.34.0  (landing page) Jianhong Ou 
 | kjohnson | macOS 13.0 Ventura / arm64 | OK | OK | OK |  | |||||||||||
| Package 106/110 | Hostname | OS / Arch | INSTALL | BUILD | BUILD BIN | ||||||||||||
| transcriptR 1.26.0  (landing page) Armen R. Karapetyan 
 | kjohnson | macOS 13.0 Ventura / arm64 | OK | OK | OK |  | |||||||||||
| Package 107/110 | Hostname | OS / Arch | INSTALL | BUILD | BUILD BIN | ||||||||||||
| Ularcirc 1.16.0  (landing page) David Humphreys 
 | kjohnson | macOS 13.0 Ventura / arm64 | OK | OK | OK |  | |||||||||||
| Package 108/110 | Hostname | OS / Arch | INSTALL | BUILD | BUILD BIN | ||||||||||||
| UMI4Cats 1.8.1  (landing page) Mireia Ramos-Rodriguez 
 | kjohnson | macOS 13.0 Ventura / arm64 | OK | OK | OK |  | |||||||||||
| Package 109/110 | Hostname | OS / Arch | INSTALL | BUILD | BUILD BIN | ||||||||||||
| VaSP 1.10.0  (landing page) Huihui Yu 
 | kjohnson | macOS 13.0 Ventura / arm64 | OK | OK | OK |  | |||||||||||
| Package 110/110 | Hostname | OS / Arch | INSTALL | BUILD | BUILD BIN | ||||||||||||
| VplotR 1.8.0  (landing page) Jacques Serizay 
 | kjohnson | macOS 13.0 Ventura / arm64 | OK | OK | OK |  | |||||||||||