| Back to Multiple platform build/check report for BioC 3.16: simplified long |
|
This page was generated on 2023-04-12 11:06:32 -0400 (Wed, 12 Apr 2023).
| Hostname | OS | Arch (*) | R version | Installed pkgs |
|---|---|---|---|---|
| nebbiolo2 | Linux (Ubuntu 20.04.5 LTS) | x86_64 | 4.2.3 (2023-03-15) -- "Shortstop Beagle" | 4502 |
| palomino4 | Windows Server 2022 Datacenter | x64 | 4.2.3 (2023-03-15 ucrt) -- "Shortstop Beagle" | 4282 |
| lconway | macOS 12.5.1 Monterey | x86_64 | 4.2.3 (2023-03-15) -- "Shortstop Beagle" | 4310 |
| Click on any hostname to see more info about the system (e.g. compilers) (*) as reported by 'uname -p', except on Windows and Mac OS X | ||||
|
To the developers/maintainers of the wpm package: - Please allow up to 24 hours (and sometimes 48 hours) for your latest push to git@git.bioconductor.org:packages/wpm.git to reflect on this report. See How and When does the builder pull? When will my changes propagate? for more information. - Make sure to use the following settings in order to reproduce any error or warning you see on this page. |
| Package 2164/2183 | Hostname | OS / Arch | INSTALL | BUILD | CHECK | BUILD BIN | ||||||||
| wpm 1.8.0 (landing page) Helene Borges
| nebbiolo2 | Linux (Ubuntu 20.04.5 LTS) / x86_64 | OK | OK | OK | |||||||||
| palomino4 | Windows Server 2022 Datacenter / x64 | OK | OK | OK | OK | |||||||||
| lconway | macOS 12.5.1 Monterey / x86_64 | OK | OK | OK | OK | |||||||||
| Package: wpm |
| Version: 1.8.0 |
| Command: /Library/Frameworks/R.framework/Resources/bin/R CMD check --install=check:wpm.install-out.txt --library=/Library/Frameworks/R.framework/Resources/library --no-vignettes --timings wpm_1.8.0.tar.gz |
| StartedAt: 2023-04-10 23:20:39 -0400 (Mon, 10 Apr 2023) |
| EndedAt: 2023-04-10 23:21:34 -0400 (Mon, 10 Apr 2023) |
| EllapsedTime: 55.4 seconds |
| RetCode: 0 |
| Status: OK |
| CheckDir: wpm.Rcheck |
| Warnings: 0 |
############################################################################## ############################################################################## ### ### Running command: ### ### /Library/Frameworks/R.framework/Resources/bin/R CMD check --install=check:wpm.install-out.txt --library=/Library/Frameworks/R.framework/Resources/library --no-vignettes --timings wpm_1.8.0.tar.gz ### ############################################################################## ############################################################################## * using log directory ‘/Users/biocbuild/bbs-3.16-bioc/meat/wpm.Rcheck’ * using R version 4.2.3 (2023-03-15) * using platform: x86_64-apple-darwin17.0 (64-bit) * using session charset: UTF-8 * using option ‘--no-vignettes’ * checking for file ‘wpm/DESCRIPTION’ ... OK * checking extension type ... Package * this is package ‘wpm’ version ‘1.8.0’ * package encoding: UTF-8 * checking package namespace information ... OK * checking package dependencies ... OK * checking if this is a source package ... OK * checking if there is a namespace ... OK * checking for hidden files and directories ... OK * checking for portable file names ... OK * checking for sufficient/correct file permissions ... OK * checking whether package ‘wpm’ can be installed ... OK * checking installed package size ... OK * checking package directory ... OK * checking ‘build’ directory ... OK * checking DESCRIPTION meta-information ... OK * checking top-level files ... OK * checking for left-over files ... OK * checking index information ... OK * checking package subdirectories ... OK * checking R files for non-ASCII characters ... OK * checking R files for syntax errors ... OK * checking whether the package can be loaded ... OK * checking whether the package can be loaded with stated dependencies ... OK * checking whether the package can be unloaded cleanly ... OK * checking whether the namespace can be loaded with stated dependencies ... OK * checking whether the namespace can be unloaded cleanly ... OK * checking dependencies in R code ... OK * checking S3 generic/method consistency ... OK * checking replacement functions ... OK * checking foreign function calls ... OK * checking R code for possible problems ... OK * checking Rd files ... OK * checking Rd metadata ... OK * checking Rd cross-references ... OK * checking for missing documentation entries ... OK * checking for code/documentation mismatches ... OK * checking Rd \usage sections ... OK * checking Rd contents ... OK * checking for unstated dependencies in examples ... OK * checking contents of ‘data’ directory ... OK * checking data for non-ASCII characters ... OK * checking data for ASCII and uncompressed saves ... OK * checking files in ‘vignettes’ ... OK * checking examples ... OK * checking for unstated dependencies in ‘tests’ ... OK * checking tests ... Running ‘testthat.R’ OK * checking for unstated dependencies in vignettes ... OK * checking package vignettes in ‘inst/doc’ ... OK * checking running R code from vignettes ... SKIPPED * checking re-building of vignette outputs ... SKIPPED * checking PDF version of manual ... OK * DONE Status: OK
wpm.Rcheck/00install.out
##############################################################################
##############################################################################
###
### Running command:
###
### /Library/Frameworks/R.framework/Resources/bin/R CMD INSTALL wpm
###
##############################################################################
##############################################################################
* installing to library ‘/Library/Frameworks/R.framework/Versions/4.2/Resources/library’
* installing *source* package ‘wpm’ ...
** using staged installation
** R
** data
** inst
** byte-compile and prepare package for lazy loading
** help
*** installing help indices
** building package indices
** installing vignettes
** testing if installed package can be loaded from temporary location
── This is the Well-Plate Maker package. ───────────────────────────────────────
If you want to use the shiny application, then simply run: `wpm()`.If you want
to see the Tutorial vignette and use WPM in command line, run:
`browseVignettes('wpm')`.
** testing if installed package can be loaded from final location
── This is the Well-Plate Maker package. ───────────────────────────────────────
If you want to use the shiny application, then simply run: `wpm()`.If you want
to see the Tutorial vignette and use WPM in command line, run:
`browseVignettes('wpm')`.
** testing if installed package keeps a record of temporary installation path
* DONE (wpm)
wpm.Rcheck/tests/testthat.Rout
R version 4.2.3 (2023-03-15) -- "Shortstop Beagle"
Copyright (C) 2023 The R Foundation for Statistical Computing
Platform: x86_64-apple-darwin17.0 (64-bit)
R is free software and comes with ABSOLUTELY NO WARRANTY.
You are welcome to redistribute it under certain conditions.
Type 'license()' or 'licence()' for distribution details.
R is a collaborative project with many contributors.
Type 'contributors()' for more information and
'citation()' on how to cite R or R packages in publications.
Type 'demo()' for some demos, 'help()' for on-line help, or
'help.start()' for an HTML browser interface to help.
Type 'q()' to quit R.
> library(testthat)
> library(wpm)
── This is the Well-Plate Maker package. ───────────────────────────────────────
If you want to use the shiny application, then simply run: `wpm()`.If you want
to see the Tutorial vignette and use WPM in command line, run:
`browseVignettes('wpm')`.
cli-85674-1
> testthat::test_check("wpm")
2023-04-10 23:21:17 WARNING::the dimensions of the plate are incompatible with
the wells.
2023-04-10 23:21:17 WARNING::the dimensions of the plate are incompatible with
the wells.
2023-04-10 23:21:17 INFO::gp_fiels: Group, class: character
[ FAIL 0 | WARN 0 | SKIP 0 | PASS 12 ]
>
> proc.time()
user system elapsed
8.707 0.461 9.180
wpm.Rcheck/wpm-Ex.timings
| name | user | system | elapsed | |
| convertCSV | 0.088 | 0.016 | 0.114 | |
| convertESet | 4.039 | 0.202 | 4.252 | |
| convertSE | 3.851 | 0.120 | 3.979 | |
| convertVector2Df | 0.034 | 0.003 | 0.037 | |
| drawMap | 0.548 | 0.066 | 0.617 | |
| wpm | 0.000 | 0.001 | 0.000 | |
| wrapperWPM | 0.155 | 0.010 | 0.165 | |