| Back to Multiple platform build/check report for BioC 3.16: simplified long |
|
This page was generated on 2023-04-12 11:05:23 -0400 (Wed, 12 Apr 2023).
| Hostname | OS | Arch (*) | R version | Installed pkgs |
|---|---|---|---|---|
| nebbiolo2 | Linux (Ubuntu 20.04.5 LTS) | x86_64 | 4.2.3 (2023-03-15) -- "Shortstop Beagle" | 4502 |
| palomino4 | Windows Server 2022 Datacenter | x64 | 4.2.3 (2023-03-15 ucrt) -- "Shortstop Beagle" | 4282 |
| lconway | macOS 12.5.1 Monterey | x86_64 | 4.2.3 (2023-03-15) -- "Shortstop Beagle" | 4310 |
| Click on any hostname to see more info about the system (e.g. compilers) (*) as reported by 'uname -p', except on Windows and Mac OS X | ||||
|
To the developers/maintainers of the vissE package: - Please allow up to 24 hours (and sometimes 48 hours) for your latest push to git@git.bioconductor.org:packages/vissE.git to reflect on this report. See How and When does the builder pull? When will my changes propagate? for more information. - Make sure to use the following settings in order to reproduce any error or warning you see on this page. |
| Package 2149/2183 | Hostname | OS / Arch | INSTALL | BUILD | CHECK | BUILD BIN | ||||||||
| vissE 1.6.0 (landing page) Dharmesh D. Bhuva
| nebbiolo2 | Linux (Ubuntu 20.04.5 LTS) / x86_64 | OK | OK | OK | |||||||||
| palomino4 | Windows Server 2022 Datacenter / x64 | OK | OK | OK | OK | |||||||||
| lconway | macOS 12.5.1 Monterey / x86_64 | OK | OK | OK | OK | |||||||||
| Package: vissE |
| Version: 1.6.0 |
| Command: /home/biocbuild/bbs-3.16-bioc/R/bin/R CMD check --install=check:vissE.install-out.txt --library=/home/biocbuild/bbs-3.16-bioc/R/site-library --timings vissE_1.6.0.tar.gz |
| StartedAt: 2023-04-11 00:48:58 -0400 (Tue, 11 Apr 2023) |
| EndedAt: 2023-04-11 00:55:45 -0400 (Tue, 11 Apr 2023) |
| EllapsedTime: 407.6 seconds |
| RetCode: 0 |
| Status: OK |
| CheckDir: vissE.Rcheck |
| Warnings: 0 |
##############################################################################
##############################################################################
###
### Running command:
###
### /home/biocbuild/bbs-3.16-bioc/R/bin/R CMD check --install=check:vissE.install-out.txt --library=/home/biocbuild/bbs-3.16-bioc/R/site-library --timings vissE_1.6.0.tar.gz
###
##############################################################################
##############################################################################
* using log directory ‘/home/biocbuild/bbs-3.16-bioc/meat/vissE.Rcheck’
* using R version 4.2.3 (2023-03-15)
* using platform: x86_64-pc-linux-gnu (64-bit)
* using session charset: UTF-8
* checking for file ‘vissE/DESCRIPTION’ ... OK
* this is package ‘vissE’ version ‘1.6.0’
* package encoding: UTF-8
* checking package namespace information ... OK
* checking package dependencies ... OK
* checking if this is a source package ... OK
* checking if there is a namespace ... OK
* checking for hidden files and directories ... OK
* checking for portable file names ... OK
* checking for sufficient/correct file permissions ... OK
* checking whether package ‘vissE’ can be installed ... OK
* checking installed package size ... OK
* checking package directory ... OK
* checking ‘build’ directory ... OK
* checking DESCRIPTION meta-information ... OK
* checking top-level files ... OK
* checking for left-over files ... OK
* checking index information ... OK
* checking package subdirectories ... OK
* checking R files for non-ASCII characters ... OK
* checking R files for syntax errors ... OK
* checking whether the package can be loaded ... OK
* checking whether the package can be loaded with stated dependencies ... OK
* checking whether the package can be unloaded cleanly ... OK
* checking whether the namespace can be loaded with stated dependencies ... OK
* checking whether the namespace can be unloaded cleanly ... OK
* checking loading without being on the library search path ... OK
* checking dependencies in R code ... OK
* checking S3 generic/method consistency ... OK
* checking replacement functions ... OK
* checking foreign function calls ... OK
* checking R code for possible problems ... NOTE
plotGeneStats: no visible binding for global variable ‘Count’
plotGeneStats: no visible binding for global variable ‘GeneStat’
plotGeneStats: no visible binding for global variable ‘Gene’
plotMsigNetwork: no visible binding for global variable ‘Size’
plotMsigNetwork: no visible binding for global variable ‘Category’
plotMsigNetwork: no visible binding for global variable ‘x’
plotMsigNetwork: no visible binding for global variable ‘y’
plotMsigNetwork: no visible binding for global variable ‘NodeGroup’
plotMsigPPI: no visible binding for global variable ‘weight’
plotMsigPPI: no visible binding for global variable ‘Degree’
plotMsigPPI: no visible binding for global variable ‘label’
plotMsigPPI: no visible binding for global variable ‘Label’
plotMsigWordcloud: no visible binding for global variable ‘word’
plotMsigWordcloud: no visible binding for global variable ‘freq’
plotMsigWordcloud: no visible binding for global variable ‘angle’
Undefined global functions or variables:
Category Count Degree Gene GeneStat Label NodeGroup Size angle freq
label weight word x y
* checking Rd files ... OK
* checking Rd metadata ... OK
* checking Rd cross-references ... OK
* checking for missing documentation entries ... OK
* checking for code/documentation mismatches ... OK
* checking Rd \usage sections ... OK
* checking Rd contents ... OK
* checking for unstated dependencies in examples ... OK
* checking contents of ‘data’ directory ... OK
* checking data for non-ASCII characters ... OK
* checking LazyData ... NOTE
'LazyDataCompression' is specified without 'LazyData'
* checking data for ASCII and uncompressed saves ... OK
* checking R/sysdata.rda ... OK
* checking files in ‘vignettes’ ... OK
* checking examples ... OK
Examples with CPU (user + system) or elapsed time > 5s
user system elapsed
plotMsigPPI 16.243 1.107 17.985
characteriseGeneset 5.613 0.512 6.127
computeMsigWordFreq 4.716 0.304 5.034
* checking for unstated dependencies in ‘tests’ ... OK
* checking tests ...
Running ‘testthat.R’
OK
* checking for unstated dependencies in vignettes ... OK
* checking package vignettes in ‘inst/doc’ ... OK
* checking running R code from vignettes ...
‘vissE.Rmd’ using ‘UTF-8’... OK
NONE
* checking re-building of vignette outputs ... OK
* checking PDF version of manual ... OK
* DONE
Status: 2 NOTEs
See
‘/home/biocbuild/bbs-3.16-bioc/meat/vissE.Rcheck/00check.log’
for details.
vissE.Rcheck/00install.out
############################################################################## ############################################################################## ### ### Running command: ### ### /home/biocbuild/bbs-3.16-bioc/R/bin/R CMD INSTALL vissE ### ############################################################################## ############################################################################## * installing to library ‘/home/biocbuild/bbs-3.16-bioc/R/site-library’ * installing *source* package ‘vissE’ ... ** using staged installation ** R ** data ** inst ** byte-compile and prepare package for lazy loading ** help *** installing help indices ** building package indices ** installing vignettes ** testing if installed package can be loaded from temporary location ** testing if installed package can be loaded from final location ** testing if installed package keeps a record of temporary installation path * DONE (vissE)
vissE.Rcheck/tests/testthat.Rout
R version 4.2.3 (2023-03-15) -- "Shortstop Beagle"
Copyright (C) 2023 The R Foundation for Statistical Computing
Platform: x86_64-pc-linux-gnu (64-bit)
R is free software and comes with ABSOLUTELY NO WARRANTY.
You are welcome to redistribute it under certain conditions.
Type 'license()' or 'licence()' for distribution details.
R is a collaborative project with many contributors.
Type 'contributors()' for more information and
'citation()' on how to cite R or R packages in publications.
Type 'demo()' for some demos, 'help()' for on-line help, or
'help.start()' for an HTML browser interface to help.
Type 'q()' to quit R.
> library(testthat)
> library(vissE)
>
> test_check("vissE")
[ FAIL 0 | WARN 7 | SKIP 0 | PASS 64 ]
[ FAIL 0 | WARN 7 | SKIP 0 | PASS 64 ]
>
> proc.time()
user system elapsed
25.915 1.618 28.359
vissE.Rcheck/vissE-Ex.timings
| name | user | system | elapsed | |
| bhuvad_theme | 0.089 | 0.008 | 0.097 | |
| characteriseGeneset | 5.613 | 0.512 | 6.127 | |
| computeMsigNetwork | 0.221 | 0.016 | 0.237 | |
| computeMsigOverlap | 0.068 | 0.008 | 0.076 | |
| computeMsigWordFreq | 4.716 | 0.304 | 5.034 | |
| findMsigClusters | 0.050 | 0.004 | 0.054 | |
| getMsigBlacklist | 0.000 | 0.000 | 0.001 | |
| plotGeneStats | 0.663 | 0.028 | 0.691 | |
| plotMsigNetwork | 1.217 | 0.144 | 1.361 | |
| plotMsigPPI | 16.243 | 1.107 | 17.985 | |
| plotMsigWordcloud | 1.942 | 0.080 | 2.025 | |