| Back to Multiple platform build/check report for BioC 3.16: simplified long |
|
This page was generated on 2023-04-12 11:05:57 -0400 (Wed, 12 Apr 2023).
| Hostname | OS | Arch (*) | R version | Installed pkgs |
|---|---|---|---|---|
| nebbiolo2 | Linux (Ubuntu 20.04.5 LTS) | x86_64 | 4.2.3 (2023-03-15) -- "Shortstop Beagle" | 4502 |
| palomino4 | Windows Server 2022 Datacenter | x64 | 4.2.3 (2023-03-15 ucrt) -- "Shortstop Beagle" | 4282 |
| lconway | macOS 12.5.1 Monterey | x86_64 | 4.2.3 (2023-03-15) -- "Shortstop Beagle" | 4310 |
| Click on any hostname to see more info about the system (e.g. compilers) (*) as reported by 'uname -p', except on Windows and Mac OS X | ||||
|
To the developers/maintainers of the uncoverappLib package: - Please allow up to 24 hours (and sometimes 48 hours) for your latest push to git@git.bioconductor.org:packages/uncoverappLib.git to reflect on this report. See How and When does the builder pull? When will my changes propagate? for more information. - Make sure to use the following settings in order to reproduce any error or warning you see on this page. |
| Package 2121/2183 | Hostname | OS / Arch | INSTALL | BUILD | CHECK | BUILD BIN | ||||||||
| uncoverappLib 1.8.1 (landing page) Emanuela Iovino
| nebbiolo2 | Linux (Ubuntu 20.04.5 LTS) / x86_64 | OK | OK | OK | |||||||||
| palomino4 | Windows Server 2022 Datacenter / x64 | OK | OK | OK | OK | |||||||||
| lconway | macOS 12.5.1 Monterey / x86_64 | OK | OK | OK | OK | |||||||||
| Package: uncoverappLib |
| Version: 1.8.1 |
| Command: F:\biocbuild\bbs-3.16-bioc\R\bin\R.exe CMD check --no-multiarch --install=check:uncoverappLib.install-out.txt --library=F:\biocbuild\bbs-3.16-bioc\R\library --no-vignettes --timings uncoverappLib_1.8.1.tar.gz |
| StartedAt: 2023-04-11 07:02:49 -0400 (Tue, 11 Apr 2023) |
| EndedAt: 2023-04-11 07:09:01 -0400 (Tue, 11 Apr 2023) |
| EllapsedTime: 371.9 seconds |
| RetCode: 0 |
| Status: OK |
| CheckDir: uncoverappLib.Rcheck |
| Warnings: 0 |
##############################################################################
##############################################################################
###
### Running command:
###
### F:\biocbuild\bbs-3.16-bioc\R\bin\R.exe CMD check --no-multiarch --install=check:uncoverappLib.install-out.txt --library=F:\biocbuild\bbs-3.16-bioc\R\library --no-vignettes --timings uncoverappLib_1.8.1.tar.gz
###
##############################################################################
##############################################################################
* using log directory 'F:/biocbuild/bbs-3.16-bioc/meat/uncoverappLib.Rcheck'
* using R version 4.2.3 (2023-03-15 ucrt)
* using platform: x86_64-w64-mingw32 (64-bit)
* using session charset: UTF-8
* using option '--no-vignettes'
* checking for file 'uncoverappLib/DESCRIPTION' ... OK
* this is package 'uncoverappLib' version '1.8.1'
* package encoding: UTF-8
* checking package namespace information ... OK
* checking package dependencies ... OK
* checking if this is a source package ... OK
* checking if there is a namespace ... OK
* checking for hidden files and directories ... OK
* checking for portable file names ... OK
* checking whether package 'uncoverappLib' can be installed ... OK
* checking installed package size ... OK
* checking package directory ... OK
* checking 'build' directory ... OK
* checking DESCRIPTION meta-information ... OK
* checking top-level files ... OK
* checking for left-over files ... OK
* checking index information ... OK
* checking package subdirectories ... OK
* checking R files for non-ASCII characters ... OK
* checking R files for syntax errors ... OK
* checking whether the package can be loaded ... OK
* checking whether the package can be loaded with stated dependencies ... OK
* checking whether the package can be unloaded cleanly ... OK
* checking whether the namespace can be loaded with stated dependencies ... OK
* checking whether the namespace can be unloaded cleanly ... OK
* checking dependencies in R code ... OK
* checking S3 generic/method consistency ... OK
* checking replacement functions ... OK
* checking foreign function calls ... OK
* checking R code for possible problems ... NOTE
buildInput : riarrange.df: no visible binding for global variable
'nucleotide'
buildInput : riarrange.df: no visible binding for global variable
'count'
buildInput: no visible binding for global variable 'seqnames.1'
buildInput: no visible binding for global variable 'start.1'
buildInput: no visible binding for global variable 'end.1'
buildInput: no visible binding for global variable 'width.1'
buildInput: no visible binding for global variable 'strand.1'
buildInput : statistical_operation: no visible binding for global
variable 'SYMBOL'
buildInput : statistical_operation: no visible binding for global
variable 'value'
buildInput : statistical_operation: no visible global function
definition for 'median'
buildInput : statistical_operation: no visible binding for global
variable '.'
Undefined global functions or variables:
. SYMBOL count end.1 median nucleotide seqnames.1 start.1 strand.1
value width.1
Consider adding
importFrom("stats", "median")
to your NAMESPACE file.
* checking Rd files ... OK
* checking Rd metadata ... OK
* checking Rd cross-references ... OK
* checking for missing documentation entries ... OK
* checking for code/documentation mismatches ... OK
* checking Rd \usage sections ... OK
* checking Rd contents ... OK
* checking for unstated dependencies in examples ... OK
* checking files in 'vignettes' ... OK
* checking examples ... OK
Examples with CPU (user + system) or elapsed time > 5s
user system elapsed
buildInput 5.99 0.17 6.16
* checking for unstated dependencies in vignettes ... OK
* checking package vignettes in 'inst/doc' ... OK
* checking running R code from vignettes ... SKIPPED
* checking re-building of vignette outputs ... SKIPPED
* checking PDF version of manual ... OK
* DONE
Status: 1 NOTE
See
'F:/biocbuild/bbs-3.16-bioc/meat/uncoverappLib.Rcheck/00check.log'
for details.
uncoverappLib.Rcheck/00install.out
############################################################################## ############################################################################## ### ### Running command: ### ### F:\biocbuild\bbs-3.16-bioc\R\bin\R.exe CMD INSTALL uncoverappLib ### ############################################################################## ############################################################################## * installing to library 'F:/biocbuild/bbs-3.16-bioc/R/library' * installing *source* package 'uncoverappLib' ... ** using staged installation ** R ** inst ** byte-compile and prepare package for lazy loading ** help *** installing help indices ** building package indices ** installing vignettes ** testing if installed package can be loaded from temporary location ** testing if installed package can be loaded from final location ** testing if installed package keeps a record of temporary installation path * DONE (uncoverappLib)
uncoverappLib.Rcheck/uncoverappLib-Ex.timings
| name | user | system | elapsed | |
| buildInput | 5.99 | 0.17 | 6.16 | |
| getAnnotationFiles | 0.43 | 0.05 | 0.50 | |
| run.uncoverapp | 0 | 0 | 0 | |
| uncoverAPP | 0 | 0 | 0 | |