| Back to Multiple platform build/check report for BioC 3.16: simplified long |
|
This page was generated on 2023-04-12 11:06:31 -0400 (Wed, 12 Apr 2023).
| Hostname | OS | Arch (*) | R version | Installed pkgs |
|---|---|---|---|---|
| nebbiolo2 | Linux (Ubuntu 20.04.5 LTS) | x86_64 | 4.2.3 (2023-03-15) -- "Shortstop Beagle" | 4502 |
| palomino4 | Windows Server 2022 Datacenter | x64 | 4.2.3 (2023-03-15 ucrt) -- "Shortstop Beagle" | 4282 |
| lconway | macOS 12.5.1 Monterey | x86_64 | 4.2.3 (2023-03-15) -- "Shortstop Beagle" | 4310 |
| Click on any hostname to see more info about the system (e.g. compilers) (*) as reported by 'uname -p', except on Windows and Mac OS X | ||||
|
To the developers/maintainers of the twoddpcr package: - Please allow up to 24 hours (and sometimes 48 hours) for your latest push to git@git.bioconductor.org:packages/twoddpcr.git to reflect on this report. See How and When does the builder pull? When will my changes propagate? for more information. - Make sure to use the following settings in order to reproduce any error or warning you see on this page. |
| Package 2113/2183 | Hostname | OS / Arch | INSTALL | BUILD | CHECK | BUILD BIN | ||||||||
| twoddpcr 1.22.0 (landing page) Anthony Chiu
| nebbiolo2 | Linux (Ubuntu 20.04.5 LTS) / x86_64 | OK | OK | OK | |||||||||
| palomino4 | Windows Server 2022 Datacenter / x64 | OK | OK | OK | OK | |||||||||
| lconway | macOS 12.5.1 Monterey / x86_64 | OK | OK | OK | OK | |||||||||
| Package: twoddpcr |
| Version: 1.22.0 |
| Command: /Library/Frameworks/R.framework/Resources/bin/R CMD check --install=check:twoddpcr.install-out.txt --library=/Library/Frameworks/R.framework/Resources/library --no-vignettes --timings twoddpcr_1.22.0.tar.gz |
| StartedAt: 2023-04-10 23:14:15 -0400 (Mon, 10 Apr 2023) |
| EndedAt: 2023-04-10 23:16:13 -0400 (Mon, 10 Apr 2023) |
| EllapsedTime: 118.1 seconds |
| RetCode: 0 |
| Status: OK |
| CheckDir: twoddpcr.Rcheck |
| Warnings: 0 |
##############################################################################
##############################################################################
###
### Running command:
###
### /Library/Frameworks/R.framework/Resources/bin/R CMD check --install=check:twoddpcr.install-out.txt --library=/Library/Frameworks/R.framework/Resources/library --no-vignettes --timings twoddpcr_1.22.0.tar.gz
###
##############################################################################
##############################################################################
* using log directory ‘/Users/biocbuild/bbs-3.16-bioc/meat/twoddpcr.Rcheck’
* using R version 4.2.3 (2023-03-15)
* using platform: x86_64-apple-darwin17.0 (64-bit)
* using session charset: UTF-8
* using option ‘--no-vignettes’
* checking for file ‘twoddpcr/DESCRIPTION’ ... OK
* this is package ‘twoddpcr’ version ‘1.22.0’
* checking package namespace information ... OK
* checking package dependencies ... OK
* checking if this is a source package ... OK
* checking if there is a namespace ... OK
* checking for hidden files and directories ... OK
* checking for portable file names ... OK
* checking for sufficient/correct file permissions ... OK
* checking whether package ‘twoddpcr’ can be installed ... OK
* checking installed package size ... OK
* checking package directory ... OK
* checking ‘build’ directory ... OK
* checking DESCRIPTION meta-information ... OK
* checking top-level files ... OK
* checking for left-over files ... OK
* checking index information ... OK
* checking package subdirectories ... OK
* checking R files for non-ASCII characters ... OK
* checking R files for syntax errors ... OK
* checking whether the package can be loaded ... OK
* checking whether the package can be loaded with stated dependencies ... OK
* checking whether the package can be unloaded cleanly ... OK
* checking whether the namespace can be loaded with stated dependencies ... OK
* checking whether the namespace can be unloaded cleanly ... OK
* checking dependencies in R code ... OK
* checking S3 generic/method consistency ... OK
* checking replacement functions ... OK
* checking foreign function calls ... OK
* checking R code for possible problems ... OK
* checking Rd files ... OK
* checking Rd metadata ... OK
* checking Rd cross-references ... OK
* checking for missing documentation entries ... OK
* checking for code/documentation mismatches ... OK
* checking Rd \usage sections ... OK
* checking Rd contents ... OK
* checking for unstated dependencies in examples ... OK
* checking contents of ‘data’ directory ... OK
* checking data for non-ASCII characters ... OK
* checking LazyData ... OK
* checking data for ASCII and uncompressed saves ... OK
* checking files in ‘vignettes’ ... OK
* checking examples ... OK
Examples with CPU (user + system) or elapsed time > 5s
user system elapsed
knnClassify 8.119 0.153 8.308
ggplot.well 5.914 0.242 6.171
* checking for unstated dependencies in ‘tests’ ... OK
* checking tests ...
Running ‘testthat.R’
OK
* checking for unstated dependencies in vignettes ... OK
* checking package vignettes in ‘inst/doc’ ... OK
* checking running R code from vignettes ... SKIPPED
* checking re-building of vignette outputs ... SKIPPED
* checking PDF version of manual ... OK
* DONE
Status: OK
twoddpcr.Rcheck/00install.out
############################################################################## ############################################################################## ### ### Running command: ### ### /Library/Frameworks/R.framework/Resources/bin/R CMD INSTALL twoddpcr ### ############################################################################## ############################################################################## * installing to library ‘/Library/Frameworks/R.framework/Versions/4.2/Resources/library’ * installing *source* package ‘twoddpcr’ ... ** using staged installation ** R ** data *** moving datasets to lazyload DB ** inst ** byte-compile and prepare package for lazy loading ** help *** installing help indices ** building package indices ** installing vignettes ** testing if installed package can be loaded from temporary location ** testing if installed package can be loaded from final location ** testing if installed package keeps a record of temporary installation path * DONE (twoddpcr)
twoddpcr.Rcheck/tests/testthat.Rout
R version 4.2.3 (2023-03-15) -- "Shortstop Beagle"
Copyright (C) 2023 The R Foundation for Statistical Computing
Platform: x86_64-apple-darwin17.0 (64-bit)
R is free software and comes with ABSOLUTELY NO WARRANTY.
You are welcome to redistribute it under certain conditions.
Type 'license()' or 'licence()' for distribution details.
R is a collaborative project with many contributors.
Type 'contributors()' for more information and
'citation()' on how to cite R or R packages in publications.
Type 'demo()' for some demos, 'help()' for on-line help, or
'help.start()' for an HTML browser interface to help.
Type 'q()' to quit R.
> library(testthat)
> library(twoddpcr)
>
> test_check("twoddpcr")
[ FAIL 0 | WARN 2 | SKIP 0 | PASS 155 ]
[ FAIL 0 | WARN 2 | SKIP 0 | PASS 155 ]
>
> proc.time()
user system elapsed
5.479 0.326 5.807
twoddpcr.Rcheck/twoddpcr-Ex.timings
| name | user | system | elapsed | |
| amplitudes | 0.259 | 0.021 | 0.280 | |
| basicsSummary | 0.004 | 0.001 | 0.004 | |
| castSummary | 0.013 | 0.003 | 0.016 | |
| classCov | 0.043 | 0.005 | 0.047 | |
| classMeans | 0.065 | 0.010 | 0.075 | |
| classStats | 0.061 | 0.009 | 0.070 | |
| clusterCentres | 0.675 | 0.060 | 0.737 | |
| copiesSummary | 0.006 | 0.001 | 0.008 | |
| ddpcrPlate-class | 0.294 | 0.017 | 0.313 | |
| ddpcrWell-class | 0.023 | 0.001 | 0.024 | |
| ddpcrWell-methods | 0.240 | 0.012 | 0.252 | |
| dropletPlot | 3.579 | 0.209 | 3.820 | |
| exportTable | 0.133 | 0.021 | 0.168 | |
| extractPlateName | 0.001 | 0.000 | 0.000 | |
| extractWellNames | 0.001 | 0.001 | 0.001 | |
| facetPlot | 1.944 | 0.102 | 2.049 | |
| flatPlot | 3.305 | 0.219 | 3.543 | |
| fullCopiesSummary | 0.004 | 0.001 | 0.005 | |
| fullCountsSummary | 0.025 | 0.005 | 0.030 | |
| ggplot.well | 5.914 | 0.242 | 6.171 | |
| gridClassify | 4.605 | 0.110 | 4.727 | |
| heatPlot | 1.257 | 0.057 | 1.317 | |
| kmeansClassify | 1.072 | 0.067 | 1.142 | |
| knnClassify | 8.119 | 0.153 | 8.308 | |
| mahalanobisRain | 0.582 | 0.038 | 0.622 | |
| mutantCopiesSummary | 0.003 | 0.000 | 0.003 | |
| numDroplets | 0.197 | 0.004 | 0.202 | |
| parseClusterCounts | 0.013 | 0.002 | 0.016 | |
| plateClassification | 0.877 | 0.048 | 0.928 | |
| plateClassificationMethod | 0.274 | 0.010 | 0.284 | |
| plateSummary | 1.267 | 0.014 | 1.285 | |
| positiveCounts | 0.027 | 0.000 | 0.027 | |
| readCSVDataFrame | 0.014 | 0.004 | 0.018 | |
| relabelClasses | 0.078 | 0.004 | 0.082 | |
| removeDropletClasses | 0.648 | 0.043 | 0.693 | |
| renormalisePlate | 2.789 | 0.194 | 2.990 | |
| sdRain | 1.971 | 0.032 | 2.011 | |
| setChannelNames | 0.001 | 0.001 | 0.003 | |
| setDropletVolume | 0.000 | 0.001 | 0.001 | |
| sortDataFrame | 0.002 | 0.001 | 0.003 | |
| sortWells | 0.214 | 0.008 | 0.222 | |
| thresholdClassify | 1.500 | 0.053 | 1.558 | |
| wellClassification | 0.019 | 0.002 | 0.021 | |
| wellClassificationMethod | 0.015 | 0.001 | 0.016 | |
| whiteTheme | 1.354 | 0.032 | 1.391 | |
| wildTypeCopiesSummary | 0.025 | 0.005 | 0.029 | |