| Back to Multiple platform build/check report for BioC 3.16: simplified long |
|
This page was generated on 2023-04-12 11:05:22 -0400 (Wed, 12 Apr 2023).
| Hostname | OS | Arch (*) | R version | Installed pkgs |
|---|---|---|---|---|
| nebbiolo2 | Linux (Ubuntu 20.04.5 LTS) | x86_64 | 4.2.3 (2023-03-15) -- "Shortstop Beagle" | 4502 |
| palomino4 | Windows Server 2022 Datacenter | x64 | 4.2.3 (2023-03-15 ucrt) -- "Shortstop Beagle" | 4282 |
| lconway | macOS 12.5.1 Monterey | x86_64 | 4.2.3 (2023-03-15) -- "Shortstop Beagle" | 4310 |
| Click on any hostname to see more info about the system (e.g. compilers) (*) as reported by 'uname -p', except on Windows and Mac OS X | ||||
|
To the developers/maintainers of the trio package: - Please allow up to 24 hours (and sometimes 48 hours) for your latest push to git@git.bioconductor.org:packages/trio.git to reflect on this report. See How and When does the builder pull? When will my changes propagate? for more information. - Make sure to use the following settings in order to reproduce any error or warning you see on this page. |
| Package 2097/2183 | Hostname | OS / Arch | INSTALL | BUILD | CHECK | BUILD BIN | ||||||||
| trio 3.36.0 (landing page) Holger Schwender
| nebbiolo2 | Linux (Ubuntu 20.04.5 LTS) / x86_64 | OK | OK | OK | |||||||||
| palomino4 | Windows Server 2022 Datacenter / x64 | OK | OK | OK | OK | |||||||||
| lconway | macOS 12.5.1 Monterey / x86_64 | OK | OK | OK | OK | |||||||||
| Package: trio |
| Version: 3.36.0 |
| Command: /home/biocbuild/bbs-3.16-bioc/R/bin/R CMD check --install=check:trio.install-out.txt --library=/home/biocbuild/bbs-3.16-bioc/R/site-library --timings trio_3.36.0.tar.gz |
| StartedAt: 2023-04-11 00:40:16 -0400 (Tue, 11 Apr 2023) |
| EndedAt: 2023-04-11 00:43:31 -0400 (Tue, 11 Apr 2023) |
| EllapsedTime: 195.1 seconds |
| RetCode: 0 |
| Status: OK |
| CheckDir: trio.Rcheck |
| Warnings: 0 |
##############################################################################
##############################################################################
###
### Running command:
###
### /home/biocbuild/bbs-3.16-bioc/R/bin/R CMD check --install=check:trio.install-out.txt --library=/home/biocbuild/bbs-3.16-bioc/R/site-library --timings trio_3.36.0.tar.gz
###
##############################################################################
##############################################################################
* using log directory ‘/home/biocbuild/bbs-3.16-bioc/meat/trio.Rcheck’
* using R version 4.2.3 (2023-03-15)
* using platform: x86_64-pc-linux-gnu (64-bit)
* using session charset: UTF-8
* checking for file ‘trio/DESCRIPTION’ ... OK
* checking extension type ... Package
* this is package ‘trio’ version ‘3.36.0’
* checking package namespace information ... OK
* checking package dependencies ... OK
* checking if this is a source package ... OK
* checking if there is a namespace ... OK
* checking for hidden files and directories ... OK
* checking for portable file names ... OK
* checking for sufficient/correct file permissions ... OK
* checking whether package ‘trio’ can be installed ... OK
* checking installed package size ... OK
* checking package directory ... OK
* checking ‘build’ directory ... OK
* checking DESCRIPTION meta-information ... OK
* checking top-level files ... OK
* checking for left-over files ... OK
* checking index information ... OK
* checking package subdirectories ... OK
* checking R files for non-ASCII characters ... OK
* checking R files for syntax errors ... OK
* checking whether the package can be loaded ... OK
* checking whether the package can be loaded with stated dependencies ... OK
* checking whether the package can be unloaded cleanly ... OK
* checking whether the namespace can be loaded with stated dependencies ... OK
* checking whether the namespace can be unloaded cleanly ... OK
* checking loading without being on the library search path ... OK
* checking dependencies in R code ... OK
* checking S3 generic/method consistency ... OK
* checking replacement functions ... OK
* checking foreign function calls ... NOTE
Foreign function call to a different package:
.C("clogreg", ..., PACKAGE = "LogicReg")
See chapter ‘System and foreign language interfaces’ in the ‘Writing R
Extensions’ manual.
* checking R code for possible problems ... OK
* checking Rd files ... OK
* checking Rd metadata ... OK
* checking Rd cross-references ... OK
* checking for missing documentation entries ... OK
* checking for code/documentation mismatches ... OK
* checking Rd \usage sections ... OK
* checking Rd contents ... OK
* checking for unstated dependencies in examples ... OK
* checking contents of ‘data’ directory ... OK
* checking data for non-ASCII characters ... OK
* checking data for ASCII and uncompressed saves ... OK
* checking installed files from ‘inst/doc’ ... OK
* checking files in ‘vignettes’ ... OK
* checking examples ... OK
Examples with CPU (user + system) or elapsed time > 5s
user system elapsed
trioFS 5.482 0.168 5.65
* checking for unstated dependencies in vignettes ... OK
* checking package vignettes in ‘inst/doc’ ... OK
* checking running R code from vignettes ...
‘trio.Rnw’... OK
OK
* checking re-building of vignette outputs ... OK
* checking PDF version of manual ... OK
* DONE
Status: 1 NOTE
See
‘/home/biocbuild/bbs-3.16-bioc/meat/trio.Rcheck/00check.log’
for details.
trio.Rcheck/00install.out
############################################################################## ############################################################################## ### ### Running command: ### ### /home/biocbuild/bbs-3.16-bioc/R/bin/R CMD INSTALL trio ### ############################################################################## ############################################################################## * installing to library ‘/home/biocbuild/bbs-3.16-bioc/R/site-library’ * installing *source* package ‘trio’ ... ** using staged installation ** R ** data ** inst ** byte-compile and prepare package for lazy loading ** help *** installing help indices ** building package indices ** installing vignettes ** testing if installed package can be loaded from temporary location ** testing if installed package can be loaded from final location ** testing if installed package keeps a record of temporary installation path * DONE (trio)
trio.Rcheck/trio-Ex.timings
| name | user | system | elapsed | |
| allelicTDT | 0.026 | 0.000 | 0.026 | |
| colEMlrt | 0.1 | 0.0 | 0.1 | |
| colGxE | 0.008 | 0.000 | 0.008 | |
| colGxGPerms | 4.311 | 0.020 | 4.331 | |
| colPOlrt | 0.009 | 0.004 | 0.013 | |
| colTDTmaxTest | 0.041 | 0.000 | 0.041 | |
| colTDTsam | 0.031 | 0.000 | 0.031 | |
| findLDblocks | 0.024 | 0.000 | 0.024 | |
| getLD | 0.015 | 0.000 | 0.015 | |
| getMatPseudo | 0.008 | 0.000 | 0.008 | |
| lrControl | 0 | 0 | 0 | |
| ped2geno | 0 | 0 | 0 | |
| plot.LDblocks | 0.051 | 0.004 | 0.055 | |
| plot.getLD | 0.027 | 0.000 | 0.027 | |
| plot.trioLR | 3.263 | 0.188 | 3.454 | |
| poly4root | 0.000 | 0.001 | 0.000 | |
| print.colGxE | 0.037 | 0.003 | 0.040 | |
| print.trioFS | 4.766 | 0.100 | 4.867 | |
| print.trioLR | 2.402 | 0.048 | 2.450 | |
| probTDT | 0.074 | 0.012 | 0.087 | |
| read.pedfile | 0 | 0 | 0 | |
| removeSNPs | 0.01 | 0.00 | 0.01 | |
| scoreTDT | 0.018 | 0.000 | 0.018 | |
| tdt | 0.041 | 0.000 | 0.041 | |
| tdtGxG | 1.833 | 0.028 | 1.862 | |
| trio.check | 0.543 | 0.004 | 0.547 | |
| trio.data | 0.005 | 0.000 | 0.005 | |
| trio.permTest | 4.513 | 0.120 | 4.634 | |
| trio.power | 0.009 | 0.004 | 0.013 | |
| trio.prepare | 1.891 | 0.040 | 1.931 | |
| trio.sim | 0.354 | 0.028 | 0.382 | |
| trioFS | 5.482 | 0.168 | 5.650 | |
| trioLR | 2.569 | 0.032 | 2.601 | |