| Back to Multiple platform build/check report for BioC 3.16: simplified long |
|
This page was generated on 2023-04-12 11:06:30 -0400 (Wed, 12 Apr 2023).
| Hostname | OS | Arch (*) | R version | Installed pkgs |
|---|---|---|---|---|
| nebbiolo2 | Linux (Ubuntu 20.04.5 LTS) | x86_64 | 4.2.3 (2023-03-15) -- "Shortstop Beagle" | 4502 |
| palomino4 | Windows Server 2022 Datacenter | x64 | 4.2.3 (2023-03-15 ucrt) -- "Shortstop Beagle" | 4282 |
| lconway | macOS 12.5.1 Monterey | x86_64 | 4.2.3 (2023-03-15) -- "Shortstop Beagle" | 4310 |
| Click on any hostname to see more info about the system (e.g. compilers) (*) as reported by 'uname -p', except on Windows and Mac OS X | ||||
|
To the developers/maintainers of the trigger package: - Please allow up to 24 hours (and sometimes 48 hours) for your latest push to git@git.bioconductor.org:packages/trigger.git to reflect on this report. See How and When does the builder pull? When will my changes propagate? for more information. - Make sure to use the following settings in order to reproduce any error or warning you see on this page. |
| Package 2096/2183 | Hostname | OS / Arch | INSTALL | BUILD | CHECK | BUILD BIN | ||||||||
| trigger 1.44.0 (landing page) John D. Storey
| nebbiolo2 | Linux (Ubuntu 20.04.5 LTS) / x86_64 | OK | OK | OK | |||||||||
| palomino4 | Windows Server 2022 Datacenter / x64 | OK | OK | OK | OK | |||||||||
| lconway | macOS 12.5.1 Monterey / x86_64 | OK | OK | OK | OK | |||||||||
| Package: trigger |
| Version: 1.44.0 |
| Command: rm -rf trigger.buildbin-libdir && mkdir trigger.buildbin-libdir && /Users/biocbuild/BBS/utils/build-universal.sh trigger_1.44.0.tar.gz /Library/Frameworks/R.framework/Resources/bin/R trigger.buildbin-libdir |
| StartedAt: 2023-04-11 00:09:30 -0400 (Tue, 11 Apr 2023) |
| EndedAt: 2023-04-11 00:10:03 -0400 (Tue, 11 Apr 2023) |
| EllapsedTime: 33.1 seconds |
| RetCode: 0 |
| Status: OK |
| PackageFile: trigger_1.44.0.tgz |
| PackageFileSize: 2.2 MiB |
##############################################################################
##############################################################################
###
### Running command:
###
### rm -rf trigger.buildbin-libdir && mkdir trigger.buildbin-libdir && /Users/biocbuild/BBS/utils/build-universal.sh trigger_1.44.0.tar.gz /Library/Frameworks/R.framework/Resources/bin/R trigger.buildbin-libdir
###
##############################################################################
##############################################################################
>>>>>>>
>>>>>>> INSTALLATION WITH 'R CMD INSTALL --preclean --no-multiarch --library=trigger.buildbin-libdir trigger_1.44.0.tar.gz'
>>>>>>>
* installing *source* package ‘trigger’ ...
** using staged installation
** libs
clang -mmacosx-version-min=10.13 -I"/Library/Frameworks/R.framework/Resources/include" -DNDEBUG -I/usr/local/include -fPIC -Wall -g -O2 -c trigger.c -o trigger.o
trigger.c:25:20: warning: variable 'n3' set but not used [-Wunused-but-set-variable]
int i1,i2,i3,n1,n2,n3;
^
trigger.c:81:10: warning: variable 'nct' set but not used [-Wunused-but-set-variable]
int ntr, nct, i, j;
^
trigger.c:153:10: warning: variable 'nct' set but not used [-Wunused-but-set-variable]
int ntr, nct, i, j, k, nk;
^
trigger.c:233:10: warning: variable 'nct' set but not used [-Wunused-but-set-variable]
int ntr, nct, i, j;
^
trigger.c:310:10: warning: variable 'nct' set but not used [-Wunused-but-set-variable]
int ntr, nct, i, j, k, nk;
^
trigger.c:393:10: warning: variable 'nct' set but not used [-Wunused-but-set-variable]
int ntr, nct, i, j, k, nk;
^
6 warnings generated.
clang -mmacosx-version-min=10.13 -dynamiclib -Wl,-headerpad_max_install_names -undefined dynamic_lookup -single_module -multiply_defined suppress -L/Library/Frameworks/R.framework/Resources/lib -L/usr/local/lib -o trigger.so trigger.o -F/Library/Frameworks/R.framework/.. -framework R -Wl,-framework -Wl,CoreFoundation
installing to /Users/biocbuild/bbs-3.16-bioc/meat/trigger.buildbin-libdir/00LOCK-trigger/00new/trigger/libs
** R
** data
** inst
** byte-compile and prepare package for lazy loading
** help
*** installing help indices
** building package indices
** installing vignettes
** testing if installed package can be loaded from temporary location
** checking absolute paths in shared objects and dynamic libraries
** testing if installed package can be loaded from final location
** testing if installed package keeps a record of temporary installation path
* DONE (trigger)
>>>>>>>
>>>>>>> FIXING LINKS FOR trigger.buildbin-libdir/trigger/libs/trigger.so
>>>>>>>
install_name_tool -change "/usr/local/lib/libgcc_s.1.dylib" "/Library/Frameworks/R.framework/Versions/4.2/Resources/lib/libgcc_s.1.dylib" "trigger.buildbin-libdir/trigger/libs/trigger.so"
install_name_tool -change "/usr/local/lib/libgfortran.5.dylib" "/Library/Frameworks/R.framework/Versions/4.2/Resources/lib/libgfortran.5.dylib" "trigger.buildbin-libdir/trigger/libs/trigger.so"
install_name_tool -change "/usr/local/lib/libquadmath.0.dylib" "/Library/Frameworks/R.framework/Versions/4.2/Resources/lib/libquadmath.0.dylib" "trigger.buildbin-libdir/trigger/libs/trigger.so"