| Back to Multiple platform build/check report for BioC 3.16: simplified long |
|
This page was generated on 2023-04-12 11:05:22 -0400 (Wed, 12 Apr 2023).
| Hostname | OS | Arch (*) | R version | Installed pkgs |
|---|---|---|---|---|
| nebbiolo2 | Linux (Ubuntu 20.04.5 LTS) | x86_64 | 4.2.3 (2023-03-15) -- "Shortstop Beagle" | 4502 |
| palomino4 | Windows Server 2022 Datacenter | x64 | 4.2.3 (2023-03-15 ucrt) -- "Shortstop Beagle" | 4282 |
| lconway | macOS 12.5.1 Monterey | x86_64 | 4.2.3 (2023-03-15) -- "Shortstop Beagle" | 4310 |
| Click on any hostname to see more info about the system (e.g. compilers) (*) as reported by 'uname -p', except on Windows and Mac OS X | ||||
|
To the developers/maintainers of the tLOH package: - Please allow up to 24 hours (and sometimes 48 hours) for your latest push to git@git.bioconductor.org:packages/tLOH.git to reflect on this report. See How and When does the builder pull? When will my changes propagate? for more information. - Make sure to use the following settings in order to reproduce any error or warning you see on this page. |
| Package 2058/2183 | Hostname | OS / Arch | INSTALL | BUILD | CHECK | BUILD BIN | ||||||||
| tLOH 1.6.0 (landing page) Michelle Webb
| nebbiolo2 | Linux (Ubuntu 20.04.5 LTS) / x86_64 | OK | OK | OK | |||||||||
| palomino4 | Windows Server 2022 Datacenter / x64 | OK | OK | OK | OK | |||||||||
| lconway | macOS 12.5.1 Monterey / x86_64 | OK | OK | OK | OK | |||||||||
| Package: tLOH |
| Version: 1.6.0 |
| Command: /home/biocbuild/bbs-3.16-bioc/R/bin/R CMD check --install=check:tLOH.install-out.txt --library=/home/biocbuild/bbs-3.16-bioc/R/site-library --timings tLOH_1.6.0.tar.gz |
| StartedAt: 2023-04-11 00:33:55 -0400 (Tue, 11 Apr 2023) |
| EndedAt: 2023-04-11 00:44:16 -0400 (Tue, 11 Apr 2023) |
| EllapsedTime: 620.4 seconds |
| RetCode: 0 |
| Status: OK |
| CheckDir: tLOH.Rcheck |
| Warnings: 0 |
##############################################################################
##############################################################################
###
### Running command:
###
### /home/biocbuild/bbs-3.16-bioc/R/bin/R CMD check --install=check:tLOH.install-out.txt --library=/home/biocbuild/bbs-3.16-bioc/R/site-library --timings tLOH_1.6.0.tar.gz
###
##############################################################################
##############################################################################
* using log directory ‘/home/biocbuild/bbs-3.16-bioc/meat/tLOH.Rcheck’
* using R version 4.2.3 (2023-03-15)
* using platform: x86_64-pc-linux-gnu (64-bit)
* using session charset: UTF-8
* checking for file ‘tLOH/DESCRIPTION’ ... OK
* checking extension type ... Package
* this is package ‘tLOH’ version ‘1.6.0’
* package encoding: UTF-8
* checking package namespace information ... OK
* checking package dependencies ... OK
* checking if this is a source package ... OK
* checking if there is a namespace ... OK
* checking for hidden files and directories ... OK
* checking for portable file names ... OK
* checking for sufficient/correct file permissions ... OK
* checking whether package ‘tLOH’ can be installed ... OK
* checking installed package size ... OK
* checking package directory ... OK
* checking ‘build’ directory ... OK
* checking DESCRIPTION meta-information ... OK
* checking top-level files ... OK
* checking for left-over files ... OK
* checking index information ... OK
* checking package subdirectories ... OK
* checking R files for non-ASCII characters ... OK
* checking R files for syntax errors ... OK
* checking whether the package can be loaded ... OK
* checking whether the package can be loaded with stated dependencies ... OK
* checking whether the package can be unloaded cleanly ... OK
* checking whether the namespace can be loaded with stated dependencies ... OK
* checking whether the namespace can be unloaded cleanly ... OK
* checking loading without being on the library search path ... OK
* checking dependencies in R code ... OK
* checking S3 generic/method consistency ... OK
* checking replacement functions ... OK
* checking foreign function calls ... OK
* checking R code for possible problems ... OK
* checking Rd files ... OK
* checking Rd metadata ... OK
* checking Rd cross-references ... OK
* checking for missing documentation entries ... OK
* checking for code/documentation mismatches ... OK
* checking Rd \usage sections ... OK
* checking Rd contents ... OK
* checking for unstated dependencies in examples ... OK
* checking contents of ‘data’ directory ... OK
* checking data for non-ASCII characters ... OK
* checking data for ASCII and uncompressed saves ... OK
* checking files in ‘vignettes’ ... OK
* checking examples ... OK
Examples with CPU (user + system) or elapsed time > 5s
user system elapsed
hiddenMarkovAnalysis 62.346 0.680 63.007
regionAnalysis 57.861 0.396 62.161
runHMM_2 40.549 0.272 40.822
runHMM_3 40.510 0.136 40.648
prepareHMMdataframes 31.252 0.164 32.093
runHMM_1 26.978 0.160 28.177
tLOHCalcUpdate 22.536 0.020 22.557
splitByChromosome 21.974 0.068 22.042
aggregateCHRPlot 6.330 0.288 6.607
alleleFrequencyPlot 5.292 0.104 5.395
* checking for unstated dependencies in vignettes ... OK
* checking package vignettes in ‘inst/doc’ ... OK
* checking running R code from vignettes ...
‘tLOH_vignette.Rmd’ using ‘UTF-8’... OK
NONE
* checking re-building of vignette outputs ... OK
* checking PDF version of manual ... OK
* DONE
Status: OK
tLOH.Rcheck/00install.out
############################################################################## ############################################################################## ### ### Running command: ### ### /home/biocbuild/bbs-3.16-bioc/R/bin/R CMD INSTALL tLOH ### ############################################################################## ############################################################################## * installing to library ‘/home/biocbuild/bbs-3.16-bioc/R/site-library’ * installing *source* package ‘tLOH’ ... ** using staged installation ** R ** data ** inst ** byte-compile and prepare package for lazy loading ** help *** installing help indices ** building package indices ** installing vignettes ** testing if installed package can be loaded from temporary location ** testing if installed package can be loaded from final location ** testing if installed package keeps a record of temporary installation path * DONE (tLOH)
tLOH.Rcheck/tLOH-Ex.timings
| name | user | system | elapsed | |
| aggregateCHRPlot | 6.330 | 0.288 | 6.607 | |
| alleleFrequencyPlot | 5.292 | 0.104 | 5.395 | |
| documentErrorRegions | 0.002 | 0.000 | 0.002 | |
| hiddenMarkovAnalysis | 62.346 | 0.680 | 63.007 | |
| humanGBMsampleAC | 0.039 | 0.000 | 0.039 | |
| initialStartProbabilities | 0.001 | 0.000 | 0.001 | |
| marginalLikelihoodM1 | 0.002 | 0.000 | 0.003 | |
| marginalLikelihoodM2 | 0.001 | 0.000 | 0.001 | |
| marginalM1Calc | 0 | 0 | 0 | |
| marginalM2CalcBHET | 0.001 | 0.000 | 0.001 | |
| marginalM2CalcBLOH | 0.001 | 0.000 | 0.001 | |
| modePeakCalc | 0.001 | 0.000 | 0.001 | |
| prepareHMMdataframes | 31.252 | 0.164 | 32.093 | |
| regionAnalysis | 57.861 | 0.396 | 62.161 | |
| regionFinalize | 0 | 0 | 0 | |
| removeOutlierFromCalc | 0.001 | 0.000 | 0.001 | |
| runHMM_1 | 26.978 | 0.160 | 28.177 | |
| runHMM_2 | 40.549 | 0.272 | 40.822 | |
| runHMM_3 | 40.510 | 0.136 | 40.648 | |
| splitByChromosome | 21.974 | 0.068 | 22.042 | |
| summarizeRegions1 | 0 | 0 | 0 | |
| summarizeRegions2 | 0 | 0 | 0 | |
| tLOHCalc | 3.895 | 0.060 | 3.956 | |
| tLOHCalcUpdate | 22.536 | 0.020 | 22.557 | |
| tLOHDataImport | 0 | 0 | 0 | |