| Back to Multiple platform build/check report for BioC 3.16: simplified long |
|
This page was generated on 2023-04-12 11:05:21 -0400 (Wed, 12 Apr 2023).
| Hostname | OS | Arch (*) | R version | Installed pkgs |
|---|---|---|---|---|
| nebbiolo2 | Linux (Ubuntu 20.04.5 LTS) | x86_64 | 4.2.3 (2023-03-15) -- "Shortstop Beagle" | 4502 |
| palomino4 | Windows Server 2022 Datacenter | x64 | 4.2.3 (2023-03-15 ucrt) -- "Shortstop Beagle" | 4282 |
| lconway | macOS 12.5.1 Monterey | x86_64 | 4.2.3 (2023-03-15) -- "Shortstop Beagle" | 4310 |
| Click on any hostname to see more info about the system (e.g. compilers) (*) as reported by 'uname -p', except on Windows and Mac OS X | ||||
|
To the developers/maintainers of the syntenet package: - Please allow up to 24 hours (and sometimes 48 hours) for your latest push to git@git.bioconductor.org:packages/syntenet.git to reflect on this report. See How and When does the builder pull? When will my changes propagate? for more information. - Make sure to use the following settings in order to reproduce any error or warning you see on this page. |
| Package 2013/2183 | Hostname | OS / Arch | INSTALL | BUILD | CHECK | BUILD BIN | ||||||||
| syntenet 1.0.4 (landing page) Fabrício Almeida-Silva
| nebbiolo2 | Linux (Ubuntu 20.04.5 LTS) / x86_64 | OK | OK | OK | |||||||||
| palomino4 | Windows Server 2022 Datacenter / x64 | OK | OK | OK | OK | |||||||||
| lconway | macOS 12.5.1 Monterey / x86_64 | OK | OK | OK | OK | |||||||||
| Package: syntenet |
| Version: 1.0.4 |
| Command: /home/biocbuild/bbs-3.16-bioc/R/bin/R CMD check --install=check:syntenet.install-out.txt --library=/home/biocbuild/bbs-3.16-bioc/R/site-library --timings syntenet_1.0.4.tar.gz |
| StartedAt: 2023-04-11 00:28:05 -0400 (Tue, 11 Apr 2023) |
| EndedAt: 2023-04-11 00:32:40 -0400 (Tue, 11 Apr 2023) |
| EllapsedTime: 275.3 seconds |
| RetCode: 0 |
| Status: OK |
| CheckDir: syntenet.Rcheck |
| Warnings: 0 |
##############################################################################
##############################################################################
###
### Running command:
###
### /home/biocbuild/bbs-3.16-bioc/R/bin/R CMD check --install=check:syntenet.install-out.txt --library=/home/biocbuild/bbs-3.16-bioc/R/site-library --timings syntenet_1.0.4.tar.gz
###
##############################################################################
##############################################################################
* using log directory ‘/home/biocbuild/bbs-3.16-bioc/meat/syntenet.Rcheck’
* using R version 4.2.3 (2023-03-15)
* using platform: x86_64-pc-linux-gnu (64-bit)
* using session charset: UTF-8
* checking for file ‘syntenet/DESCRIPTION’ ... OK
* this is package ‘syntenet’ version ‘1.0.4’
* package encoding: UTF-8
* checking package namespace information ... OK
* checking package dependencies ... OK
* checking if this is a source package ... OK
* checking if there is a namespace ... OK
* checking for hidden files and directories ... OK
* checking for portable file names ... OK
* checking for sufficient/correct file permissions ... OK
* checking whether package ‘syntenet’ can be installed ... OK
* checking installed package size ... NOTE
installed size is 12.6Mb
sub-directories of 1Mb or more:
data 1.1Mb
libs 11.1Mb
* checking package directory ... OK
* checking ‘build’ directory ... OK
* checking DESCRIPTION meta-information ... OK
* checking top-level files ... OK
* checking for left-over files ... OK
* checking index information ... OK
* checking package subdirectories ... OK
* checking R files for non-ASCII characters ... OK
* checking R files for syntax errors ... OK
* checking whether the package can be loaded ... OK
* checking whether the package can be loaded with stated dependencies ... OK
* checking whether the package can be unloaded cleanly ... OK
* checking whether the namespace can be loaded with stated dependencies ... OK
* checking whether the namespace can be unloaded cleanly ... OK
* checking loading without being on the library search path ... OK
* checking dependencies in R code ... OK
* checking S3 generic/method consistency ... OK
* checking replacement functions ... OK
* checking foreign function calls ... OK
* checking R code for possible problems ... OK
* checking Rd files ... OK
* checking Rd metadata ... OK
* checking Rd cross-references ... OK
* checking for missing documentation entries ... OK
* checking for code/documentation mismatches ... OK
* checking Rd \usage sections ... OK
* checking Rd contents ... OK
* checking for unstated dependencies in examples ... OK
* checking contents of ‘data’ directory ... OK
* checking data for non-ASCII characters ... OK
* checking data for ASCII and uncompressed saves ... OK
* checking line endings in C/C++/Fortran sources/headers ... OK
* checking compiled code ... NOTE
Note: information on .o files is not available
* checking files in ‘vignettes’ ... OK
* checking examples ... OK
* checking for unstated dependencies in ‘tests’ ... OK
* checking tests ...
Running ‘testthat.R’
OK
* checking for unstated dependencies in vignettes ... OK
* checking package vignettes in ‘inst/doc’ ... OK
* checking running R code from vignettes ...
‘syntenet.Rmd’ using ‘UTF-8’... OK
NONE
* checking re-building of vignette outputs ... OK
* checking PDF version of manual ... OK
* DONE
Status: 2 NOTEs
See
‘/home/biocbuild/bbs-3.16-bioc/meat/syntenet.Rcheck/00check.log’
for details.
syntenet.Rcheck/00install.out
############################################################################## ############################################################################## ### ### Running command: ### ### /home/biocbuild/bbs-3.16-bioc/R/bin/R CMD INSTALL syntenet ### ############################################################################## ############################################################################## * installing to library ‘/home/biocbuild/bbs-3.16-bioc/R/site-library’ * installing *source* package ‘syntenet’ ... ** using staged installation ** libs g++ -std=gnu++14 -I"/home/biocbuild/bbs-3.16-bioc/R/include" -DNDEBUG -I'/home/biocbuild/bbs-3.16-bioc/R/site-library/Rcpp/include' -I'/home/biocbuild/bbs-3.16-bioc/R/site-library/testthat/include' -I/usr/local/include -fpic -g -O2 -Wall -c RcppExports.cpp -o RcppExports.o g++ -std=gnu++14 -I"/home/biocbuild/bbs-3.16-bioc/R/include" -DNDEBUG -I'/home/biocbuild/bbs-3.16-bioc/R/site-library/Rcpp/include' -I'/home/biocbuild/bbs-3.16-bioc/R/site-library/testthat/include' -I/usr/local/include -fpic -g -O2 -Wall -c mcscanxr.cpp -o mcscanxr.o g++ -std=gnu++14 -I"/home/biocbuild/bbs-3.16-bioc/R/include" -DNDEBUG -I'/home/biocbuild/bbs-3.16-bioc/R/site-library/Rcpp/include' -I'/home/biocbuild/bbs-3.16-bioc/R/site-library/testthat/include' -I/usr/local/include -fpic -g -O2 -Wall -c test-runner.cpp -o test-runner.o g++ -std=gnu++14 -shared -L/home/biocbuild/bbs-3.16-bioc/R/lib -L/usr/local/lib -o syntenet.so RcppExports.o mcscanxr.o test-runner.o -L/home/biocbuild/bbs-3.16-bioc/R/lib -lR installing to /home/biocbuild/bbs-3.16-bioc/R/site-library/00LOCK-syntenet/00new/syntenet/libs ** R ** data ** inst ** byte-compile and prepare package for lazy loading ** help *** installing help indices *** copying figures ** building package indices ** installing vignettes ** testing if installed package can be loaded from temporary location ** checking absolute paths in shared objects and dynamic libraries ** testing if installed package can be loaded from final location ** testing if installed package keeps a record of temporary installation path * DONE (syntenet)
syntenet.Rcheck/tests/testthat.Rout
R version 4.2.3 (2023-03-15) -- "Shortstop Beagle"
Copyright (C) 2023 The R Foundation for Statistical Computing
Platform: x86_64-pc-linux-gnu (64-bit)
R is free software and comes with ABSOLUTELY NO WARRANTY.
You are welcome to redistribute it under certain conditions.
Type 'license()' or 'licence()' for distribution details.
R is a collaborative project with many contributors.
Type 'contributors()' for more information and
'citation()' on how to cite R or R packages in publications.
Type 'demo()' for some demos, 'help()' for on-line help, or
'help.start()' for an HTML browser interface to help.
Type 'q()' to quit R.
> library(testthat)
> library(syntenet)
>
> test_check("syntenet")
Reading GFF file and pre-processing
Reading BLAST file and pre-processing
Generating BLAST list
match_list.size: 172
172 matches imported (171 discarded)
6 pairwise comparisons
0 alignments generated
Pairwise collinear blocks written to Olu.collinearity
Done!
Reading GFF file and pre-processing
Reading BLAST file and pre-processing
Generating BLAST list
match_list.size: 19
19 matches imported (17 discarded)
6 pairwise comparisons
0 alignments generated
Pairwise collinear blocks written to Osp.collinearity
Done!
Reading GFF file and pre-processing
Reading BLAST file and pre-processing
Generating BLAST list
match_list.size: 1267
1267 matches imported (1257 discarded)
9 pairwise comparisons
8 alignments generated
Pairwise collinear blocks written to Olucimarinus_OspRCC809.collinearity
Done!
Reading GFF file and pre-processing
Reading BLAST file and pre-processing
Generating BLAST list
match_list.size: 172
172 matches imported (171 discarded)
6 pairwise comparisons
0 alignments generated
Pairwise collinear blocks written to Olu.collinearity
Tandem pairs written to Olu.tandem
Writing multiple syntenic blocks to HTML files
Olu_Chr_1.html
Olu_Chr_2.html
Olu_Chr_3.html
Done!
Reading GFF file and pre-processing
Reading BLAST file and pre-processing
Generating BLAST list
match_list.size: 19
19 matches imported (17 discarded)
6 pairwise comparisons
0 alignments generated
Pairwise collinear blocks written to Osp.collinearity
Writing multiple syntenic blocks to HTML files
Osp_chr_1.html
Osp_chr_2.html
Osp_chr_3.html
Done!
Reading GFF file and pre-processing
Reading BLAST file and pre-processing
Generating BLAST list
match_list.size: 1267
1267 matches imported (1257 discarded)
9 pairwise comparisons
8 alignments generated
Pairwise collinear blocks written to Olucimarinus_OspRCC809.collinearity
Writing multiple syntenic blocks to HTML files
Olu_Chr_1.html
Olu_Chr_2.html
Olu_Chr_3.html
Osp_chr_1.html
Osp_chr_2.html
Osp_chr_3.html
Done!
[ FAIL 0 | WARN 0 | SKIP 0 | PASS 78 ]
>
> proc.time()
user system elapsed
24.894 1.049 25.927
syntenet.Rcheck/syntenet-Ex.timings
| name | user | system | elapsed | |
| angiosperm_phylogeny | 0.003 | 0.000 | 0.003 | |
| annotation | 0.008 | 0.000 | 0.007 | |
| binarize_and_transpose | 0.128 | 0.004 | 0.133 | |
| blast_list | 0.017 | 0.000 | 0.017 | |
| check_input | 0.172 | 0.024 | 0.197 | |
| cluster_network | 0.268 | 0.012 | 0.280 | |
| clusters | 0.035 | 0.000 | 0.034 | |
| diamond_is_installed | 0.002 | 0.002 | 0.003 | |
| edges | 0.002 | 0.000 | 0.002 | |
| fasta2AAStringSetlist | 0.028 | 0.004 | 0.033 | |
| find_GS_clusters | 4.447 | 0.084 | 4.531 | |
| gff2GRangesList | 0.2 | 0.0 | 0.2 | |
| infer_microsynteny_phylogeny | 0.116 | 0.008 | 0.123 | |
| infer_syntenet | 0.449 | 0.028 | 0.476 | |
| interspecies_synteny | 0.115 | 0.008 | 0.123 | |
| intraspecies_synteny | 0.059 | 0.000 | 0.059 | |
| iqtree_is_installed | 0.002 | 0.000 | 0.002 | |
| network | 0.246 | 0.008 | 0.254 | |
| parse_collinearity | 0.003 | 0.000 | 0.003 | |
| phylogenomic_profile | 0.113 | 0.004 | 0.117 | |
| plot_network | 1.95 | 0.08 | 2.03 | |
| plot_profiles | 3.204 | 0.124 | 3.328 | |
| process_input | 0.176 | 0.012 | 0.188 | |
| profiles2phylip | 0.165 | 0.004 | 0.169 | |
| proteomes | 0.084 | 0.000 | 0.083 | |
| run_diamond | 0.193 | 0.000 | 0.193 | |