| Back to Multiple platform build/check report for BioC 3.16: simplified long |
|
This page was generated on 2023-04-12 11:06:27 -0400 (Wed, 12 Apr 2023).
| Hostname | OS | Arch (*) | R version | Installed pkgs |
|---|---|---|---|---|
| nebbiolo2 | Linux (Ubuntu 20.04.5 LTS) | x86_64 | 4.2.3 (2023-03-15) -- "Shortstop Beagle" | 4502 |
| palomino4 | Windows Server 2022 Datacenter | x64 | 4.2.3 (2023-03-15 ucrt) -- "Shortstop Beagle" | 4282 |
| lconway | macOS 12.5.1 Monterey | x86_64 | 4.2.3 (2023-03-15) -- "Shortstop Beagle" | 4310 |
| Click on any hostname to see more info about the system (e.g. compilers) (*) as reported by 'uname -p', except on Windows and Mac OS X | ||||
|
To the developers/maintainers of the spicyR package: - Please allow up to 24 hours (and sometimes 48 hours) for your latest push to git@git.bioconductor.org:packages/spicyR.git to reflect on this report. See How and When does the builder pull? When will my changes propagate? for more information. - Make sure to use the following settings in order to reproduce any error or warning you see on this page. |
| Package 1939/2183 | Hostname | OS / Arch | INSTALL | BUILD | CHECK | BUILD BIN | ||||||||
| spicyR 1.10.7 (landing page) Ellis Patrick
| nebbiolo2 | Linux (Ubuntu 20.04.5 LTS) / x86_64 | OK | OK | OK | |||||||||
| palomino4 | Windows Server 2022 Datacenter / x64 | OK | OK | OK | OK | |||||||||
| lconway | macOS 12.5.1 Monterey / x86_64 | OK | OK | OK | OK | |||||||||
| Package: spicyR |
| Version: 1.10.7 |
| Command: /Library/Frameworks/R.framework/Resources/bin/R CMD check --install=check:spicyR.install-out.txt --library=/Library/Frameworks/R.framework/Resources/library --no-vignettes --timings spicyR_1.10.7.tar.gz |
| StartedAt: 2023-04-10 22:51:49 -0400 (Mon, 10 Apr 2023) |
| EndedAt: 2023-04-10 22:55:36 -0400 (Mon, 10 Apr 2023) |
| EllapsedTime: 227.1 seconds |
| RetCode: 0 |
| Status: OK |
| CheckDir: spicyR.Rcheck |
| Warnings: 0 |
##############################################################################
##############################################################################
###
### Running command:
###
### /Library/Frameworks/R.framework/Resources/bin/R CMD check --install=check:spicyR.install-out.txt --library=/Library/Frameworks/R.framework/Resources/library --no-vignettes --timings spicyR_1.10.7.tar.gz
###
##############################################################################
##############################################################################
* using log directory ‘/Users/biocbuild/bbs-3.16-bioc/meat/spicyR.Rcheck’
* using R version 4.2.3 (2023-03-15)
* using platform: x86_64-apple-darwin17.0 (64-bit)
* using session charset: UTF-8
* using option ‘--no-vignettes’
* checking for file ‘spicyR/DESCRIPTION’ ... OK
* checking extension type ... Package
* this is package ‘spicyR’ version ‘1.10.7’
* package encoding: UTF-8
* checking package namespace information ... OK
* checking package dependencies ... OK
* checking if this is a source package ... OK
* checking if there is a namespace ... OK
* checking for hidden files and directories ... OK
* checking for portable file names ... OK
* checking for sufficient/correct file permissions ... OK
* checking whether package ‘spicyR’ can be installed ... OK
* checking installed package size ... NOTE
installed size is 5.9Mb
sub-directories of 1Mb or more:
data 4.1Mb
* checking package directory ... OK
* checking ‘build’ directory ... OK
* checking DESCRIPTION meta-information ... OK
* checking top-level files ... OK
* checking for left-over files ... OK
* checking index information ... OK
* checking package subdirectories ... OK
* checking R files for non-ASCII characters ... OK
* checking R files for syntax errors ... OK
* checking whether the package can be loaded ... OK
* checking whether the package can be loaded with stated dependencies ... OK
* checking whether the package can be unloaded cleanly ... OK
* checking whether the namespace can be loaded with stated dependencies ... OK
* checking whether the namespace can be unloaded cleanly ... OK
* checking dependencies in R code ... OK
* checking S3 generic/method consistency ... OK
* checking replacement functions ... OK
* checking foreign function calls ... OK
* checking R code for possible problems ... NOTE
bubblePlot: no visible binding for global variable ‘condition’
calcWeights: no visible binding for global variable ‘pairwiseAssoc’
inhomL: no visible binding for global variable ‘j’
inhomL: no visible binding for global variable ‘value’
inhomL: no visible binding for global variable ‘i’
inhomL: no visible binding for global variable ‘d’
inhomL: no visible binding for global variable ‘cellTypeI’
inhomL: no visible binding for global variable ‘cellTypeJ’
inhomL: no visible global function definition for ‘.’
inhomL: no visible binding for global variable ‘wt’
inhomLPair: no visible binding for global variable ‘i’
spatialLMBootstrap : functionToReplicate: no visible global function
definition for ‘nrows’
spicy: no visible global function definition for ‘column_to_rownames’
spicy: no visible global function definition for ‘%>%’
spicy: no visible binding for global variable ‘konditionalResult’
spicy: no visible global function definition for ‘select’
spicy: no visible binding for global variable ‘test’
spicy: no visible binding for global variable ‘konditional’
spicy: no visible global function definition for ‘pivot_wider’
spicy: no visible global function definition for ‘mutate’
spicy: no visible global function definition for ‘separate’
spicy: no visible binding for global variable ‘fromName’
spicy: no visible binding for global variable ‘parent’
Undefined global functions or variables:
%>% . cellTypeI cellTypeJ column_to_rownames condition d fromName i j
konditional konditionalResult mutate nrows pairwiseAssoc parent
pivot_wider select separate test value wt
* checking Rd files ... OK
* checking Rd metadata ... OK
* checking Rd cross-references ... OK
* checking for missing documentation entries ... OK
* checking for code/documentation mismatches ... OK
* checking Rd \usage sections ... OK
* checking Rd contents ... OK
* checking for unstated dependencies in examples ... OK
* checking contents of ‘data’ directory ... OK
* checking data for non-ASCII characters ... OK
* checking LazyData ... OK
* checking data for ASCII and uncompressed saves ... OK
* checking files in ‘vignettes’ ... OK
* checking examples ... OK
Examples with CPU (user + system) or elapsed time > 5s
user system elapsed
spicy 14.699 0.175 14.897
* checking for unstated dependencies in vignettes ... OK
* checking package vignettes in ‘inst/doc’ ... OK
* checking running R code from vignettes ... SKIPPED
* checking re-building of vignette outputs ... SKIPPED
* checking PDF version of manual ... OK
* DONE
Status: 2 NOTEs
See
‘/Users/biocbuild/bbs-3.16-bioc/meat/spicyR.Rcheck/00check.log’
for details.
spicyR.Rcheck/00install.out
############################################################################## ############################################################################## ### ### Running command: ### ### /Library/Frameworks/R.framework/Resources/bin/R CMD INSTALL spicyR ### ############################################################################## ############################################################################## * installing to library ‘/Library/Frameworks/R.framework/Versions/4.2/Resources/library’ * installing *source* package ‘spicyR’ ... ** using staged installation ** R ** data *** moving datasets to lazyload DB ** inst ** byte-compile and prepare package for lazy loading ** help *** installing help indices ** building package indices ** installing vignettes ** testing if installed package can be loaded from temporary location ** testing if installed package can be loaded from final location ** testing if installed package keeps a record of temporary installation path * DONE (spicyR)
spicyR.Rcheck/spicyR-Ex.timings
| name | user | system | elapsed | |
| Accessors | 0.418 | 0.009 | 0.427 | |
| SegmentedCells | 0.199 | 0.003 | 0.202 | |
| colTest | 4.154 | 0.088 | 4.246 | |
| getPairwise | 2.916 | 0.129 | 3.051 | |
| getProp | 1.017 | 0.023 | 1.043 | |
| plot-SegmentedCells | 0.162 | 0.001 | 0.162 | |
| show-SegmentedCells | 0.223 | 0.001 | 0.224 | |
| signifPlot | 0.940 | 0.049 | 0.993 | |
| spicy | 14.699 | 0.175 | 14.897 | |
| topPairs | 0.005 | 0.002 | 0.006 | |