| Back to Multiple platform build/check report for BioC 3.16: simplified long |
|
This page was generated on 2023-04-12 11:05:53 -0400 (Wed, 12 Apr 2023).
| Hostname | OS | Arch (*) | R version | Installed pkgs |
|---|---|---|---|---|
| nebbiolo2 | Linux (Ubuntu 20.04.5 LTS) | x86_64 | 4.2.3 (2023-03-15) -- "Shortstop Beagle" | 4502 |
| palomino4 | Windows Server 2022 Datacenter | x64 | 4.2.3 (2023-03-15 ucrt) -- "Shortstop Beagle" | 4282 |
| lconway | macOS 12.5.1 Monterey | x86_64 | 4.2.3 (2023-03-15) -- "Shortstop Beagle" | 4310 |
| Click on any hostname to see more info about the system (e.g. compilers) (*) as reported by 'uname -p', except on Windows and Mac OS X | ||||
|
To the developers/maintainers of the spatialHeatmap package: - Please allow up to 24 hours (and sometimes 48 hours) for your latest push to git@git.bioconductor.org:packages/spatialHeatmap.git to reflect on this report. See How and When does the builder pull? When will my changes propagate? for more information. - Make sure to use the following settings in order to reproduce any error or warning you see on this page. |
| Package 1930/2183 | Hostname | OS / Arch | INSTALL | BUILD | CHECK | BUILD BIN | ||||||||
| spatialHeatmap 2.4.0 (landing page) Jianhai Zhang
| nebbiolo2 | Linux (Ubuntu 20.04.5 LTS) / x86_64 | OK | OK | OK | |||||||||
| palomino4 | Windows Server 2022 Datacenter / x64 | OK | OK | OK | OK | |||||||||
| lconway | macOS 12.5.1 Monterey / x86_64 | OK | OK | OK | OK | |||||||||
| Package: spatialHeatmap |
| Version: 2.4.0 |
| Command: F:\biocbuild\bbs-3.16-bioc\R\bin\R.exe CMD check --no-multiarch --install=check:spatialHeatmap.install-out.txt --library=F:\biocbuild\bbs-3.16-bioc\R\library --no-vignettes --timings spatialHeatmap_2.4.0.tar.gz |
| StartedAt: 2023-04-11 06:16:44 -0400 (Tue, 11 Apr 2023) |
| EndedAt: 2023-04-11 06:23:49 -0400 (Tue, 11 Apr 2023) |
| EllapsedTime: 424.9 seconds |
| RetCode: 0 |
| Status: OK |
| CheckDir: spatialHeatmap.Rcheck |
| Warnings: 0 |
##############################################################################
##############################################################################
###
### Running command:
###
### F:\biocbuild\bbs-3.16-bioc\R\bin\R.exe CMD check --no-multiarch --install=check:spatialHeatmap.install-out.txt --library=F:\biocbuild\bbs-3.16-bioc\R\library --no-vignettes --timings spatialHeatmap_2.4.0.tar.gz
###
##############################################################################
##############################################################################
* using log directory 'F:/biocbuild/bbs-3.16-bioc/meat/spatialHeatmap.Rcheck'
* using R version 4.2.3 (2023-03-15 ucrt)
* using platform: x86_64-w64-mingw32 (64-bit)
* using session charset: UTF-8
* using option '--no-vignettes'
* checking for file 'spatialHeatmap/DESCRIPTION' ... OK
* checking extension type ... Package
* this is package 'spatialHeatmap' version '2.4.0'
* package encoding: UTF-8
* checking package namespace information ... OK
* checking package dependencies ... OK
* checking if this is a source package ... OK
* checking if there is a namespace ... OK
* checking for hidden files and directories ... OK
* checking for portable file names ... OK
* checking whether package 'spatialHeatmap' can be installed ... OK
* checking installed package size ... NOTE
installed size is 19.1Mb
sub-directories of 1Mb or more:
R 1.1Mb
extdata 17.6Mb
* checking package directory ... OK
* checking 'build' directory ... OK
* checking DESCRIPTION meta-information ... OK
* checking top-level files ... OK
* checking for left-over files ... OK
* checking index information ... OK
* checking package subdirectories ... OK
* checking R files for non-ASCII characters ... OK
* checking R files for syntax errors ... OK
* checking whether the package can be loaded ... OK
* checking whether the package can be loaded with stated dependencies ... OK
* checking whether the package can be unloaded cleanly ... OK
* checking whether the namespace can be loaded with stated dependencies ... OK
* checking whether the namespace can be unloaded cleanly ... OK
* checking dependencies in R code ... OK
* checking S3 generic/method consistency ... OK
* checking replacement functions ... OK
* checking foreign function calls ... OK
* checking R code for possible problems ... OK
* checking Rd files ... OK
* checking Rd metadata ... OK
* checking Rd cross-references ... OK
* checking for missing documentation entries ... OK
* checking for code/documentation mismatches ... OK
* checking Rd \usage sections ... OK
* checking Rd contents ... OK
* checking for unstated dependencies in examples ... OK
* checking contents of 'data' directory ... OK
* checking data for non-ASCII characters ... OK
* checking data for ASCII and uncompressed saves ... OK
* checking files in 'vignettes' ... OK
* checking examples ... OK
Examples with CPU (user + system) or elapsed time > 5s
user system elapsed
read_hdf5 16.80 0.74 17.89
write_hdf5 11.08 0.37 11.45
covis 10.15 0.33 11.51
spatial_hm 8.19 0.20 9.85
spatialHeatmap-package 7.88 0.22 9.19
manual_group 7.45 0.07 7.51
reduce_dim 7.07 0.08 7.13
process_cell_meta 6.84 0.06 6.92
* checking for unstated dependencies in 'tests' ... OK
* checking tests ...
Running 'runTests.R'
OK
* checking for unstated dependencies in vignettes ... OK
* checking package vignettes in 'inst/doc' ... OK
* checking running R code from vignettes ... SKIPPED
* checking re-building of vignette outputs ... SKIPPED
* checking PDF version of manual ... OK
* DONE
Status: 1 NOTE
See
'F:/biocbuild/bbs-3.16-bioc/meat/spatialHeatmap.Rcheck/00check.log'
for details.
spatialHeatmap.Rcheck/00install.out
############################################################################## ############################################################################## ### ### Running command: ### ### F:\biocbuild\bbs-3.16-bioc\R\bin\R.exe CMD INSTALL spatialHeatmap ### ############################################################################## ############################################################################## * installing to library 'F:/biocbuild/bbs-3.16-bioc/R/library' * installing *source* package 'spatialHeatmap' ... ** using staged installation ** R ** data ** inst ** byte-compile and prepare package for lazy loading Creating a new generic function for 'svg' in package 'spatialHeatmap' ** help *** installing help indices ** building package indices ** installing vignettes ** testing if installed package can be loaded from temporary location ** testing if installed package can be loaded from final location ** testing if installed package keeps a record of temporary installation path * DONE (spatialHeatmap)
spatialHeatmap.Rcheck/tests/runTests.Rout
R version 4.2.3 (2023-03-15 ucrt) -- "Shortstop Beagle"
Copyright (C) 2023 The R Foundation for Statistical Computing
Platform: x86_64-w64-mingw32/x64 (64-bit)
R is free software and comes with ABSOLUTELY NO WARRANTY.
You are welcome to redistribute it under certain conditions.
Type 'license()' or 'licence()' for distribution details.
R is a collaborative project with many contributors.
Type 'contributors()' for more information and
'citation()' on how to cite R or R packages in publications.
Type 'demo()' for some demos, 'help()' for on-line help, or
'help.start()' for an HTML browser interface to help.
Type 'q()' to quit R.
> BiocGenerics:::testPackage("spatialHeatmap")
Attaching package: 'spatialHeatmap'
The following object is masked from 'package:grDevices':
svg
Loading required package: Biobase
Loading required package: BiocGenerics
Attaching package: 'BiocGenerics'
The following objects are masked from 'package:stats':
IQR, mad, sd, var, xtabs
The following objects are masked from 'package:base':
Filter, Find, Map, Position, Reduce, anyDuplicated, aperm, append,
as.data.frame, basename, cbind, colnames, dirname, do.call,
duplicated, eval, evalq, get, grep, grepl, intersect, is.unsorted,
lapply, mapply, match, mget, order, paste, pmax, pmax.int, pmin,
pmin.int, rank, rbind, rownames, sapply, setdiff, sort, table,
tapply, union, unique, unsplit, which.max, which.min
Welcome to Bioconductor
Vignettes contain introductory material; view with
'browseVignettes()'. To cite Bioconductor, see
'citation("Biobase")', and for packages 'citation("pkgname")'.
Loading required package: SummarizedExperiment
Loading required package: MatrixGenerics
Loading required package: matrixStats
Attaching package: 'matrixStats'
The following objects are masked from 'package:Biobase':
anyMissing, rowMedians
Attaching package: 'MatrixGenerics'
The following objects are masked from 'package:matrixStats':
colAlls, colAnyNAs, colAnys, colAvgsPerRowSet, colCollapse,
colCounts, colCummaxs, colCummins, colCumprods, colCumsums,
colDiffs, colIQRDiffs, colIQRs, colLogSumExps, colMadDiffs,
colMads, colMaxs, colMeans2, colMedians, colMins, colOrderStats,
colProds, colQuantiles, colRanges, colRanks, colSdDiffs, colSds,
colSums2, colTabulates, colVarDiffs, colVars, colWeightedMads,
colWeightedMeans, colWeightedMedians, colWeightedSds,
colWeightedVars, rowAlls, rowAnyNAs, rowAnys, rowAvgsPerColSet,
rowCollapse, rowCounts, rowCummaxs, rowCummins, rowCumprods,
rowCumsums, rowDiffs, rowIQRDiffs, rowIQRs, rowLogSumExps,
rowMadDiffs, rowMads, rowMaxs, rowMeans2, rowMedians, rowMins,
rowOrderStats, rowProds, rowQuantiles, rowRanges, rowRanks,
rowSdDiffs, rowSds, rowSums2, rowTabulates, rowVarDiffs, rowVars,
rowWeightedMads, rowWeightedMeans, rowWeightedMedians,
rowWeightedSds, rowWeightedVars
The following object is masked from 'package:Biobase':
rowMedians
Loading required package: GenomicRanges
Loading required package: stats4
Loading required package: S4Vectors
Attaching package: 'S4Vectors'
The following objects are masked from 'package:base':
I, expand.grid, unname
Loading required package: IRanges
Attaching package: 'IRanges'
The following object is masked from 'package:grDevices':
windows
Loading required package: GenomeInfoDb
Loading required package: limma
Attaching package: 'limma'
The following object is masked from 'package:BiocGenerics':
plotMA
Loading required package: xml2
Loading required package: RCurl
Loading required package: jsonlite
Loading required package: BiocStyle
Normalising: ESF
type
"ratio"
Syntactically valid column names are made!
Syntactically valid column names are made!
All values before filtering:
Min. 1st Qu. Median Mean 3rd Qu. Max.
0.000 0.000 0.287 2.442 4.268 19.991
All coefficient of variances (CVs) before filtering:
Min. 1st Qu. Median Mean 3rd Qu. Max.
0.0007742 0.0767696 0.4019655 0.6217813 0.9956157 2.0000000
All values after filtering:
Min. 1st Qu. Median Mean 3rd Qu. Max.
0.000 2.654 4.976 4.779 6.451 14.695
All coefficient of variances (CVs) after filtering:
Min. 1st Qu. Median Mean 3rd Qu. Max.
0.3001 0.3648 0.4637 0.5651 0.7392 1.1548
Warning: variables of sample/condition are less than 5!
..connectivity..
..matrix multiplication (system BLAS)..
..normalization..
..done.
..done.
..done.
Normalising: ESF
type
"ratio"
Syntactically valid column names are made!
Syntactically valid column names are made!
All values before filtering:
Min. 1st Qu. Median Mean 3rd Qu. Max.
0.000 0.000 0.287 2.442 4.268 19.991
All coefficient of variances (CVs) before filtering:
Min. 1st Qu. Median Mean 3rd Qu. Max.
0.0007742 0.0767696 0.4019655 0.6217813 0.9956157 2.0000000
All values after filtering:
Min. 1st Qu. Median Mean 3rd Qu. Max.
0.000 2.654 4.976 4.779 6.451 14.695
All coefficient of variances (CVs) after filtering:
Min. 1st Qu. Median Mean 3rd Qu. Max.
0.3001 0.3648 0.4637 0.5651 0.7392 1.1548
RUNIT TEST PROTOCOL -- Tue Apr 11 06:23:34 2023
***********************************************
Number of test functions: 2
Number of errors: 0
Number of failures: 0
1 Test Suite :
spatialHeatmap RUnit Tests - 2 test functions, 0 errors, 0 failures
Number of test functions: 2
Number of errors: 0
Number of failures: 0
>
> proc.time()
user system elapsed
27.59 1.45 29.07
spatialHeatmap.Rcheck/spatialHeatmap-Ex.timings
| name | user | system | elapsed | |
| SVGMethods | 0.30 | 0.04 | 0.88 | |
| aSVG.remote.repo | 0 | 0 | 0 | |
| adj_mod | 1.89 | 0.05 | 1.93 | |
| aggr_rep | 0.34 | 0.00 | 0.34 | |
| cluster_cell | 1.72 | 0.03 | 1.75 | |
| coclus_opt | 0.24 | 0.03 | 0.33 | |
| cocluster | 0.21 | 0.03 | 0.27 | |
| com_factor | 0.16 | 0.05 | 0.20 | |
| coord | 0.30 | 0.06 | 1.30 | |
| covis | 10.15 | 0.33 | 11.51 | |
| custom_shiny | 0 | 0 | 0 | |
| deg.table | 0.02 | 0.00 | 0.02 | |
| deg_ovl | 1.42 | 0.08 | 1.50 | |
| edit_tar | 0 | 0 | 0 | |
| filter_data | 0.64 | 0.09 | 0.73 | |
| graph_line | 0.21 | 0.00 | 0.21 | |
| lis.deg.up.down | 0 | 0 | 0 | |
| manual_group | 7.45 | 0.07 | 7.51 | |
| matrix_hm | 1.37 | 0.12 | 1.50 | |
| network | 1.93 | 0.03 | 2.00 | |
| norm_cell | 1.97 | 0.05 | 2.01 | |
| norm_data | 0.53 | 0.02 | 0.55 | |
| opt_bar | 0.14 | 0.00 | 0.14 | |
| opt_setting | 0 | 0 | 0 | |
| opt_violin | 0.16 | 0.00 | 0.15 | |
| plot_dim | 1.64 | 0.02 | 1.66 | |
| process_cell_meta | 6.84 | 0.06 | 6.92 | |
| qc_cell | 1.26 | 0.03 | 1.29 | |
| read_cache | 1.95 | 0.03 | 1.98 | |
| read_fr | 0.02 | 0.00 | 0.02 | |
| read_hdf5 | 16.80 | 0.74 | 17.89 | |
| read_svg | 0.10 | 0.06 | 1.17 | |
| reduce_dim | 7.07 | 0.08 | 7.13 | |
| reduce_rep | 0 | 0 | 0 | |
| refine_cluster | 1.21 | 0.04 | 1.25 | |
| return_feature | 0.86 | 0.05 | 0.92 | |
| save_cache | 2.12 | 0.00 | 2.13 | |
| shiny_shm | 0 | 0 | 0 | |
| spatialHeatmap-package | 7.88 | 0.22 | 9.19 | |
| spatial_enrich | 3.62 | 0.14 | 4.36 | |
| spatial_hm | 8.19 | 0.20 | 9.85 | |
| submatrix | 0.75 | 0.02 | 0.77 | |
| tar_ref | 0.70 | 0.01 | 0.72 | |
| true_bulk | 0.41 | 0.02 | 0.42 | |
| update_feature | 0 | 0 | 0 | |
| write_hdf5 | 11.08 | 0.37 | 11.45 | |