| Back to Multiple platform build/check report for BioC 3.16: simplified long | 
 | 
This page was generated on 2023-04-12 11:05:53 -0400 (Wed, 12 Apr 2023).
| Hostname | OS | Arch (*) | R version | Installed pkgs | 
|---|---|---|---|---|
| nebbiolo2 | Linux (Ubuntu 20.04.5 LTS) | x86_64 | 4.2.3 (2023-03-15) -- "Shortstop Beagle" | 4502 | 
| palomino4 | Windows Server 2022 Datacenter | x64 | 4.2.3 (2023-03-15 ucrt) -- "Shortstop Beagle" | 4282 | 
| lconway | macOS 12.5.1 Monterey | x86_64 | 4.2.3 (2023-03-15) -- "Shortstop Beagle" | 4310 | 
| Click on any hostname to see more info about the system (e.g. compilers) (*) as reported by 'uname -p', except on Windows and Mac OS X | ||||
| To the developers/maintainers of the spatialDE package: - Please allow up to 24 hours (and sometimes 48 hours) for your latest push to git@git.bioconductor.org:packages/spatialDE.git to reflect on this report. See How and When does the builder pull? When will my changes propagate? for more information. - Make sure to use the following settings in order to reproduce any error or warning you see on this page. | 
| Package 1926/2183 | Hostname | OS / Arch | INSTALL | BUILD | CHECK | BUILD BIN | ||||||||
| spatialDE 1.4.3  (landing page) Gabriele Sales 
 | nebbiolo2 | Linux (Ubuntu 20.04.5 LTS) / x86_64 | OK | OK | OK |  | ||||||||
| palomino4 | Windows Server 2022 Datacenter / x64 | OK | OK | OK | OK |  | ||||||||
| lconway | macOS 12.5.1 Monterey / x86_64 | OK | OK | OK | OK |  | ||||||||
| Package: spatialDE | 
| Version: 1.4.3 | 
| Command: F:\biocbuild\bbs-3.16-bioc\R\bin\R.exe CMD check --no-multiarch --install=check:spatialDE.install-out.txt --library=F:\biocbuild\bbs-3.16-bioc\R\library --no-vignettes --timings spatialDE_1.4.3.tar.gz | 
| StartedAt: 2023-04-11 06:16:04 -0400 (Tue, 11 Apr 2023) | 
| EndedAt: 2023-04-11 06:20:48 -0400 (Tue, 11 Apr 2023) | 
| EllapsedTime: 283.8 seconds | 
| RetCode: 0 | 
| Status: OK | 
| CheckDir: spatialDE.Rcheck | 
| Warnings: 0 | 
##############################################################################
##############################################################################
###
### Running command:
###
###   F:\biocbuild\bbs-3.16-bioc\R\bin\R.exe CMD check --no-multiarch --install=check:spatialDE.install-out.txt --library=F:\biocbuild\bbs-3.16-bioc\R\library --no-vignettes --timings spatialDE_1.4.3.tar.gz
###
##############################################################################
##############################################################################
* using log directory 'F:/biocbuild/bbs-3.16-bioc/meat/spatialDE.Rcheck'
* using R version 4.2.3 (2023-03-15 ucrt)
* using platform: x86_64-w64-mingw32 (64-bit)
* using session charset: UTF-8
* using option '--no-vignettes'
* checking for file 'spatialDE/DESCRIPTION' ... OK
* this is package 'spatialDE' version '1.4.3'
* package encoding: UTF-8
* checking package namespace information ... OK
* checking package dependencies ... OK
* checking if this is a source package ... OK
* checking if there is a namespace ... OK
* checking for hidden files and directories ... OK
* checking for portable file names ... OK
* checking whether package 'spatialDE' can be installed ... NOTE
Found the following notes/warnings:
  Non-staged installation was used
See 'F:/biocbuild/bbs-3.16-bioc/meat/spatialDE.Rcheck/00install.out' for details.
* checking installed package size ... OK
* checking package directory ... OK
* checking 'build' directory ... OK
* checking DESCRIPTION meta-information ... OK
* checking top-level files ... OK
* checking for left-over files ... OK
* checking index information ... OK
* checking package subdirectories ... OK
* checking R files for non-ASCII characters ... OK
* checking R files for syntax errors ... OK
* checking whether the package can be loaded ... OK
* checking whether the package can be loaded with stated dependencies ... OK
* checking whether the package can be unloaded cleanly ... OK
* checking whether the namespace can be loaded with stated dependencies ... OK
* checking whether the namespace can be unloaded cleanly ... OK
* checking dependencies in R code ... OK
* checking S3 generic/method consistency ... OK
* checking replacement functions ... OK
* checking foreign function calls ... OK
* checking R code for possible problems ... OK
* checking Rd files ... OK
* checking Rd metadata ... OK
* checking Rd cross-references ... OK
* checking for missing documentation entries ... OK
* checking for code/documentation mismatches ... OK
* checking Rd \usage sections ... OK
* checking Rd contents ... OK
* checking for unstated dependencies in examples ... OK
* checking contents of 'data' directory ... OK
* checking data for non-ASCII characters ... OK
* checking data for ASCII and uncompressed saves ... OK
* checking line endings in shell scripts ... OK
* checking files in 'vignettes' ... OK
* checking examples ... OK
Examples with CPU (user + system) or elapsed time > 5s
                 user system elapsed
spatial_patterns 9.80   1.31    5.57
FSV_sig          3.99   1.55   28.25
* checking for unstated dependencies in 'tests' ... OK
* checking tests ...
  Running 'testthat.R'
 OK
* checking for unstated dependencies in vignettes ... OK
* checking package vignettes in 'inst/doc' ... OK
* checking running R code from vignettes ... SKIPPED
* checking re-building of vignette outputs ... SKIPPED
* checking PDF version of manual ... OK
* DONE
Status: 1 NOTE
See
  'F:/biocbuild/bbs-3.16-bioc/meat/spatialDE.Rcheck/00check.log'
for details.
spatialDE.Rcheck/00install.out
############################################################################## ############################################################################## ### ### Running command: ### ### F:\biocbuild\bbs-3.16-bioc\R\bin\R.exe CMD INSTALL spatialDE ### ############################################################################## ############################################################################## * installing to library 'F:/biocbuild/bbs-3.16-bioc/R/library' * installing *source* package 'spatialDE' ... ** using non-staged installation via StagedInstall field ** R ** data ** inst ** byte-compile and prepare package for lazy loading ** help *** installing help indices ** building package indices ** installing vignettes ** testing if installed package can be loaded * DONE (spatialDE)
spatialDE.Rcheck/tests/testthat.Rout
R version 4.2.3 (2023-03-15 ucrt) -- "Shortstop Beagle"
Copyright (C) 2023 The R Foundation for Statistical Computing
Platform: x86_64-w64-mingw32/x64 (64-bit)
R is free software and comes with ABSOLUTELY NO WARRANTY.
You are welcome to redistribute it under certain conditions.
Type 'license()' or 'licence()' for distribution details.
R is a collaborative project with many contributors.
Type 'contributors()' for more information and
'citation()' on how to cite R or R packages in publications.
Type 'demo()' for some demos, 'help()' for on-line help, or
'help.start()' for an HTML browser interface to help.
Type 'q()' to quit R.
> library(testthat)
> library(spatialDE)
> 
> test_check("spatialDE")
Loading required package: SingleCellExperiment
Loading required package: SummarizedExperiment
Loading required package: MatrixGenerics
Loading required package: matrixStats
Attaching package: 'MatrixGenerics'
The following objects are masked from 'package:matrixStats':
    colAlls, colAnyNAs, colAnys, colAvgsPerRowSet, colCollapse,
    colCounts, colCummaxs, colCummins, colCumprods, colCumsums,
    colDiffs, colIQRDiffs, colIQRs, colLogSumExps, colMadDiffs,
    colMads, colMaxs, colMeans2, colMedians, colMins, colOrderStats,
    colProds, colQuantiles, colRanges, colRanks, colSdDiffs, colSds,
    colSums2, colTabulates, colVarDiffs, colVars, colWeightedMads,
    colWeightedMeans, colWeightedMedians, colWeightedSds,
    colWeightedVars, rowAlls, rowAnyNAs, rowAnys, rowAvgsPerColSet,
    rowCollapse, rowCounts, rowCummaxs, rowCummins, rowCumprods,
    rowCumsums, rowDiffs, rowIQRDiffs, rowIQRs, rowLogSumExps,
    rowMadDiffs, rowMads, rowMaxs, rowMeans2, rowMedians, rowMins,
    rowOrderStats, rowProds, rowQuantiles, rowRanges, rowRanks,
    rowSdDiffs, rowSds, rowSums2, rowTabulates, rowVarDiffs, rowVars,
    rowWeightedMads, rowWeightedMeans, rowWeightedMedians,
    rowWeightedSds, rowWeightedVars
Loading required package: GenomicRanges
Loading required package: stats4
Loading required package: BiocGenerics
Attaching package: 'BiocGenerics'
The following objects are masked from 'package:stats':
    IQR, mad, sd, var, xtabs
The following objects are masked from 'package:base':
    Filter, Find, Map, Position, Reduce, anyDuplicated, aperm, append,
    as.data.frame, basename, cbind, colnames, dirname, do.call,
    duplicated, eval, evalq, get, grep, grepl, intersect, is.unsorted,
    lapply, mapply, match, mget, order, paste, pmax, pmax.int, pmin,
    pmin.int, rank, rbind, rownames, sapply, setdiff, sort, table,
    tapply, union, unique, unsplit, which.max, which.min
Loading required package: S4Vectors
Attaching package: 'S4Vectors'
The following objects are masked from 'package:base':
    I, expand.grid, unname
Loading required package: IRanges
Attaching package: 'IRanges'
The following object is masked from 'package:grDevices':
    windows
Loading required package: GenomeInfoDb
Loading required package: Biobase
Welcome to Bioconductor
    Vignettes contain introductory material; view with
    'browseVignettes()'. To cite Bioconductor, see
    'citation("Biobase")', and for packages 'citation("pkgname")'.
Attaching package: 'Biobase'
The following object is masked from 'package:MatrixGenerics':
    rowMedians
The following objects are masked from 'package:matrixStats':
    anyMissing, rowMedians
Note: spatialData and spatialDataNames have been deprecated; all columns should be stored in colData and spatialCoords
C:\Users\BIOCBU~1\AppData\Local\R\cache\R\basilisk\110~1.2\SPATIA~1\14D442~1.3\env\lib\site-packages\SpatialDE\base.py:26: FutureWarning: Support for multi-dimensional indexing (e.g. `obj[:, None]`) is deprecated and will be removed in a future version.  Convert to a numpy array before indexing instead.
  R2 = -2. * np.dot(X, X.T) + (Xsq[:, None] + Xsq[None, :])
C:\Users\BIOCBU~1\AppData\Local\R\cache\R\basilisk\110~1.2\SPATIA~1\14D442~1.3\env\lib\site-packages\SpatialDE\base.py:40: FutureWarning: Support for multi-dimensional indexing (e.g. `obj[:, None]`) is deprecated and will be removed in a future version.  Convert to a numpy array before indexing instead.
  R2 = -2. * np.dot(X, X.T) + (Xsq[:, None] + Xsq[None, :])
C:\Users\BIOCBU~1\AppData\Local\R\cache\R\basilisk\110~1.2\SPATIA~1\14D442~1.3\env\lib\site-packages\SpatialDE\base.py:40: FutureWarning: Support for multi-dimensional indexing (e.g. `obj[:, None]`) is deprecated and will be removed in a future version.  Convert to a numpy array before indexing instead.
  R2 = -2. * np.dot(X, X.T) + (Xsq[:, None] + Xsq[None, :])
C:\Users\BIOCBU~1\AppData\Local\R\cache\R\basilisk\110~1.2\SPATIA~1\14D442~1.3\env\lib\site-packages\SpatialDE\base.py:40: FutureWarning: Support for multi-dimensional indexing (e.g. `obj[:, None]`) is deprecated and will be removed in a future version.  Convert to a numpy array before indexing instead.
  R2 = -2. * np.dot(X, X.T) + (Xsq[:, None] + Xsq[None, :])
C:\Users\BIOCBU~1\AppData\Local\R\cache\R\basilisk\110~1.2\SPATIA~1\14D442~1.3\env\lib\site-packages\SpatialDE\base.py:26: FutureWarning: Support for multi-dimensional indexing (e.g. `obj[:, None]`) is deprecated and will be removed in a future version.  Convert to a numpy array before indexing instead.
  R2 = -2. * np.dot(X, X.T) + (Xsq[:, None] + Xsq[None, :])
C:\Users\BIOCBU~1\AppData\Local\R\cache\R\basilisk\110~1.2\SPATIA~1\14D442~1.3\env\lib\site-packages\SpatialDE\base.py:40: FutureWarning: Support for multi-dimensional indexing (e.g. `obj[:, None]`) is deprecated and will be removed in a future version.  Convert to a numpy array before indexing instead.
  R2 = -2. * np.dot(X, X.T) + (Xsq[:, None] + Xsq[None, :])
C:\Users\BIOCBU~1\AppData\Local\R\cache\R\basilisk\110~1.2\SPATIA~1\14D442~1.3\env\lib\site-packages\SpatialDE\base.py:26: FutureWarning: Support for multi-dimensional indexing (e.g. `obj[:, None]`) is deprecated and will be removed in a future version.  Convert to a numpy array before indexing instead.
  R2 = -2. * np.dot(X, X.T) + (Xsq[:, None] + Xsq[None, :])
C:\Users\BIOCBU~1\AppData\Local\R\cache\R\basilisk\110~1.2\SPATIA~1\14D442~1.3\env\lib\site-packages\SpatialDE\base.py:56: FutureWarning: Support for multi-dimensional indexing (e.g. `obj[:, None]`) is deprecated and will be removed in a future version.  Convert to a numpy array before indexing instead.
  R2 = -2. * np.dot(X, X.T) + (Xsq[:, None] + Xsq[None, :])
C:\Users\BIOCBU~1\AppData\Local\R\cache\R\basilisk\110~1.2\SPATIA~1\14D442~1.3\env\lib\site-packages\SpatialDE\base.py:476: FutureWarning: In a future version of pandas all arguments of DataFrame.drop except for the argument 'labels' will be keyword-only.
  ms_results = ms_results.drop(transfer_columns, 1) \
C:\Users\BIOCBU~1\AppData\Local\R\cache\R\basilisk\110~1.2\SPATIA~1\14D442~1.3\env\lib\site-packages\SpatialDE\base.py:40: FutureWarning: Support for multi-dimensional indexing (e.g. `obj[:, None]`) is deprecated and will be removed in a future version.  Convert to a numpy array before indexing instead.
  R2 = -2. * np.dot(X, X.T) + (Xsq[:, None] + Xsq[None, :])
C:\Users\BIOCBU~1\AppData\Local\R\cache\R\basilisk\110~1.2\SPATIA~1\14D442~1.3\env\lib\site-packages\SpatialDE\base.py:26: FutureWarning: Support for multi-dimensional indexing (e.g. `obj[:, None]`) is deprecated and will be removed in a future version.  Convert to a numpy array before indexing instead.
  R2 = -2. * np.dot(X, X.T) + (Xsq[:, None] + Xsq[None, :])
C:\Users\BIOCBU~1\AppData\Local\R\cache\R\basilisk\110~1.2\SPATIA~1\14D442~1.3\env\lib\site-packages\SpatialDE\base.py:56: FutureWarning: Support for multi-dimensional indexing (e.g. `obj[:, None]`) is deprecated and will be removed in a future version.  Convert to a numpy array before indexing instead.
  R2 = -2. * np.dot(X, X.T) + (Xsq[:, None] + Xsq[None, :])
C:\Users\BIOCBU~1\AppData\Local\R\cache\R\basilisk\110~1.2\SPATIA~1\14D442~1.3\env\lib\site-packages\SpatialDE\base.py:40: FutureWarning: Support for multi-dimensional indexing (e.g. `obj[:, None]`) is deprecated and will be removed in a future version.  Convert to a numpy array before indexing instead.
  R2 = -2. * np.dot(X, X.T) + (Xsq[:, None] + Xsq[None, :])
Note: spatialData and spatialDataNames have been deprecated; all columns should be stored in colData and spatialCoords
C:\Users\BIOCBU~1\AppData\Local\R\cache\R\basilisk\110~1.2\SPATIA~1\14D442~1.3\env\lib\site-packages\SpatialDE\base.py:26: FutureWarning: Support for multi-dimensional indexing (e.g. `obj[:, None]`) is deprecated and will be removed in a future version.  Convert to a numpy array before indexing instead.
  R2 = -2. * np.dot(X, X.T) + (Xsq[:, None] + Xsq[None, :])
C:\Users\BIOCBU~1\AppData\Local\R\cache\R\basilisk\110~1.2\SPATIA~1\14D442~1.3\env\lib\site-packages\SpatialDE\base.py:40: FutureWarning: Support for multi-dimensional indexing (e.g. `obj[:, None]`) is deprecated and will be removed in a future version.  Convert to a numpy array before indexing instead.
  R2 = -2. * np.dot(X, X.T) + (Xsq[:, None] + Xsq[None, :])
C:\Users\BIOCBU~1\AppData\Local\R\cache\R\basilisk\110~1.2\SPATIA~1\14D442~1.3\env\lib\site-packages\SpatialDE\base.py:26: FutureWarning: Support for multi-dimensional indexing (e.g. `obj[:, None]`) is deprecated and will be removed in a future version.  Convert to a numpy array before indexing instead.
  R2 = -2. * np.dot(X, X.T) + (Xsq[:, None] + Xsq[None, :])
C:\Users\BIOCBU~1\AppData\Local\R\cache\R\basilisk\110~1.2\SPATIA~1\14D442~1.3\env\lib\site-packages\SpatialDE\base.py:56: FutureWarning: Support for multi-dimensional indexing (e.g. `obj[:, None]`) is deprecated and will be removed in a future version.  Convert to a numpy array before indexing instead.
  R2 = -2. * np.dot(X, X.T) + (Xsq[:, None] + Xsq[None, :])
C:\Users\BIOCBU~1\AppData\Local\R\cache\R\basilisk\110~1.2\SPATIA~1\14D442~1.3\env\lib\site-packages\SpatialDE\base.py:476: FutureWarning: In a future version of pandas all arguments of DataFrame.drop except for the argument 'labels' will be keyword-only.
  ms_results = ms_results.drop(transfer_columns, 1) \
C:\Users\BIOCBU~1\AppData\Local\R\cache\R\basilisk\110~1.2\SPATIA~1\14D442~1.3\env\lib\site-packages\SpatialDE\base.py:26: FutureWarning: Support for multi-dimensional indexing (e.g. `obj[:, None]`) is deprecated and will be removed in a future version.  Convert to a numpy array before indexing instead.
  R2 = -2. * np.dot(X, X.T) + (Xsq[:, None] + Xsq[None, :])
C:\Users\BIOCBU~1\AppData\Local\R\cache\R\basilisk\110~1.2\SPATIA~1\14D442~1.3\env\lib\site-packages\SpatialDE\base.py:56: FutureWarning: Support for multi-dimensional indexing (e.g. `obj[:, None]`) is deprecated and will be removed in a future version.  Convert to a numpy array before indexing instead.
  R2 = -2. * np.dot(X, X.T) + (Xsq[:, None] + Xsq[None, :])
C:\Users\BIOCBU~1\AppData\Local\R\cache\R\basilisk\110~1.2\SPATIA~1\14D442~1.3\env\lib\site-packages\SpatialDE\base.py:476: FutureWarning: In a future version of pandas all arguments of DataFrame.drop except for the argument 'labels' will be keyword-only.
  ms_results = ms_results.drop(transfer_columns, 1) \
C:\Users\BIOCBU~1\AppData\Local\R\cache\R\basilisk\110~1.2\SPATIA~1\14D442~1.3\env\lib\site-packages\SpatialDE\base.py:26: FutureWarning: Support for multi-dimensional indexing (e.g. `obj[:, None]`) is deprecated and will be removed in a future version.  Convert to a numpy array before indexing instead.
  R2 = -2. * np.dot(X, X.T) + (Xsq[:, None] + Xsq[None, :])
C:\Users\BIOCBU~1\AppData\Local\R\cache\R\basilisk\110~1.2\SPATIA~1\14D442~1.3\env\lib\site-packages\SpatialDE\base.py:56: FutureWarning: Support for multi-dimensional indexing (e.g. `obj[:, None]`) is deprecated and will be removed in a future version.  Convert to a numpy array before indexing instead.
  R2 = -2. * np.dot(X, X.T) + (Xsq[:, None] + Xsq[None, :])
C:\Users\BIOCBU~1\AppData\Local\R\cache\R\basilisk\110~1.2\SPATIA~1\14D442~1.3\env\lib\site-packages\SpatialDE\base.py:476: FutureWarning: In a future version of pandas all arguments of DataFrame.drop except for the argument 'labels' will be keyword-only.
  ms_results = ms_results.drop(transfer_columns, 1) \
C:\Users\BIOCBU~1\AppData\Local\R\cache\R\basilisk\110~1.2\SPATIA~1\14D442~1.3\env\lib\site-packages\pandas\core\internals\blocks.py:351: RuntimeWarning: invalid value encountered in log
  result = func(self.values, **kwargs)
Note: spatialData and spatialDataNames have been deprecated; all columns should be stored in colData and spatialCoords
C:\Users\BIOCBU~1\AppData\Local\R\cache\R\basilisk\110~1.2\SPATIA~1\14D442~1.3\env\lib\site-packages\SpatialDE\base.py:26: FutureWarning: Support for multi-dimensional indexing (e.g. `obj[:, None]`) is deprecated and will be removed in a future version.  Convert to a numpy array before indexing instead.
  R2 = -2. * np.dot(X, X.T) + (Xsq[:, None] + Xsq[None, :])
C:\Users\BIOCBU~1\AppData\Local\R\cache\R\basilisk\110~1.2\SPATIA~1\14D442~1.3\env\lib\site-packages\SpatialDE\base.py:40: FutureWarning: Support for multi-dimensional indexing (e.g. `obj[:, None]`) is deprecated and will be removed in a future version.  Convert to a numpy array before indexing instead.
  R2 = -2. * np.dot(X, X.T) + (Xsq[:, None] + Xsq[None, :])
C:\Users\BIOCBU~1\AppData\Local\R\cache\R\basilisk\110~1.2\SPATIA~1\14D442~1.3\env\lib\site-packages\SpatialDE\base.py:26: FutureWarning: Support for multi-dimensional indexing (e.g. `obj[:, None]`) is deprecated and will be removed in a future version.  Convert to a numpy array before indexing instead.
  R2 = -2. * np.dot(X, X.T) + (Xsq[:, None] + Xsq[None, :])
C:\Users\BIOCBU~1\AppData\Local\R\cache\R\basilisk\110~1.2\SPATIA~1\14D442~1.3\env\lib\site-packages\SpatialDE\base.py:40: FutureWarning: Support for multi-dimensional indexing (e.g. `obj[:, None]`) is deprecated and will be removed in a future version.  Convert to a numpy array before indexing instead.
  R2 = -2. * np.dot(X, X.T) + (Xsq[:, None] + Xsq[None, :])
[ FAIL 0 | WARN 0 | SKIP 0 | PASS 29 ]
C:\Users\BIOCBU~1\AppData\Local\R\cache\R\basilisk\110~1.2\SPATIA~1\14D442~1.3\env\lib\site-packages\SpatialDE\base.py:26: FutureWarning: Support for multi-dimensional indexing (e.g. `obj[:, None]`) is deprecated and will be removed in a future version.  Convert to a numpy array before indexing instead.
  R2 = -2. * np.dot(X, X.T) + (Xsq[:, None] + Xsq[None, :])
C:\Users\BIOCBU~1\AppData\Local\R\cache\R\basilisk\110~1.2\SPATIA~1\14D442~1.3\env\lib\site-packages\SpatialDE\base.py:40: FutureWarning: Support for multi-dimensional indexing (e.g. `obj[:, None]`) is deprecated and will be removed in a future version.  Convert to a numpy array before indexing instead.
  R2 = -2. * np.dot(X, X.T) + (Xsq[:, None] + Xsq[None, :])
> 
> proc.time()
   user  system elapsed 
  47.35    1.50   57.34 
spatialDE.Rcheck/spatialDE-Ex.timings
| name | user | system | elapsed | |
| FSV_sig | 3.99 | 1.55 | 28.25 | |
| mockSVG | 0.31 | 0.01 | 0.30 | |
| modelSearch | 1.95 | 0.24 | 1.24 | |
| model_search | 1.64 | 0.17 | 0.90 | |
| multiGenePlots | 2.41 | 0.25 | 1.67 | |
| regress_out | 0.16 | 0.00 | 0.12 | |
| run | 0.85 | 0.22 | 0.53 | |
| spatialDE | 1.39 | 0.21 | 0.84 | |
| spatialPatterns | 1.34 | 0.15 | 0.83 | |
| spatial_patterns | 9.80 | 1.31 | 5.57 | |
| stabilize | 0.26 | 0.04 | 0.15 | |