| Back to Multiple platform build/check report for BioC 3.16: simplified long |
|
This page was generated on 2023-04-12 11:05:53 -0400 (Wed, 12 Apr 2023).
| Hostname | OS | Arch (*) | R version | Installed pkgs |
|---|---|---|---|---|
| nebbiolo2 | Linux (Ubuntu 20.04.5 LTS) | x86_64 | 4.2.3 (2023-03-15) -- "Shortstop Beagle" | 4502 |
| palomino4 | Windows Server 2022 Datacenter | x64 | 4.2.3 (2023-03-15 ucrt) -- "Shortstop Beagle" | 4282 |
| lconway | macOS 12.5.1 Monterey | x86_64 | 4.2.3 (2023-03-15) -- "Shortstop Beagle" | 4310 |
| Click on any hostname to see more info about the system (e.g. compilers) (*) as reported by 'uname -p', except on Windows and Mac OS X | ||||
|
To the developers/maintainers of the sparseMatrixStats package: - Please allow up to 24 hours (and sometimes 48 hours) for your latest push to git@git.bioconductor.org:packages/sparseMatrixStats.git to reflect on this report. See How and When does the builder pull? When will my changes propagate? for more information. - Make sure to use the following settings in order to reproduce any error or warning you see on this page. |
| Package 1921/2183 | Hostname | OS / Arch | INSTALL | BUILD | CHECK | BUILD BIN | ||||||||
| sparseMatrixStats 1.10.0 (landing page) Constantin Ahlmann-Eltze
| nebbiolo2 | Linux (Ubuntu 20.04.5 LTS) / x86_64 | OK | OK | OK | |||||||||
| palomino4 | Windows Server 2022 Datacenter / x64 | OK | OK | OK | OK | |||||||||
| lconway | macOS 12.5.1 Monterey / x86_64 | OK | OK | OK | OK | |||||||||
| Package: sparseMatrixStats |
| Version: 1.10.0 |
| Command: rm -rf sparseMatrixStats.buildbin-libdir && mkdir sparseMatrixStats.buildbin-libdir && F:\biocbuild\bbs-3.16-bioc\R\bin\R.exe CMD INSTALL --build --library=sparseMatrixStats.buildbin-libdir sparseMatrixStats_1.10.0.tar.gz |
| StartedAt: 2023-04-11 08:49:42 -0400 (Tue, 11 Apr 2023) |
| EndedAt: 2023-04-11 08:50:31 -0400 (Tue, 11 Apr 2023) |
| EllapsedTime: 48.6 seconds |
| RetCode: 0 |
| Status: OK |
| PackageFile: sparseMatrixStats_1.10.0.zip |
| PackageFileSize: 1.364 MiB |
##############################################################################
##############################################################################
###
### Running command:
###
### rm -rf sparseMatrixStats.buildbin-libdir && mkdir sparseMatrixStats.buildbin-libdir && F:\biocbuild\bbs-3.16-bioc\R\bin\R.exe CMD INSTALL --build --library=sparseMatrixStats.buildbin-libdir sparseMatrixStats_1.10.0.tar.gz
###
##############################################################################
##############################################################################
* installing *source* package 'sparseMatrixStats' ...
** using staged installation
** libs
g++ -std=gnu++11 -I"F:/biocbuild/bbs-3.16-bioc/R/include" -DNDEBUG -I'F:/biocbuild/bbs-3.16-bioc/R/library/Rcpp/include' -I"C:/rtools42/x86_64-w64-mingw32.static.posix/include" -O2 -Wall -mfpmath=sse -msse2 -mstackrealign -c RcppExports.cpp -o RcppExports.o
g++ -std=gnu++11 -I"F:/biocbuild/bbs-3.16-bioc/R/include" -DNDEBUG -I'F:/biocbuild/bbs-3.16-bioc/R/library/Rcpp/include' -I"C:/rtools42/x86_64-w64-mingw32.static.posix/include" -O2 -Wall -mfpmath=sse -msse2 -mstackrealign -c SparseMatrixView.cpp -o SparseMatrixView.o
g++ -std=gnu++11 -I"F:/biocbuild/bbs-3.16-bioc/R/include" -DNDEBUG -I'F:/biocbuild/bbs-3.16-bioc/R/library/Rcpp/include' -I"C:/rtools42/x86_64-w64-mingw32.static.posix/include" -O2 -Wall -mfpmath=sse -msse2 -mstackrealign -c methods.cpp -o methods.o
In file included from methods.cpp:6:
quantile.h: In instantiation of 'double quantile_sparse_impl(T, int, double) [with T = VectorSubsetView<14>]':
quantile.h:85:85: required from here
quantile.h:35:20: warning: comparison of integer expressions of different signedness: 'int' and 'std::vector<double>::size_type' {aka 'long long unsigned int'} [-Wsign-compare]
35 | for(int i = 0; i < sorted_values.size() + number_of_zeros; i++){
| ~~^~~~~~~~~~~~~~~~~~~~~~~~~~~~~~~~~~~~~~~~
methods.cpp: In instantiation of 'double colOrderStats::operator()(V&, R&, int) const [with V = SkipNAVectorSubsetView<14>; R = SkipNAVectorSubsetView<13>]':
methods.cpp:25:18: required from 'Rcpp::NumericVector reduce_matrix_double(Rcpp::S4, bool, Functor) [with Functor = colOrderStats; Rcpp::NumericVector = Rcpp::Vector<14, Rcpp::PreserveStorage>; Rcpp::S4 = Rcpp::S4_Impl<Rcpp::PreserveStorage>]'
methods.cpp:510:73: required from here
methods.cpp:475:22: warning: comparison of integer expressions of different signedness: 'int' and 'std::vector<double>::size_type' {aka 'long long unsigned int'} [-Wsign-compare]
475 | for(int i = 0; i < sorted_values.size() + number_of_zeros; i++){
| ~~^~~~~~~~~~~~~~~~~~~~~~~~~~~~~~~~~~~~~~~~
methods.cpp: In instantiation of 'double colOrderStats::operator()(V&, R&, int) const [with V = VectorSubsetView<14>; R = VectorSubsetView<13>]':
methods.cpp:30:18: required from 'Rcpp::NumericVector reduce_matrix_double(Rcpp::S4, bool, Functor) [with Functor = colOrderStats; Rcpp::NumericVector = Rcpp::Vector<14, Rcpp::PreserveStorage>; Rcpp::S4 = Rcpp::S4_Impl<Rcpp::PreserveStorage>]'
methods.cpp:510:73: required from here
methods.cpp:475:22: warning: comparison of integer expressions of different signedness: 'int' and 'std::vector<double>::size_type' {aka 'long long unsigned int'} [-Wsign-compare]
In file included from methods.cpp:6:
quantile.h: In instantiation of 'double quantile_sparse_impl(T, int, double) [with T = SkipNAVectorSubsetView<14>]':
methods.cpp:269:32: required from 'double colMedians::operator()(V&, R&, int) const [with V = SkipNAVectorSubsetView<14>; R = SkipNAVectorSubsetView<13>]'
methods.cpp:25:18: required from 'Rcpp::NumericVector reduce_matrix_double(Rcpp::S4, bool, Functor) [with Functor = colMedians; Rcpp::NumericVector = Rcpp::Vector<14, Rcpp::PreserveStorage>; Rcpp::S4 = Rcpp::S4_Impl<Rcpp::PreserveStorage>]'
methods.cpp:277:63: required from here
quantile.h:35:20: warning: comparison of integer expressions of different signedness: 'int' and 'std::vector<double>::size_type' {aka 'long long unsigned int'} [-Wsign-compare]
35 | for(int i = 0; i < sorted_values.size() + number_of_zeros; i++){
| ~~^~~~~~~~~~~~~~~~~~~~~~~~~~~~~~~~~~~~~~~~
g++ -std=gnu++11 -I"F:/biocbuild/bbs-3.16-bioc/R/include" -DNDEBUG -I'F:/biocbuild/bbs-3.16-bioc/R/library/Rcpp/include' -I"C:/rtools42/x86_64-w64-mingw32.static.posix/include" -O2 -Wall -mfpmath=sse -msse2 -mstackrealign -c row_methods.cpp -o row_methods.o
g++ -shared -s -static-libgcc -o sparseMatrixStats.dll tmp.def RcppExports.o SparseMatrixView.o methods.o row_methods.o -LC:/rtools42/x86_64-w64-mingw32.static.posix/lib/x64 -LC:/rtools42/x86_64-w64-mingw32.static.posix/lib -LF:/biocbuild/bbs-3.16-bioc/R/bin/x64 -lR
installing to F:/biocbuild/bbs-3.16-bioc/meat/sparseMatrixStats.buildbin-libdir/00LOCK-sparseMatrixStats/00new/sparseMatrixStats/libs/x64
** R
** inst
** byte-compile and prepare package for lazy loading
** help
*** installing help indices
*** copying figures
** building package indices
** installing vignettes
** testing if installed package can be loaded from temporary location
** testing if installed package can be loaded from final location
** testing if installed package keeps a record of temporary installation path
* MD5 sums
packaged installation of 'sparseMatrixStats' as sparseMatrixStats_1.10.0.zip
* DONE (sparseMatrixStats)