| Back to Multiple platform build/check report for BioC 3.16: simplified long |
|
This page was generated on 2023-04-12 11:05:20 -0400 (Wed, 12 Apr 2023).
| Hostname | OS | Arch (*) | R version | Installed pkgs |
|---|---|---|---|---|
| nebbiolo2 | Linux (Ubuntu 20.04.5 LTS) | x86_64 | 4.2.3 (2023-03-15) -- "Shortstop Beagle" | 4502 |
| palomino4 | Windows Server 2022 Datacenter | x64 | 4.2.3 (2023-03-15 ucrt) -- "Shortstop Beagle" | 4282 |
| lconway | macOS 12.5.1 Monterey | x86_64 | 4.2.3 (2023-03-15) -- "Shortstop Beagle" | 4310 |
| Click on any hostname to see more info about the system (e.g. compilers) (*) as reported by 'uname -p', except on Windows and Mac OS X | ||||
|
To the developers/maintainers of the sparrow package: - Please allow up to 24 hours (and sometimes 48 hours) for your latest push to git@git.bioconductor.org:packages/sparrow.git to reflect on this report. See How and When does the builder pull? When will my changes propagate? for more information. - Make sure to use the following settings in order to reproduce any error or warning you see on this page. |
| Package 1919/2183 | Hostname | OS / Arch | INSTALL | BUILD | CHECK | BUILD BIN | ||||||||
| sparrow 1.4.0 (landing page) Steve Lianoglou
| nebbiolo2 | Linux (Ubuntu 20.04.5 LTS) / x86_64 | OK | OK | OK | |||||||||
| palomino4 | Windows Server 2022 Datacenter / x64 | OK | OK | OK | OK | |||||||||
| lconway | macOS 12.5.1 Monterey / x86_64 | OK | OK | OK | OK | |||||||||
| Package: sparrow |
| Version: 1.4.0 |
| Command: /home/biocbuild/bbs-3.16-bioc/R/bin/R CMD check --install=check:sparrow.install-out.txt --library=/home/biocbuild/bbs-3.16-bioc/R/site-library --timings sparrow_1.4.0.tar.gz |
| StartedAt: 2023-04-11 00:11:05 -0400 (Tue, 11 Apr 2023) |
| EndedAt: 2023-04-11 00:23:12 -0400 (Tue, 11 Apr 2023) |
| EllapsedTime: 726.5 seconds |
| RetCode: 0 |
| Status: OK |
| CheckDir: sparrow.Rcheck |
| Warnings: 0 |
##############################################################################
##############################################################################
###
### Running command:
###
### /home/biocbuild/bbs-3.16-bioc/R/bin/R CMD check --install=check:sparrow.install-out.txt --library=/home/biocbuild/bbs-3.16-bioc/R/site-library --timings sparrow_1.4.0.tar.gz
###
##############################################################################
##############################################################################
* using log directory ‘/home/biocbuild/bbs-3.16-bioc/meat/sparrow.Rcheck’
* using R version 4.2.3 (2023-03-15)
* using platform: x86_64-pc-linux-gnu (64-bit)
* using session charset: UTF-8
* checking for file ‘sparrow/DESCRIPTION’ ... OK
* checking extension type ... Package
* this is package ‘sparrow’ version ‘1.4.0’
* package encoding: UTF-8
* checking package namespace information ... OK
* checking package dependencies ... OK
* checking if this is a source package ... OK
* checking if there is a namespace ... OK
* checking for hidden files and directories ... OK
* checking for portable file names ... OK
* checking for sufficient/correct file permissions ... OK
* checking whether package ‘sparrow’ can be installed ... OK
* checking installed package size ... OK
* checking package directory ... OK
* checking ‘build’ directory ... OK
* checking DESCRIPTION meta-information ... OK
* checking top-level files ... OK
* checking for left-over files ... OK
* checking index information ... OK
* checking package subdirectories ... OK
* checking R files for non-ASCII characters ... OK
* checking R files for syntax errors ... OK
* checking whether the package can be loaded ... OK
* checking whether the package can be loaded with stated dependencies ... OK
* checking whether the package can be unloaded cleanly ... OK
* checking whether the namespace can be loaded with stated dependencies ... OK
* checking whether the namespace can be unloaded cleanly ... OK
* checking loading without being on the library search path ... OK
* checking dependencies in R code ... OK
* checking S3 generic/method consistency ... OK
* checking replacement functions ... OK
* checking foreign function calls ... OK
* checking R code for possible problems ... NOTE
geneSetsStats: no visible binding for global variable ‘direction’
Undefined global functions or variables:
direction
* checking Rd files ... OK
* checking Rd metadata ... OK
* checking Rd cross-references ... OK
* checking for missing documentation entries ... OK
* checking for code/documentation mismatches ... OK
* checking Rd \usage sections ... OK
* checking Rd contents ... OK
* checking for unstated dependencies in examples ... OK
* checking line endings in Makefiles ... OK
* checking for GNU extensions in Makefiles ... OK
* checking include directives in Makefiles ... OK
* checking files in ‘vignettes’ ... OK
* checking examples ... OK
Examples with CPU (user + system) or elapsed time > 5s
user system elapsed
goseq 9.410 0.229 8.726
geneSetsStats 6.408 0.109 4.818
seas 5.405 0.083 4.579
SparrowResult-utilities 5.046 0.176 4.360
annotateGeneSetMembership 4.979 0.164 4.245
* checking for unstated dependencies in ‘tests’ ... OK
* checking tests ...
Running ‘testthat.R’
OK
* checking for unstated dependencies in vignettes ... OK
* checking package vignettes in ‘inst/doc’ ... OK
* checking running R code from vignettes ...
‘sparrow.Rmd’ using ‘UTF-8’... OK
NONE
* checking re-building of vignette outputs ... OK
* checking PDF version of manual ... OK
* DONE
Status: 1 NOTE
See
‘/home/biocbuild/bbs-3.16-bioc/meat/sparrow.Rcheck/00check.log’
for details.
sparrow.Rcheck/00install.out
############################################################################## ############################################################################## ### ### Running command: ### ### /home/biocbuild/bbs-3.16-bioc/R/bin/R CMD INSTALL sparrow ### ############################################################################## ############################################################################## * installing to library ‘/home/biocbuild/bbs-3.16-bioc/R/site-library’ * installing *source* package ‘sparrow’ ... ** using staged installation ** R ** inst ** byte-compile and prepare package for lazy loading ** help *** installing help indices *** copying figures ** building package indices ** installing vignettes ** testing if installed package can be loaded from temporary location ** testing if installed package can be loaded from final location ** testing if installed package keeps a record of temporary installation path * DONE (sparrow)
sparrow.Rcheck/tests/testthat.Rout
R version 4.2.3 (2023-03-15) -- "Shortstop Beagle"
Copyright (C) 2023 The R Foundation for Statistical Computing
Platform: x86_64-pc-linux-gnu (64-bit)
R is free software and comes with ABSOLUTELY NO WARRANTY.
You are welcome to redistribute it under certain conditions.
Type 'license()' or 'licence()' for distribution details.
R is a collaborative project with many contributors.
Type 'contributors()' for more information and
'citation()' on how to cite R or R packages in publications.
Type 'demo()' for some demos, 'help()' for on-line help, or
'help.start()' for an HTML browser interface to help.
Type 'q()' to quit R.
> library("sparrow")
> library("testthat")
> library("data.table")
> library("dplyr")
Attaching package: 'dplyr'
The following objects are masked from 'package:data.table':
between, first, last
The following object is masked from 'package:testthat':
matches
The following object is masked from 'package:sparrow':
combine
The following objects are masked from 'package:stats':
filter, lag
The following objects are masked from 'package:base':
intersect, setdiff, setequal, union
>
> test_check("sparrow")
Attaching package: 'magrittr'
The following objects are masked from 'package:testthat':
equals, is_less_than, not
[1] "Calculating ranks..."
[1] "Calculating absolute values from ranks..."
[1] "Normalizing..."
[1] "Calculating ranks..."
[1] "Calculating absolute values from ranks..."
[1] "Normalizing..."
[1] "Calculating ranks..."
[1] "Calculating absolute values from ranks..."
[1] "Normalizing..."
[1] "Calculating ranks..."
[1] "Calculating absolute values from ranks..."
[1] "Normalizing..."
[1] "Calculating ranks..."
[1] "Calculating absolute values from ranks..."
[1] "Normalizing..."
[1] "Calculating ranks..."
[1] "Calculating absolute values from ranks..."
[1] "Normalizing..."
[1] "Calculating ranks..."
[1] "Calculating absolute values from ranks..."
[1] "Normalizing..."
[ FAIL 0 | WARN 0 | SKIP 1 | PASS 1523 ]
══ Skipped tests ═══════════════════════════════════════════════════════════════
• empty test (1)
[ FAIL 0 | WARN 0 | SKIP 1 | PASS 1523 ]
>
> ## Remove temporary files that were generated
> test.dir <- system.file('tests', package = "sparrow")
> pdfs <- dir(test.dir, "\\.pdf$", full.names=TRUE)
> if (length(pdfs)) {
+ unlink(pdfs)
+ }
>
>
> proc.time()
user system elapsed
351.313 16.795 313.208
sparrow.Rcheck/sparrow-Ex.timings
| name | user | system | elapsed | |
| GeneSetDb-class | 0.097 | 0.000 | 0.071 | |
| SparrowResult-utilities | 5.046 | 0.176 | 4.360 | |
| addGeneSetMetadata | 0.079 | 0.000 | 0.056 | |
| annotateGeneSetMembership | 4.979 | 0.164 | 4.245 | |
| calculateIndividualLogFC | 2.228 | 0.100 | 2.328 | |
| collectionMetadata | 0.092 | 0.002 | 0.070 | |
| combine-GeneSetDb-GeneSetDb-method | 0.140 | 0.002 | 0.087 | |
| combine-SparrowResult-SparrowResult-method | 0.131 | 0.008 | 0.135 | |
| conform | 0.384 | 0.039 | 0.398 | |
| conversion | 0.628 | 0.001 | 0.524 | |
| convertIdentifiers | 0.235 | 0.000 | 0.148 | |
| corplot | 0.087 | 0.000 | 0.089 | |
| eigenWeightedMean | 1.810 | 0.027 | 1.787 | |
| examples | 0.269 | 0.020 | 0.289 | |
| failWith | 0 | 0 | 0 | |
| featureIdMap | 0.410 | 0.000 | 0.376 | |
| featureIds | 0.445 | 0.017 | 0.426 | |
| geneSet | 0.128 | 0.008 | 0.100 | |
| geneSetCollectionURLfunction | 0.077 | 0.000 | 0.052 | |
| geneSetSummaryByGenes | 4.033 | 0.041 | 3.091 | |
| geneSets | 0.080 | 0.000 | 0.052 | |
| geneSetsStats | 6.408 | 0.109 | 4.818 | |
| getKeggCollection | 0 | 0 | 0 | |
| getMSigCollection | 0 | 0 | 0 | |
| getPantherCollection | 0 | 0 | 0 | |
| getReactomeCollection | 0 | 0 | 0 | |
| goseq | 9.410 | 0.229 | 8.726 | |
| gsdScore | 0.843 | 0.004 | 0.799 | |
| gskey | 0.002 | 0.000 | 0.002 | |
| hasGeneSet | 0.079 | 0.000 | 0.054 | |
| hasGeneSetCollection | 0.079 | 0.000 | 0.054 | |
| incidenceMatrix | 1.022 | 0.007 | 1.003 | |
| iplot | 1.166 | 0.036 | 1.141 | |
| is.active | 0.364 | 0.012 | 0.351 | |
| logFC | 3.831 | 0.028 | 2.983 | |
| mgheatmap | 0 | 0 | 0 | |
| mgheatmap2 | 0 | 0 | 0 | |
| msg | 0.003 | 0.000 | 0.000 | |
| ora | 0.228 | 0.012 | 0.233 | |
| p.matrix | 0.095 | 0.004 | 0.099 | |
| randomGeneSetDb | 0.066 | 0.008 | 0.071 | |
| renameCollections | 0.122 | 0.004 | 0.078 | |
| renameRows | 0.377 | 0.033 | 0.405 | |
| results | 0.111 | 0.004 | 0.115 | |
| scale_rows | 0.005 | 0.000 | 0.004 | |
| scoreSingleSamples | 4.653 | 0.232 | 4.758 | |
| seas | 5.405 | 0.083 | 4.579 | |
| sparrow_methods | 0.002 | 0.000 | 0.002 | |
| species_info | 0.004 | 0.000 | 0.004 | |
| subset.GeneSetDb | 0.087 | 0.004 | 0.062 | |
| subsetByFeatures | 0.100 | 0.020 | 0.074 | |
| validateInputs | 0.150 | 0.008 | 0.130 | |
| volcanoPlot | 1.766 | 0.032 | 1.799 | |
| volcanoStatsTable | 0.148 | 0.008 | 0.156 | |
| zScore | 0.733 | 0.028 | 0.711 | |