| Back to Multiple platform build/check report for BioC 3.16 |
|
This page was generated on 2022-06-03 11:07:17 -0400 (Fri, 03 Jun 2022).
| Hostname | OS | Arch (*) | R version | Installed pkgs |
|---|---|---|---|---|
| nebbiolo2 | Linux (Ubuntu 20.04.4 LTS) | x86_64 | 4.2.0 RC (2022-04-21 r82226) -- "Vigorous Calisthenics" | 4364 |
| palomino4 | Windows Server 2022 Datacenter | x64 | 4.2.0 Patched (2022-04-24 r82246 ucrt) -- "Vigorous Calisthenics" | 4168 |
| lconway | macOS 12.2.1 Monterey | x86_64 | 4.2.0 Patched (2022-04-24 r82246) -- "Vigorous Calisthenics" | 4184 |
| Click on any hostname to see more info about the system (e.g. compilers) (*) as reported by 'uname -p', except on Windows and Mac OS X | ||||
|
To the developers/maintainers of the sojourner package: - Please allow up to 24 hours (and sometimes 48 hours) for your latest push to git@git.bioconductor.org:packages/sojourner.git to reflect on this report. See How and When does the builder pull? When will my changes propagate? for more information. - Make sure to use the following settings in order to reproduce any error or warning you see on this page. |
| Package 1859/2116 | Hostname | OS / Arch | INSTALL | BUILD | CHECK | BUILD BIN | ||||||||
| sojourner 1.11.0 (landing page) Sojourner Developer
| nebbiolo2 | Linux (Ubuntu 20.04.4 LTS) / x86_64 | OK | OK | OK | |||||||||
| palomino4 | Windows Server 2022 Datacenter / x64 | OK | OK | OK | OK | |||||||||
| lconway | macOS 12.2.1 Monterey / x86_64 | OK | OK | OK | OK | |||||||||
| Package: sojourner |
| Version: 1.11.0 |
| Command: F:\biocbuild\bbs-3.16-bioc\R\bin\R.exe CMD check --force-multiarch --install=check:sojourner.install-out.txt --library=F:\biocbuild\bbs-3.16-bioc\R\library --no-vignettes --timings sojourner_1.11.0.tar.gz |
| StartedAt: 2022-06-03 05:15:56 -0400 (Fri, 03 Jun 2022) |
| EndedAt: 2022-06-03 05:23:54 -0400 (Fri, 03 Jun 2022) |
| EllapsedTime: 478.2 seconds |
| RetCode: 0 |
| Status: OK |
| CheckDir: sojourner.Rcheck |
| Warnings: 0 |
##############################################################################
##############################################################################
###
### Running command:
###
### F:\biocbuild\bbs-3.16-bioc\R\bin\R.exe CMD check --force-multiarch --install=check:sojourner.install-out.txt --library=F:\biocbuild\bbs-3.16-bioc\R\library --no-vignettes --timings sojourner_1.11.0.tar.gz
###
##############################################################################
##############################################################################
* using log directory 'F:/biocbuild/bbs-3.16-bioc/meat/sojourner.Rcheck'
* using R version 4.2.0 Patched (2022-04-24 r82246 ucrt)
* using platform: x86_64-w64-mingw32 (64-bit)
* using session charset: UTF-8
* using option '--no-vignettes'
* checking for file 'sojourner/DESCRIPTION' ... OK
* this is package 'sojourner' version '1.11.0'
* package encoding: UTF-8
* checking package namespace information ... OK
* checking package dependencies ... OK
* checking if this is a source package ... OK
* checking if there is a namespace ... OK
* checking for hidden files and directories ... OK
* checking for portable file names ... OK
* checking whether package 'sojourner' can be installed ... OK
* checking installed package size ... OK
* checking package directory ... OK
* checking 'build' directory ... OK
* checking DESCRIPTION meta-information ... OK
* checking top-level files ... OK
* checking for left-over files ... OK
* checking index information ... OK
* checking package subdirectories ... OK
* checking R files for non-ASCII characters ... OK
* checking R files for syntax errors ... OK
* checking whether the package can be loaded ... OK
* checking whether the package can be loaded with stated dependencies ... OK
* checking whether the package can be unloaded cleanly ... OK
* checking whether the namespace can be loaded with stated dependencies ... OK
* checking whether the namespace can be unloaded cleanly ... OK
* checking dependencies in R code ... OK
* checking S3 generic/method consistency ... OK
* checking replacement functions ... OK
* checking foreign function calls ... OK
* checking R code for possible problems ... OK
* checking Rd files ... OK
* checking Rd metadata ... OK
* checking Rd cross-references ... OK
* checking for missing documentation entries ... OK
* checking for code/documentation mismatches ... OK
* checking Rd \usage sections ... OK
* checking Rd contents ... OK
* checking for unstated dependencies in examples ... OK
* checking files in 'vignettes' ... OK
* checking examples ... OK
Examples with CPU (user + system) or elapsed time > 5s
user system elapsed
plotLocalizations_Density-methods 43.14 1.47 44.63
fitNormDistr-methods 24.95 0.25 25.22
plotTrackOverlay_Dcoef-methods 23.13 0.49 23.61
maskTracks-methods 10.09 0.33 10.73
plotIndividual_Tracks-methods 8.80 0.17 8.97
Dcoef-methods 8.09 0.14 8.23
plotTrack-methods 6.00 0.34 6.37
combineTrackll-methods 2.72 0.12 73.50
compare_RT_CDF-methods 2.61 0.14 72.09
* checking for unstated dependencies in 'tests' ... OK
* checking tests ...
Running 'runTests.R'
OK
* checking for unstated dependencies in vignettes ... OK
* checking package vignettes in 'inst/doc' ... OK
* checking running R code from vignettes ... SKIPPED
* checking re-building of vignette outputs ... SKIPPED
* checking PDF version of manual ... OK
* DONE
Status: OK
sojourner.Rcheck/00install.out
##############################################################################
##############################################################################
###
### Running command:
###
### C:\cygwin\bin\curl.exe -O http://155.52.207.166/BBS/3.16/bioc/src/contrib/sojourner_1.11.0.tar.gz && rm -rf sojourner.buildbin-libdir && mkdir sojourner.buildbin-libdir && F:\biocbuild\bbs-3.16-bioc\R\bin\R.exe CMD INSTALL --merge-multiarch --build --library=sojourner.buildbin-libdir sojourner_1.11.0.tar.gz && F:\biocbuild\bbs-3.16-bioc\R\bin\R.exe CMD INSTALL sojourner_1.11.0.zip && rm sojourner_1.11.0.tar.gz sojourner_1.11.0.zip
###
##############################################################################
##############################################################################
% Total % Received % Xferd Average Speed Time Time Time Current
Dload Upload Total Spent Left Speed
0 0 0 0 0 0 0 0 --:--:-- --:--:-- --:--:-- 0
47 12.8M 47 6287k 0 0 7981k 0 0:00:01 --:--:-- 0:00:01 7979k
100 12.8M 100 12.8M 0 0 9.7M 0 0:00:01 0:00:01 --:--:-- 9.7M
only one architecture so ignoring '--merge-multiarch'
* installing *source* package 'sojourner' ...
** using staged installation
** R
** inst
** byte-compile and prepare package for lazy loading
** help
*** installing help indices
** building package indices
** installing vignettes
** testing if installed package can be loaded from temporary location
** testing if installed package can be loaded from final location
** testing if installed package keeps a record of temporary installation path
* MD5 sums
packaged installation of 'sojourner' as sojourner_1.11.0.zip
* DONE (sojourner)
* installing to library 'F:/biocbuild/bbs-3.16-bioc/R/library'
package 'sojourner' successfully unpacked and MD5 sums checked
sojourner.Rcheck/tests/runTests.Rout
R version 4.2.0 Patched (2022-04-24 r82246 ucrt) -- "Vigorous Calisthenics"
Copyright (C) 2022 The R Foundation for Statistical Computing
Platform: x86_64-w64-mingw32/x64 (64-bit)
R is free software and comes with ABSOLUTELY NO WARRANTY.
You are welcome to redistribute it under certain conditions.
Type 'license()' or 'licence()' for distribution details.
R is a collaborative project with many contributors.
Type 'contributors()' for more information and
'citation()' on how to cite R or R packages in publications.
Type 'demo()' for some demos, 'help()' for on-line help, or
'help.start()' for an HTML browser interface to help.
Type 'q()' to quit R.
> BiocGenerics:::testPackage("sojourner")
Reading ParticleTracker file: SWR1_WT_140mW_image6.csv ...
mage6 read and processed.
Process complete.
Reading ParticleTracker file: SWR1_WT_140mW_image6.csv ...
mage6 read and processed.
Process complete.
applying filter, min 5 max Inf
Reading ParticleTracker file: SWR1_WT_140mW_image6.csv ...
mage6 read and processed.
Process complete.
applying filter, min 5 max Inf
applying filter, min 7 max Inf
45 tracks length > & = 1
45 tracks length > & = 2
45 tracks length > & = 3
45 tracks length > & = 4
45 tracks length > & = 5
45 tracks length > & = 6
...
Reading ParticleTracker file: SWR1_WT_140mW_image6.csv ...
mage6 read and processed.
Process complete.
applying trimmer, min 1 max 20
RUNIT TEST PROTOCOL -- Fri Jun 3 05:23:41 2022
***********************************************
Number of test functions: 4
Number of errors: 0
Number of failures: 0
1 Test Suite :
sojourner RUnit Tests - 4 test functions, 0 errors, 0 failures
Number of test functions: 4
Number of errors: 0
Number of failures: 0
>
> proc.time()
user system elapsed
10.04 0.79 11.53
sojourner.Rcheck/sojourner-Ex.timings
| name | user | system | elapsed | |
| Dcoef-methods | 8.09 | 0.14 | 8.23 | |
| combineTrackll-methods | 2.72 | 0.12 | 73.50 | |
| compareFolder-methods | 0.12 | 0.00 | 0.12 | |
| compare_RT_CDF-methods | 2.61 | 0.14 | 72.09 | |
| createTrackll-methods | 0.03 | 0.00 | 0.05 | |
| dispVariance-methods | 0.93 | 0.03 | 0.95 | |
| displacementCDF-methods | 1.86 | 0.11 | 1.97 | |
| dwellTime-methods | 0.37 | 0.03 | 0.41 | |
| exportTrackll-methods | 0.05 | 0.00 | 0.06 | |
| filterTrack-methods | 0.05 | 0.00 | 0.04 | |
| fitNormDistr-methods | 24.95 | 0.25 | 25.22 | |
| fitRT-methods | 3.41 | 0.13 | 3.60 | |
| linkSkippedFrames-methods | 0.11 | 0.00 | 0.11 | |
| maskTracks-methods | 10.09 | 0.33 | 10.73 | |
| mergeTracks-methods | 0.03 | 0.00 | 0.03 | |
| msd-methods | 2.86 | 0.03 | 2.89 | |
| plotIndividual_Tracks-methods | 8.80 | 0.17 | 8.97 | |
| plotLocalizations_Density-methods | 43.14 | 1.47 | 44.63 | |
| plotTrack-methods | 6.00 | 0.34 | 6.37 | |
| plotTrackOverlay_Dcoef-methods | 23.13 | 0.49 | 23.61 | |
| sojournerGUI-methods | 0 | 0 | 0 | |
| squareDisp-methods | 0.07 | 0.01 | 0.09 | |