| Back to Multiple platform build/check report for BioC 3.16: simplified long |
|
This page was generated on 2023-04-12 11:05:52 -0400 (Wed, 12 Apr 2023).
| Hostname | OS | Arch (*) | R version | Installed pkgs |
|---|---|---|---|---|
| nebbiolo2 | Linux (Ubuntu 20.04.5 LTS) | x86_64 | 4.2.3 (2023-03-15) -- "Shortstop Beagle" | 4502 |
| palomino4 | Windows Server 2022 Datacenter | x64 | 4.2.3 (2023-03-15 ucrt) -- "Shortstop Beagle" | 4282 |
| lconway | macOS 12.5.1 Monterey | x86_64 | 4.2.3 (2023-03-15) -- "Shortstop Beagle" | 4310 |
| Click on any hostname to see more info about the system (e.g. compilers) (*) as reported by 'uname -p', except on Windows and Mac OS X | ||||
|
To the developers/maintainers of the singleCellTK package: - Please allow up to 24 hours (and sometimes 48 hours) for your latest push to git@git.bioconductor.org:packages/singleCellTK.git to reflect on this report. See How and When does the builder pull? When will my changes propagate? for more information. - Make sure to use the following settings in order to reproduce any error or warning you see on this page. |
| Package 1889/2183 | Hostname | OS / Arch | INSTALL | BUILD | CHECK | BUILD BIN | ||||||||
| singleCellTK 2.8.0 (landing page) Yichen Wang
| nebbiolo2 | Linux (Ubuntu 20.04.5 LTS) / x86_64 | OK | OK | TIMEOUT | |||||||||
| palomino4 | Windows Server 2022 Datacenter / x64 | OK | OK | OK | OK | |||||||||
| lconway | macOS 12.5.1 Monterey / x86_64 | OK | OK | OK | OK | |||||||||
| Package: singleCellTK |
| Version: 2.8.0 |
| Command: set _R_CHECK_FORCE_SUGGESTS_=0&& F:\biocbuild\bbs-3.16-bioc\R\bin\R.exe CMD check --no-multiarch --install=check:singleCellTK.install-out.txt --library=F:\biocbuild\bbs-3.16-bioc\R\library --no-vignettes --timings singleCellTK_2.8.0.tar.gz |
| StartedAt: 2023-04-11 06:07:39 -0400 (Tue, 11 Apr 2023) |
| EndedAt: 2023-04-11 06:22:15 -0400 (Tue, 11 Apr 2023) |
| EllapsedTime: 875.2 seconds |
| RetCode: 0 |
| Status: OK |
| CheckDir: singleCellTK.Rcheck |
| Warnings: 0 |
##############################################################################
##############################################################################
###
### Running command:
###
### set _R_CHECK_FORCE_SUGGESTS_=0&& F:\biocbuild\bbs-3.16-bioc\R\bin\R.exe CMD check --no-multiarch --install=check:singleCellTK.install-out.txt --library=F:\biocbuild\bbs-3.16-bioc\R\library --no-vignettes --timings singleCellTK_2.8.0.tar.gz
###
##############################################################################
##############################################################################
* using log directory 'F:/biocbuild/bbs-3.16-bioc/meat/singleCellTK.Rcheck'
* using R version 4.2.3 (2023-03-15 ucrt)
* using platform: x86_64-w64-mingw32 (64-bit)
* using session charset: UTF-8
* using option '--no-vignettes'
* checking for file 'singleCellTK/DESCRIPTION' ... OK
* checking extension type ... Package
* this is package 'singleCellTK' version '2.8.0'
* package encoding: UTF-8
* checking package namespace information ... OK
* checking package dependencies ... OK
* checking if this is a source package ... OK
* checking if there is a namespace ... OK
* checking for hidden files and directories ... OK
* checking for portable file names ... OK
* checking whether package 'singleCellTK' can be installed ... OK
* checking installed package size ... NOTE
installed size is 6.5Mb
sub-directories of 1Mb or more:
extdata 1.5Mb
shiny 2.8Mb
* checking package directory ... OK
* checking 'build' directory ... OK
* checking DESCRIPTION meta-information ... OK
* checking top-level files ... OK
* checking for left-over files ... OK
* checking index information ... OK
* checking package subdirectories ... OK
* checking R files for non-ASCII characters ... OK
* checking R files for syntax errors ... OK
* checking whether the package can be loaded ... OK
* checking whether the package can be loaded with stated dependencies ... OK
* checking whether the package can be unloaded cleanly ... OK
* checking whether the namespace can be loaded with stated dependencies ... OK
* checking whether the namespace can be unloaded cleanly ... OK
* checking dependencies in R code ... OK
* checking S3 generic/method consistency ... OK
* checking replacement functions ... OK
* checking foreign function calls ... OK
* checking R code for possible problems ... OK
* checking Rd files ... OK
* checking Rd metadata ... OK
* checking Rd cross-references ... OK
* checking for missing documentation entries ... OK
* checking for code/documentation mismatches ... OK
* checking Rd \usage sections ... OK
* checking Rd contents ... OK
* checking for unstated dependencies in examples ... OK
* checking contents of 'data' directory ... OK
* checking data for non-ASCII characters ... OK
* checking data for ASCII and uncompressed saves ... OK
* checking R/sysdata.rda ... OK
* checking files in 'vignettes' ... OK
* checking examples ... OK
Examples with CPU (user + system) or elapsed time > 5s
user system elapsed
plotScDblFinderResults 27.17 0.83 28.03
plotDoubletFinderResults 25.04 0.13 25.48
importExampleData 17.68 2.21 20.29
runDoubletFinder 18.93 0.04 19.04
runScDblFinder 17.33 0.31 17.65
plotEmptyDropsScatter 11.42 0.05 11.47
plotBatchCorrCompare 11.33 0.12 11.50
plotEmptyDropsResults 11.32 0.06 11.37
runEmptyDrops 10.86 0.03 10.89
plotScdsHybridResults 10.03 0.19 9.72
plotBcdsResults 8.09 0.18 8.18
plotDecontXResults 8.14 0.05 8.20
runDecontX 6.70 0.05 6.75
plotTSCANClusterDEG 6.59 0.09 6.69
plotCxdsResults 6.58 0.09 6.68
plotUMAP 6.62 0.02 6.69
runUMAP 6.53 0.04 6.59
detectCellOutlier 5.76 0.11 6.36
* checking for unstated dependencies in 'tests' ... OK
* checking tests ...
Running 'spelling.R'
Running 'testthat.R'
OK
* checking for unstated dependencies in vignettes ... OK
* checking package vignettes in 'inst/doc' ... OK
* checking running R code from vignettes ... SKIPPED
* checking re-building of vignette outputs ... SKIPPED
* checking PDF version of manual ... OK
* DONE
Status: 1 NOTE
See
'F:/biocbuild/bbs-3.16-bioc/meat/singleCellTK.Rcheck/00check.log'
for details.
singleCellTK.Rcheck/00install.out
############################################################################## ############################################################################## ### ### Running command: ### ### F:\biocbuild\bbs-3.16-bioc\R\bin\R.exe CMD INSTALL singleCellTK ### ############################################################################## ############################################################################## * installing to library 'F:/biocbuild/bbs-3.16-bioc/R/library' * installing *source* package 'singleCellTK' ... ** using staged installation ** R ** data ** exec ** inst ** byte-compile and prepare package for lazy loading ** help *** installing help indices ** building package indices ** installing vignettes ** testing if installed package can be loaded from temporary location ** testing if installed package can be loaded from final location ** testing if installed package keeps a record of temporary installation path * DONE (singleCellTK)
singleCellTK.Rcheck/tests/spelling.Rout
R version 4.2.3 (2023-03-15 ucrt) -- "Shortstop Beagle"
Copyright (C) 2023 The R Foundation for Statistical Computing
Platform: x86_64-w64-mingw32/x64 (64-bit)
R is free software and comes with ABSOLUTELY NO WARRANTY.
You are welcome to redistribute it under certain conditions.
Type 'license()' or 'licence()' for distribution details.
R is a collaborative project with many contributors.
Type 'contributors()' for more information and
'citation()' on how to cite R or R packages in publications.
Type 'demo()' for some demos, 'help()' for on-line help, or
'help.start()' for an HTML browser interface to help.
Type 'q()' to quit R.
> if (requireNamespace('spelling', quietly = TRUE))
+ spelling::spell_check_test(vignettes = TRUE, error = FALSE, skip_on_cran = TRUE)
NULL
>
> proc.time()
user system elapsed
0.15 0.04 0.23
singleCellTK.Rcheck/tests/testthat.Rout
R version 4.2.3 (2023-03-15 ucrt) -- "Shortstop Beagle"
Copyright (C) 2023 The R Foundation for Statistical Computing
Platform: x86_64-w64-mingw32/x64 (64-bit)
R is free software and comes with ABSOLUTELY NO WARRANTY.
You are welcome to redistribute it under certain conditions.
Type 'license()' or 'licence()' for distribution details.
R is a collaborative project with many contributors.
Type 'contributors()' for more information and
'citation()' on how to cite R or R packages in publications.
Type 'demo()' for some demos, 'help()' for on-line help, or
'help.start()' for an HTML browser interface to help.
Type 'q()' to quit R.
> library(testthat)
> library(singleCellTK)
Loading required package: SummarizedExperiment
Loading required package: MatrixGenerics
Loading required package: matrixStats
Attaching package: 'MatrixGenerics'
The following objects are masked from 'package:matrixStats':
colAlls, colAnyNAs, colAnys, colAvgsPerRowSet, colCollapse,
colCounts, colCummaxs, colCummins, colCumprods, colCumsums,
colDiffs, colIQRDiffs, colIQRs, colLogSumExps, colMadDiffs,
colMads, colMaxs, colMeans2, colMedians, colMins, colOrderStats,
colProds, colQuantiles, colRanges, colRanks, colSdDiffs, colSds,
colSums2, colTabulates, colVarDiffs, colVars, colWeightedMads,
colWeightedMeans, colWeightedMedians, colWeightedSds,
colWeightedVars, rowAlls, rowAnyNAs, rowAnys, rowAvgsPerColSet,
rowCollapse, rowCounts, rowCummaxs, rowCummins, rowCumprods,
rowCumsums, rowDiffs, rowIQRDiffs, rowIQRs, rowLogSumExps,
rowMadDiffs, rowMads, rowMaxs, rowMeans2, rowMedians, rowMins,
rowOrderStats, rowProds, rowQuantiles, rowRanges, rowRanks,
rowSdDiffs, rowSds, rowSums2, rowTabulates, rowVarDiffs, rowVars,
rowWeightedMads, rowWeightedMeans, rowWeightedMedians,
rowWeightedSds, rowWeightedVars
Loading required package: GenomicRanges
Loading required package: stats4
Loading required package: BiocGenerics
Attaching package: 'BiocGenerics'
The following objects are masked from 'package:stats':
IQR, mad, sd, var, xtabs
The following objects are masked from 'package:base':
Filter, Find, Map, Position, Reduce, anyDuplicated, aperm, append,
as.data.frame, basename, cbind, colnames, dirname, do.call,
duplicated, eval, evalq, get, grep, grepl, intersect, is.unsorted,
lapply, mapply, match, mget, order, paste, pmax, pmax.int, pmin,
pmin.int, rank, rbind, rownames, sapply, setdiff, sort, table,
tapply, union, unique, unsplit, which.max, which.min
Loading required package: S4Vectors
Attaching package: 'S4Vectors'
The following objects are masked from 'package:base':
I, expand.grid, unname
Loading required package: IRanges
Attaching package: 'IRanges'
The following object is masked from 'package:grDevices':
windows
Loading required package: GenomeInfoDb
Loading required package: Biobase
Welcome to Bioconductor
Vignettes contain introductory material; view with
'browseVignettes()'. To cite Bioconductor, see
'citation("Biobase")', and for packages 'citation("pkgname")'.
Attaching package: 'Biobase'
The following object is masked from 'package:MatrixGenerics':
rowMedians
The following objects are masked from 'package:matrixStats':
anyMissing, rowMedians
Loading required package: SingleCellExperiment
Loading required package: DelayedArray
Loading required package: Matrix
Attaching package: 'Matrix'
The following object is masked from 'package:S4Vectors':
expand
Attaching package: 'DelayedArray'
The following objects are masked from 'package:base':
apply, rowsum, scale, sweep
Attaching package: 'singleCellTK'
The following object is masked from 'package:BiocGenerics':
plotPCA
>
> test_check("singleCellTK")
Found 2 batches
Using null model in ComBat-seq.
Adjusting for 0 covariate(s) or covariate level(s)
Estimating dispersions
Fitting the GLM model
Shrinkage off - using GLM estimates for parameters
Adjusting the data
Found 2 batches
Using null model in ComBat-seq.
Adjusting for 1 covariate(s) or covariate level(s)
Estimating dispersions
Fitting the GLM model
Shrinkage off - using GLM estimates for parameters
Adjusting the data
Performing log-normalization
0% 10 20 30 40 50 60 70 80 90 100%
[----|----|----|----|----|----|----|----|----|----|
**************************************************|
|
| | 0%
|
|======================================================================| 100%
Calculating gene variances
0% 10 20 30 40 50 60 70 80 90 100%
[----|----|----|----|----|----|----|----|----|----|
**************************************************|
Calculating feature variances of standardized and clipped values
0% 10 20 30 40 50 60 70 80 90 100%
[----|----|----|----|----|----|----|----|----|----|
**************************************************|
|
| | 0%
|
|======================================================================| 100%
|
| | 0%
|
|======================================================================| 100%
Calculating gene variances
0% 10 20 30 40 50 60 70 80 90 100%
[----|----|----|----|----|----|----|----|----|----|
**************************************************|
Calculating feature variances of standardized and clipped values
0% 10 20 30 40 50 60 70 80 90 100%
[----|----|----|----|----|----|----|----|----|----|
**************************************************|
Uploading data to Enrichr... Done.
Querying HDSigDB_Human_2021... Done.
Parsing results... Done.
Performing log-normalization
0% 10 20 30 40 50 60 70 80 90 100%
[----|----|----|----|----|----|----|----|----|----|
**************************************************|
Calculating gene variances
0% 10 20 30 40 50 60 70 80 90 100%
[----|----|----|----|----|----|----|----|----|----|
**************************************************|
Calculating feature variances of standardized and clipped values
0% 10 20 30 40 50 60 70 80 90 100%
[----|----|----|----|----|----|----|----|----|----|
**************************************************|
Calculating gene means
0% 10 20 30 40 50 60 70 80 90 100%
[----|----|----|----|----|----|----|----|----|----|
**************************************************|
Calculating gene variance to mean ratios
0% 10 20 30 40 50 60 70 80 90 100%
[----|----|----|----|----|----|----|----|----|----|
**************************************************|
Calculating gene means
0% 10 20 30 40 50 60 70 80 90 100%
[----|----|----|----|----|----|----|----|----|----|
**************************************************|
Calculating gene variance to mean ratios
0% 10 20 30 40 50 60 70 80 90 100%
[----|----|----|----|----|----|----|----|----|----|
**************************************************|
Estimating GSVA scores for 34 gene sets.
Estimating ECDFs with Gaussian kernels
|
| | 0%
|
|== | 3%
|
|==== | 6%
|
|====== | 9%
|
|======== | 12%
|
|========== | 15%
|
|============ | 18%
|
|============== | 21%
|
|================ | 24%
|
|=================== | 26%
|
|===================== | 29%
|
|======================= | 32%
|
|========================= | 35%
|
|=========================== | 38%
|
|============================= | 41%
|
|=============================== | 44%
|
|================================= | 47%
|
|=================================== | 50%
|
|===================================== | 53%
|
|======================================= | 56%
|
|========================================= | 59%
|
|=========================================== | 62%
|
|============================================= | 65%
|
|=============================================== | 68%
|
|================================================= | 71%
|
|=================================================== | 74%
|
|====================================================== | 76%
|
|======================================================== | 79%
|
|========================================================== | 82%
|
|============================================================ | 85%
|
|============================================================== | 88%
|
|================================================================ | 91%
|
|================================================================== | 94%
|
|==================================================================== | 97%
|
|======================================================================| 100%
Estimating GSVA scores for 2 gene sets.
Estimating ECDFs with Gaussian kernels
|
| | 0%
|
|=================================== | 50%
|
|======================================================================| 100%
Performing log-normalization
0% 10 20 30 40 50 60 70 80 90 100%
[----|----|----|----|----|----|----|----|----|----|
**************************************************|
Calculating gene variances
0% 10 20 30 40 50 60 70 80 90 100%
[----|----|----|----|----|----|----|----|----|----|
**************************************************|
Calculating feature variances of standardized and clipped values
0% 10 20 30 40 50 60 70 80 90 100%
[----|----|----|----|----|----|----|----|----|----|
**************************************************|
|
| | 0%
|
|======================================================================| 100%
Performing log-normalization
0% 10 20 30 40 50 60 70 80 90 100%
[----|----|----|----|----|----|----|----|----|----|
**************************************************|
|
| | 0%
|
|======================================================================| 100%
Calculating gene variances
0% 10 20 30 40 50 60 70 80 90 100%
[----|----|----|----|----|----|----|----|----|----|
**************************************************|
Calculating feature variances of standardized and clipped values
0% 10 20 30 40 50 60 70 80 90 100%
[----|----|----|----|----|----|----|----|----|----|
**************************************************|
|
| | 0%
|
|======================================================================| 100%
|
| | 0%
|
|======================================================================| 100%
Modularity Optimizer version 1.3.0 by Ludo Waltman and Nees Jan van Eck
Number of nodes: 390
Number of edges: 9590
Running Louvain algorithm...
0% 10 20 30 40 50 60 70 80 90 100%
[----|----|----|----|----|----|----|----|----|----|
**************************************************|
Maximum modularity in 10 random starts: 0.8042
Number of communities: 6
Elapsed time: 0 seconds
Using method 'umap'
0% 10 20 30 40 50 60 70 80 90 100%
[----|----|----|----|----|----|----|----|----|----|
**************************************************|
|
| | 0%
|
|======================================================================| 100%
|
| | 0%
|
|======================================================================| 100%
|
| | 0%
|
|======================================================================| 100%
|
| | 0%
|
|======================================================================| 100%
0% 10 20 30 40 50 60 70 80 90 100%
[----|----|----|----|----|----|----|----|----|----|
**************************************************|
0% 10 20 30 40 50 60 70 80 90 100%
[----|----|----|----|----|----|----|----|----|----|
**************************************************|
|
| | 0%
|
|======================================================================| 100%
|
| | 0%
|
|======================================================================| 100%
|
| | 0%
|
|======================================================================| 100%
|
| | 0%
|
|======================================================================| 100%
|
| | 0%
|
|======================================================================| 100%
Performing log-normalization
0% 10 20 30 40 50 60 70 80 90 100%
[----|----|----|----|----|----|----|----|----|----|
**************************************************|
[ FAIL 0 | WARN 20 | SKIP 0 | PASS 221 ]
[ FAIL 0 | WARN 20 | SKIP 0 | PASS 221 ]
>
> proc.time()
user system elapsed
256.62 7.70 266.42
singleCellTK.Rcheck/singleCellTK-Ex.timings
| name | user | system | elapsed | |
| MitoGenes | 0.00 | 0.01 | 0.02 | |
| SEG | 0 | 0 | 0 | |
| calcEffectSizes | 0.28 | 0.00 | 0.28 | |
| combineSCE | 2.22 | 0.21 | 2.43 | |
| computeZScore | 0.34 | 0.00 | 0.35 | |
| convertSCEToSeurat | 2.72 | 0.25 | 4.24 | |
| convertSeuratToSCE | 0.39 | 0.03 | 0.43 | |
| dedupRowNames | 0.97 | 0.02 | 0.98 | |
| detectCellOutlier | 5.76 | 0.11 | 6.36 | |
| diffAbundanceFET | 0.04 | 0.00 | 0.03 | |
| discreteColorPalette | 0.03 | 0.00 | 0.03 | |
| distinctColors | 0 | 0 | 0 | |
| downSampleCells | 0.87 | 0.08 | 0.96 | |
| downSampleDepth | 0.67 | 0.01 | 0.68 | |
| expData-ANY-character-method | 0.32 | 0.00 | 0.32 | |
| expData-set-ANY-character-CharacterOrNullOrMissing-logical-method | 0.32 | 0.02 | 0.34 | |
| expData-set | 0.35 | 0.01 | 0.36 | |
| expData | 0.28 | 0.03 | 0.31 | |
| expDataNames-ANY-method | 0.30 | 0.02 | 0.31 | |
| expDataNames | 0.36 | 0.02 | 0.38 | |
| expDeleteDataTag | 0.06 | 0.00 | 0.07 | |
| expSetDataTag | 0.03 | 0.02 | 0.04 | |
| expTaggedData | 0.03 | 0.01 | 0.05 | |
| exportSCE | 0.00 | 0.05 | 0.05 | |
| exportSCEtoAnnData | 0.06 | 0.02 | 0.08 | |
| exportSCEtoFlatFile | 0.06 | 0.00 | 0.06 | |
| featureIndex | 0.05 | 0.01 | 0.07 | |
| generateSimulatedData | 0.04 | 0.00 | 0.04 | |
| getBiomarker | 0.07 | 0.00 | 0.07 | |
| getDEGTopTable | 0.95 | 0.06 | 1.01 | |
| getDiffAbundanceResults | 0.03 | 0.00 | 0.03 | |
| getEnrichRResult | 0.27 | 0.05 | 1.10 | |
| getFindMarkerTopTable | 3.36 | 0.13 | 3.48 | |
| getMSigDBTable | 0 | 0 | 0 | |
| getPathwayResultNames | 0.04 | 0.00 | 0.05 | |
| getSampleSummaryStatsTable | 0.35 | 0.03 | 0.37 | |
| getSoupX | 0.33 | 0.06 | 0.39 | |
| getTSCANResults | 1.84 | 0.16 | 2.09 | |
| getTopHVG | 1.04 | 0.03 | 1.07 | |
| importAnnData | 0 | 0 | 0 | |
| importBUStools | 0.30 | 0.00 | 0.33 | |
| importCellRanger | 1.30 | 0.06 | 1.47 | |
| importCellRangerV2Sample | 0.34 | 0.00 | 0.34 | |
| importCellRangerV3Sample | 0.45 | 0.03 | 0.53 | |
| importDropEst | 0.35 | 0.02 | 0.38 | |
| importExampleData | 17.68 | 2.21 | 20.29 | |
| importGeneSetsFromCollection | 0.70 | 0.13 | 0.83 | |
| importGeneSetsFromGMT | 0.06 | 0.03 | 0.10 | |
| importGeneSetsFromList | 0.16 | 0.00 | 0.15 | |
| importGeneSetsFromMSigDB | 3.28 | 0.06 | 3.43 | |
| importMitoGeneSet | 0.07 | 0.03 | 0.10 | |
| importOptimus | 0 | 0 | 0 | |
| importSEQC | 0.28 | 0.00 | 0.31 | |
| importSTARsolo | 0.33 | 0.00 | 0.34 | |
| iterateSimulations | 0.42 | 0.04 | 0.45 | |
| listSampleSummaryStatsTables | 0.42 | 0.03 | 0.46 | |
| mergeSCEColData | 0.48 | 0.09 | 0.59 | |
| mouseBrainSubsetSCE | 0.03 | 0.00 | 0.03 | |
| msigdb_table | 0 | 0 | 0 | |
| plotBarcodeRankDropsResults | 0.86 | 0.03 | 0.89 | |
| plotBarcodeRankScatter | 0.75 | 0.03 | 0.78 | |
| plotBatchCorrCompare | 11.33 | 0.12 | 11.50 | |
| plotBatchVariance | 0.46 | 0.00 | 0.45 | |
| plotBcdsResults | 8.09 | 0.18 | 8.18 | |
| plotClusterAbundance | 1.14 | 0.00 | 1.14 | |
| plotCxdsResults | 6.58 | 0.09 | 6.68 | |
| plotDEGHeatmap | 2.95 | 0.09 | 3.05 | |
| plotDEGRegression | 3.86 | 0.08 | 4.03 | |
| plotDEGViolin | 4.63 | 0.10 | 4.72 | |
| plotDEGVolcano | 1.06 | 0.01 | 1.08 | |
| plotDecontXResults | 8.14 | 0.05 | 8.20 | |
| plotDimRed | 0.33 | 0.01 | 0.35 | |
| plotDoubletFinderResults | 25.04 | 0.13 | 25.48 | |
| plotEmptyDropsResults | 11.32 | 0.06 | 11.37 | |
| plotEmptyDropsScatter | 11.42 | 0.05 | 11.47 | |
| plotFindMarkerHeatmap | 4.94 | 0.04 | 4.99 | |
| plotMASTThresholdGenes | 1.82 | 0.04 | 1.86 | |
| plotPCA | 0.68 | 0.00 | 0.67 | |
| plotPathway | 1.15 | 0.01 | 1.41 | |
| plotRunPerCellQCResults | 1.35 | 0.06 | 1.40 | |
| plotSCEBarAssayData | 0.15 | 0.02 | 0.17 | |
| plotSCEBarColData | 0.13 | 0.02 | 0.14 | |
| plotSCEBatchFeatureMean | 0.25 | 0.00 | 0.25 | |
| plotSCEDensity | 0.22 | 0.01 | 0.24 | |
| plotSCEDensityAssayData | 0.2 | 0.0 | 0.2 | |
| plotSCEDensityColData | 0.25 | 0.00 | 0.25 | |
| plotSCEDimReduceColData | 0.95 | 0.02 | 0.97 | |
| plotSCEDimReduceFeatures | 0.44 | 0.03 | 0.47 | |
| plotSCEHeatmap | 0.78 | 0.01 | 0.80 | |
| plotSCEScatter | 0.36 | 0.00 | 0.36 | |
| plotSCEViolin | 0.30 | 0.00 | 0.57 | |
| plotSCEViolinAssayData | 0.37 | 0.00 | 0.38 | |
| plotSCEViolinColData | 0.3 | 0.0 | 0.3 | |
| plotScDblFinderResults | 27.17 | 0.83 | 28.03 | |
| plotScdsHybridResults | 10.03 | 0.19 | 9.72 | |
| plotScrubletResults | 0.03 | 0.01 | 0.04 | |
| plotSeuratElbow | 0.03 | 0.02 | 0.05 | |
| plotSeuratHVG | 0.02 | 0.02 | 0.03 | |
| plotSeuratJackStraw | 0.03 | 0.01 | 0.05 | |
| plotSeuratReduction | 0.03 | 0.02 | 0.04 | |
| plotSoupXResults | 0.21 | 0.03 | 0.24 | |
| plotTSCANClusterDEG | 6.59 | 0.09 | 6.69 | |
| plotTSCANClusterPseudo | 2.43 | 0.06 | 2.49 | |
| plotTSCANDimReduceFeatures | 2.22 | 0.04 | 2.25 | |
| plotTSCANPseudotimeGenes | 2.34 | 0.01 | 2.36 | |
| plotTSCANPseudotimeHeatmap | 2.42 | 0.00 | 2.42 | |
| plotTSCANResults | 2.08 | 0.08 | 2.15 | |
| plotTSNE | 0.50 | 0.03 | 0.53 | |
| plotTopHVG | 0.42 | 0.00 | 0.43 | |
| plotUMAP | 6.62 | 0.02 | 6.69 | |
| readSingleCellMatrix | 0.02 | 0.00 | 0.02 | |
| reportCellQC | 0.17 | 0.01 | 0.18 | |
| reportDropletQC | 0.05 | 0.00 | 0.05 | |
| reportQCTool | 0.18 | 0.03 | 0.22 | |
| retrieveSCEIndex | 0.03 | 0.02 | 0.05 | |
| runBBKNN | 0 | 0 | 0 | |
| runBarcodeRankDrops | 0.47 | 0.03 | 0.50 | |
| runBcds | 2.14 | 0.05 | 1.68 | |
| runCellQC | 0.19 | 0.01 | 0.21 | |
| runComBatSeq | 0.64 | 0.02 | 0.70 | |
| runCxds | 0.61 | 0.01 | 0.62 | |
| runCxdsBcdsHybrid | 2.33 | 0.11 | 2.00 | |
| runDEAnalysis | 0.75 | 0.03 | 0.79 | |
| runDecontX | 6.70 | 0.05 | 6.75 | |
| runDimReduce | 0.46 | 0.02 | 0.46 | |
| runDoubletFinder | 18.93 | 0.04 | 19.04 | |
| runDropletQC | 0.05 | 0.02 | 0.06 | |
| runEmptyDrops | 10.86 | 0.03 | 10.89 | |
| runEnrichR | 0.23 | 0.02 | 0.76 | |
| runFastMNN | 1.66 | 0.03 | 1.80 | |
| runFeatureSelection | 0.2 | 0.0 | 0.2 | |
| runFindMarker | 3.24 | 0.08 | 3.32 | |
| runGSVA | 0.70 | 0.03 | 0.73 | |
| runHarmony | 0.03 | 0.01 | 0.05 | |
| runKMeans | 0.47 | 0.02 | 0.48 | |
| runLimmaBC | 0.08 | 0.00 | 0.08 | |
| runMNNCorrect | 0.58 | 0.00 | 0.58 | |
| runModelGeneVar | 0.51 | 0.01 | 0.53 | |
| runNormalization | 0.55 | 0.00 | 0.55 | |
| runPerCellQC | 0.56 | 0.02 | 0.58 | |
| runSCANORAMA | 0 | 0 | 0 | |
| runSCMerge | 0 | 0 | 0 | |
| runScDblFinder | 17.33 | 0.31 | 17.65 | |
| runScranSNN | 0.75 | 0.00 | 0.75 | |
| runScrublet | 0.03 | 0.01 | 0.05 | |
| runSeuratFindClusters | 0.04 | 0.02 | 0.06 | |
| runSeuratFindHVG | 0.80 | 0.03 | 0.83 | |
| runSeuratHeatmap | 0.02 | 0.02 | 0.03 | |
| runSeuratICA | 0.01 | 0.03 | 0.05 | |
| runSeuratJackStraw | 0.03 | 0.01 | 0.04 | |
| runSeuratNormalizeData | 0.03 | 0.00 | 0.04 | |
| runSeuratPCA | 0.04 | 0.02 | 0.04 | |
| runSeuratSCTransform | 3.46 | 0.03 | 3.52 | |
| runSeuratScaleData | 0.04 | 0.00 | 0.03 | |
| runSeuratUMAP | 0.01 | 0.03 | 0.05 | |
| runSingleR | 0.05 | 0.00 | 0.04 | |
| runSoupX | 0.19 | 0.00 | 0.19 | |
| runTSCAN | 1.54 | 0.02 | 1.56 | |
| runTSCANClusterDEAnalysis | 1.78 | 0.06 | 1.85 | |
| runTSCANDEG | 1.50 | 0.03 | 1.53 | |
| runTSNE | 0.80 | 0.02 | 0.81 | |
| runUMAP | 6.53 | 0.04 | 6.59 | |
| runVAM | 0.60 | 0.02 | 0.61 | |
| runZINBWaVE | 0 | 0 | 0 | |
| sampleSummaryStats | 0.29 | 0.01 | 0.32 | |
| scaterCPM | 0.11 | 0.00 | 0.11 | |
| scaterPCA | 0.50 | 0.02 | 0.52 | |
| scaterlogNormCounts | 0.29 | 0.00 | 0.29 | |
| sce | 0.05 | 0.00 | 0.05 | |
| sctkListGeneSetCollections | 0.11 | 0.00 | 0.11 | |
| sctkPythonInstallConda | 0 | 0 | 0 | |
| sctkPythonInstallVirtualEnv | 0 | 0 | 0 | |
| selectSCTKConda | 0 | 0 | 0 | |
| selectSCTKVirtualEnvironment | 0 | 0 | 0 | |
| setRowNames | 0.09 | 0.00 | 0.09 | |
| setSCTKDisplayRow | 0.43 | 0.01 | 0.44 | |
| singleCellTK | 0 | 0 | 0 | |
| subDiffEx | 0.48 | 0.03 | 0.51 | |
| subsetSCECols | 0.19 | 0.02 | 0.21 | |
| subsetSCERows | 0.50 | 0.04 | 0.54 | |
| summarizeSCE | 0.06 | 0.00 | 0.07 | |
| trimCounts | 0.22 | 0.02 | 0.23 | |