| Back to Multiple platform build/check report for BioC 3.16: simplified long |
|
This page was generated on 2023-04-12 11:05:52 -0400 (Wed, 12 Apr 2023).
| Hostname | OS | Arch (*) | R version | Installed pkgs |
|---|---|---|---|---|
| nebbiolo2 | Linux (Ubuntu 20.04.5 LTS) | x86_64 | 4.2.3 (2023-03-15) -- "Shortstop Beagle" | 4502 |
| palomino4 | Windows Server 2022 Datacenter | x64 | 4.2.3 (2023-03-15 ucrt) -- "Shortstop Beagle" | 4282 |
| lconway | macOS 12.5.1 Monterey | x86_64 | 4.2.3 (2023-03-15) -- "Shortstop Beagle" | 4310 |
| Click on any hostname to see more info about the system (e.g. compilers) (*) as reported by 'uname -p', except on Windows and Mac OS X | ||||
|
To the developers/maintainers of the simplifyEnrichment package: - Please allow up to 24 hours (and sometimes 48 hours) for your latest push to git@git.bioconductor.org:packages/simplifyEnrichment.git to reflect on this report. See How and When does the builder pull? When will my changes propagate? for more information. - Make sure to use the following settings in order to reproduce any error or warning you see on this page. |
| Package 1884/2183 | Hostname | OS / Arch | INSTALL | BUILD | CHECK | BUILD BIN | ||||||||
| simplifyEnrichment 1.8.0 (landing page) Zuguang Gu
| nebbiolo2 | Linux (Ubuntu 20.04.5 LTS) / x86_64 | OK | OK | OK | |||||||||
| palomino4 | Windows Server 2022 Datacenter / x64 | OK | OK | OK | OK | |||||||||
| lconway | macOS 12.5.1 Monterey / x86_64 | OK | OK | OK | OK | |||||||||
| Package: simplifyEnrichment |
| Version: 1.8.0 |
| Command: F:\biocbuild\bbs-3.16-bioc\R\bin\R.exe CMD check --no-multiarch --install=check:simplifyEnrichment.install-out.txt --library=F:\biocbuild\bbs-3.16-bioc\R\library --no-vignettes --timings simplifyEnrichment_1.8.0.tar.gz |
| StartedAt: 2023-04-11 06:06:11 -0400 (Tue, 11 Apr 2023) |
| EndedAt: 2023-04-11 06:08:58 -0400 (Tue, 11 Apr 2023) |
| EllapsedTime: 167.2 seconds |
| RetCode: 0 |
| Status: OK |
| CheckDir: simplifyEnrichment.Rcheck |
| Warnings: 0 |
##############################################################################
##############################################################################
###
### Running command:
###
### F:\biocbuild\bbs-3.16-bioc\R\bin\R.exe CMD check --no-multiarch --install=check:simplifyEnrichment.install-out.txt --library=F:\biocbuild\bbs-3.16-bioc\R\library --no-vignettes --timings simplifyEnrichment_1.8.0.tar.gz
###
##############################################################################
##############################################################################
* using log directory 'F:/biocbuild/bbs-3.16-bioc/meat/simplifyEnrichment.Rcheck'
* using R version 4.2.3 (2023-03-15 ucrt)
* using platform: x86_64-w64-mingw32 (64-bit)
* using session charset: UTF-8
* using option '--no-vignettes'
* checking for file 'simplifyEnrichment/DESCRIPTION' ... OK
* checking extension type ... Package
* this is package 'simplifyEnrichment' version '1.8.0'
* checking package namespace information ... OK
* checking package dependencies ... OK
* checking if this is a source package ... OK
* checking if there is a namespace ... OK
* checking for hidden files and directories ... OK
* checking for portable file names ... OK
* checking whether package 'simplifyEnrichment' can be installed ... OK
* checking installed package size ... NOTE
installed size is 6.5Mb
sub-directories of 1Mb or more:
extdata 5.9Mb
* checking package directory ... OK
* checking 'build' directory ... OK
* checking DESCRIPTION meta-information ... OK
* checking top-level files ... OK
* checking for left-over files ... OK
* checking index information ... OK
* checking package subdirectories ... OK
* checking R files for non-ASCII characters ... OK
* checking R files for syntax errors ... OK
* checking whether the package can be loaded ... OK
* checking whether the package can be loaded with stated dependencies ... OK
* checking whether the package can be unloaded cleanly ... OK
* checking whether the namespace can be loaded with stated dependencies ... OK
* checking whether the namespace can be unloaded cleanly ... OK
* checking dependencies in R code ... NOTE
Unexported object imported by a ':::' call: 'clusterProfiler:::get_GO_data'
See the note in ?`:::` about the use of this operator.
* checking S3 generic/method consistency ... OK
* checking replacement functions ... OK
* checking foreign function calls ... OK
* checking R code for possible problems ... OK
* checking Rd files ... OK
* checking Rd metadata ... OK
* checking Rd cross-references ... OK
* checking for missing documentation entries ... OK
* checking for code/documentation mismatches ... OK
* checking Rd \usage sections ... OK
* checking Rd contents ... OK
* checking for unstated dependencies in examples ... OK
* checking files in 'vignettes' ... OK
* checking examples ... OK
* checking for unstated dependencies in 'tests' ... OK
* checking tests ...
Running 'test-all.R'
OK
* checking for unstated dependencies in vignettes ... OK
* checking package vignettes in 'inst/doc' ... OK
* checking running R code from vignettes ... SKIPPED
* checking re-building of vignette outputs ... SKIPPED
* checking PDF version of manual ... OK
* DONE
Status: 2 NOTEs
See
'F:/biocbuild/bbs-3.16-bioc/meat/simplifyEnrichment.Rcheck/00check.log'
for details.
simplifyEnrichment.Rcheck/00install.out
############################################################################## ############################################################################## ### ### Running command: ### ### F:\biocbuild\bbs-3.16-bioc\R\bin\R.exe CMD INSTALL simplifyEnrichment ### ############################################################################## ############################################################################## * installing to library 'F:/biocbuild/bbs-3.16-bioc/R/library' * installing *source* package 'simplifyEnrichment' ... ** using staged installation ** R ** inst ** byte-compile and prepare package for lazy loading ** help *** installing help indices ** building package indices ** installing vignettes ** testing if installed package can be loaded from temporary location ** testing if installed package can be loaded from final location ** testing if installed package keeps a record of temporary installation path * DONE (simplifyEnrichment)
simplifyEnrichment.Rcheck/tests/test-all.Rout
R version 4.2.3 (2023-03-15 ucrt) -- "Shortstop Beagle"
Copyright (C) 2023 The R Foundation for Statistical Computing
Platform: x86_64-w64-mingw32/x64 (64-bit)
R is free software and comes with ABSOLUTELY NO WARRANTY.
You are welcome to redistribute it under certain conditions.
Type 'license()' or 'licence()' for distribution details.
R is a collaborative project with many contributors.
Type 'contributors()' for more information and
'citation()' on how to cite R or R packages in publications.
Type 'demo()' for some demos, 'help()' for on-line help, or
'help.start()' for an HTML browser interface to help.
Type 'q()' to quit R.
> library(testthat)
> suppressWarnings(suppressPackageStartupMessages(library(simplifyEnrichment)))
>
> test_check("simplifyEnrichment")
[ FAIL 0 | WARN 0 | SKIP 0 | PASS 17 ]
>
> proc.time()
user system elapsed
9.79 0.62 10.39
simplifyEnrichment.Rcheck/simplifyEnrichment-Ex.timings
| name | user | system | elapsed | |
| DO_similarity | 0 | 0 | 0 | |
| GO_similarity | 0 | 0 | 0 | |
| all_clustering_methods | 0 | 0 | 0 | |
| anno_word_cloud | 2.71 | 0.03 | 2.75 | |
| anno_word_cloud_from_GO | 0 | 0 | 0 | |
| area_above_ecdf | 0 | 0 | 0 | |
| binary_cut | 1.45 | 0.01 | 1.47 | |
| cluster_by_MCL | 0 | 0 | 0 | |
| cluster_by_apcluster | 0 | 0 | 0 | |
| cluster_by_dynamicTreeCut | 0 | 0 | 0 | |
| cluster_by_hdbscan | 0 | 0 | 0 | |
| cluster_by_igraph | 0 | 0 | 0 | |
| cluster_by_kmeans | 0 | 0 | 0 | |
| cluster_by_mclust | 0 | 0 | 0 | |
| cluster_by_pam | 0 | 0 | 0 | |
| cluster_terms | 0 | 0 | 0 | |
| cmp_make_clusters | 0 | 0 | 0 | |
| cmp_make_plot | 0 | 0 | 0 | |
| compare_clustering_methods | 0 | 0 | 0 | |
| count_words | 0.49 | 0.00 | 0.49 | |
| dend_node_apply | 0.01 | 0.00 | 0.01 | |
| difference_score | 1.71 | 0.07 | 1.77 | |
| edit_node | 0 | 0 | 0 | |
| export_to_shiny_app | 0 | 0 | 0 | |
| guess_ont | 0 | 0 | 0 | |
| heightDetails.word_cloud | 0 | 0 | 0 | |
| ht_clusters | 0 | 0 | 0 | |
| keyword_enrichment_from_GO | 0 | 0 | 0 | |
| partition_by_hclust | 0 | 0 | 0 | |
| partition_by_kmeans | 0 | 0 | 0 | |
| partition_by_kmeanspp | 0 | 0 | 0 | |
| partition_by_pam | 0 | 0 | 0 | |
| plot_binary_cut | 0 | 0 | 0 | |
| random_DO | 0 | 0 | 0 | |
| random_GO | 0 | 0 | 0 | |
| register_clustering_methods | 0 | 0 | 0 | |
| remove_clustering_methods | 0 | 0 | 0 | |
| reset_clustering_methods | 0 | 0 | 0 | |
| scale_fontsize | 0 | 0 | 0 | |
| se_opt | 0 | 0 | 0 | |
| select_cutoff | 0 | 0 | 0 | |
| simplifyEnrichment | 0 | 0 | 0 | |
| simplifyGO | 0 | 0 | 0 | |
| simplifyGOFromMultipleLists | 0 | 0 | 0 | |
| subset_enrichResult | 0 | 0 | 0 | |
| term_similarity | 0 | 0 | 0 | |
| term_similarity_from_KEGG | 0 | 0 | 0 | |
| term_similarity_from_MSigDB | 0 | 0 | 0 | |
| term_similarity_from_Reactome | 0 | 0 | 0 | |
| term_similarity_from_enrichResult | 0 | 0 | 0 | |
| term_similarity_from_gmt | 0 | 0 | 0 | |
| widthDetails.word_cloud | 0 | 0 | 0 | |
| word_cloud_grob | 0.11 | 0.00 | 0.11 | |