| Back to Multiple platform build/check report for BioC 3.16: simplified long |
|
This page was generated on 2023-04-12 11:06:26 -0400 (Wed, 12 Apr 2023).
| Hostname | OS | Arch (*) | R version | Installed pkgs |
|---|---|---|---|---|
| nebbiolo2 | Linux (Ubuntu 20.04.5 LTS) | x86_64 | 4.2.3 (2023-03-15) -- "Shortstop Beagle" | 4502 |
| palomino4 | Windows Server 2022 Datacenter | x64 | 4.2.3 (2023-03-15 ucrt) -- "Shortstop Beagle" | 4282 |
| lconway | macOS 12.5.1 Monterey | x86_64 | 4.2.3 (2023-03-15) -- "Shortstop Beagle" | 4310 |
| Click on any hostname to see more info about the system (e.g. compilers) (*) as reported by 'uname -p', except on Windows and Mac OS X | ||||
|
To the developers/maintainers of the signifinder package: - Please allow up to 24 hours (and sometimes 48 hours) for your latest push to git@git.bioconductor.org:packages/signifinder.git to reflect on this report. See How and When does the builder pull? When will my changes propagate? for more information. - Make sure to use the following settings in order to reproduce any error or warning you see on this page. |
| Package 1871/2183 | Hostname | OS / Arch | INSTALL | BUILD | CHECK | BUILD BIN | ||||||||
| signifinder 1.0.0 (landing page) Stefania Pirrotta
| nebbiolo2 | Linux (Ubuntu 20.04.5 LTS) / x86_64 | OK | OK | OK | |||||||||
| palomino4 | Windows Server 2022 Datacenter / x64 | OK | OK | OK | OK | |||||||||
| lconway | macOS 12.5.1 Monterey / x86_64 | OK | OK | OK | OK | |||||||||
| Package: signifinder |
| Version: 1.0.0 |
| Command: /Library/Frameworks/R.framework/Resources/bin/R CMD check --install=check:signifinder.install-out.txt --library=/Library/Frameworks/R.framework/Resources/library --no-vignettes --timings signifinder_1.0.0.tar.gz |
| StartedAt: 2023-04-10 22:42:21 -0400 (Mon, 10 Apr 2023) |
| EndedAt: 2023-04-10 22:52:35 -0400 (Mon, 10 Apr 2023) |
| EllapsedTime: 613.6 seconds |
| RetCode: 0 |
| Status: OK |
| CheckDir: signifinder.Rcheck |
| Warnings: 0 |
##############################################################################
##############################################################################
###
### Running command:
###
### /Library/Frameworks/R.framework/Resources/bin/R CMD check --install=check:signifinder.install-out.txt --library=/Library/Frameworks/R.framework/Resources/library --no-vignettes --timings signifinder_1.0.0.tar.gz
###
##############################################################################
##############################################################################
* using log directory ‘/Users/biocbuild/bbs-3.16-bioc/meat/signifinder.Rcheck’
* using R version 4.2.3 (2023-03-15)
* using platform: x86_64-apple-darwin17.0 (64-bit)
* using session charset: UTF-8
* using option ‘--no-vignettes’
* checking for file ‘signifinder/DESCRIPTION’ ... OK
* checking extension type ... Package
* this is package ‘signifinder’ version ‘1.0.0’
* package encoding: UTF-8
* checking package namespace information ... OK
* checking package dependencies ... OK
* checking if this is a source package ... OK
* checking if there is a namespace ... OK
* checking for hidden files and directories ... OK
* checking for portable file names ... OK
* checking for sufficient/correct file permissions ... OK
* checking whether package ‘signifinder’ can be installed ... OK
* checking installed package size ... OK
* checking package directory ... OK
* checking ‘build’ directory ... OK
* checking DESCRIPTION meta-information ... OK
* checking top-level files ... OK
* checking for left-over files ... OK
* checking index information ... OK
* checking package subdirectories ... OK
* checking R files for non-ASCII characters ... OK
* checking R files for syntax errors ... OK
* checking whether the package can be loaded ... OK
* checking whether the package can be loaded with stated dependencies ... OK
* checking whether the package can be unloaded cleanly ... OK
* checking whether the namespace can be loaded with stated dependencies ... OK
* checking whether the namespace can be unloaded cleanly ... OK
* checking dependencies in R code ... OK
* checking S3 generic/method consistency ... OK
* checking replacement functions ... OK
* checking foreign function calls ... OK
* checking R code for possible problems ... OK
* checking Rd files ... OK
* checking Rd metadata ... OK
* checking Rd cross-references ... OK
* checking for missing documentation entries ... OK
* checking for code/documentation mismatches ... OK
* checking Rd \usage sections ... OK
* checking Rd contents ... OK
* checking for unstated dependencies in examples ... OK
* checking contents of ‘data’ directory ... OK
* checking data for non-ASCII characters ... OK
* checking data for ASCII and uncompressed saves ... OK
* checking R/sysdata.rda ... OK
* checking files in ‘vignettes’ ... OK
* checking examples ... OK
Examples with CPU (user + system) or elapsed time > 5s
user system elapsed
multipleSign 123.319 0.589 124.131
consensusOVSign 64.360 0.329 64.817
* checking for unstated dependencies in ‘tests’ ... OK
* checking tests ...
Running ‘testthat.R’
OK
* checking for unstated dependencies in vignettes ... OK
* checking package vignettes in ‘inst/doc’ ... OK
* checking running R code from vignettes ... SKIPPED
* checking re-building of vignette outputs ... SKIPPED
* checking PDF version of manual ... OK
* DONE
Status: OK
signifinder.Rcheck/00install.out
############################################################################## ############################################################################## ### ### Running command: ### ### /Library/Frameworks/R.framework/Resources/bin/R CMD INSTALL signifinder ### ############################################################################## ############################################################################## * installing to library ‘/Library/Frameworks/R.framework/Versions/4.2/Resources/library’ * installing *source* package ‘signifinder’ ... ** using staged installation ** R ** data ** inst ** byte-compile and prepare package for lazy loading ** help *** installing help indices *** copying figures ** building package indices ** installing vignettes ** testing if installed package can be loaded from temporary location ** testing if installed package can be loaded from final location ** testing if installed package keeps a record of temporary installation path * DONE (signifinder)
signifinder.Rcheck/tests/testthat.Rout
R version 4.2.3 (2023-03-15) -- "Shortstop Beagle"
Copyright (C) 2023 The R Foundation for Statistical Computing
Platform: x86_64-apple-darwin17.0 (64-bit)
R is free software and comes with ABSOLUTELY NO WARRANTY.
You are welcome to redistribute it under certain conditions.
Type 'license()' or 'licence()' for distribution details.
R is a collaborative project with many contributors.
Type 'contributors()' for more information and
'citation()' on how to cite R or R packages in publications.
Type 'demo()' for some demos, 'help()' for on-line help, or
'help.start()' for an HTML browser interface to help.
Type 'q()' to quit R.
> library(testthat)
> library(signifinder)
>
> test_check("signifinder")
'select()' returned 1:1 mapping between keys and columns
Loading required package: edgeR
Loading required package: limma
Attaching package: 'limma'
The following object is masked from 'package:BiocGenerics':
plotMA
pyroptosisSignLin is using 100% of signature genes
'select()' returned 1:1 mapping between keys and columns
ferroptosisSignLi is using 100% of signature genes
lipidMetabolismSign is using 100% of signature genes
StemCellCD49fSign is using 100% of signature genes
glycolysisSignXu is using 100% of signature genes
autophagySignWang is using 100% of signature genes
'select()' returned 1:1 mapping between keys and columns
autophagySignChenM is using 27% of OS signature genes
autophagySignChenM is using 100% of DFS signature genes
'select()' returned 1:1 mapping between keys and columns
autophagySignChenM is using 27% of OS signature genes
TinflamSign is using 100% of signature genes
EMTSignMiow is using 100% of epithelial signature genes
EMTSignMiow is using 0% of mesenchymal signature genes
[1] "Calculating ranks..."
[1] "Calculating absolute values from ranks..."
EMTSignMiow is using 0% of mesenchymal signature genes
[1] "Calculating ranks..."
[1] "Calculating absolute values from ranks..."
EMTSignMak is using 100% of epithelial signature genes
EMTSignMak is using 100% of mesenchymal signature genes
EMTSignMak is using 100% of mesenchymal signature genes
EMTSignCheng is using 100% of signature genes
ASCSign is using 100% of signature genes
ChemokineSign is using 100% of signature genes
'select()' returned 1:1 mapping between keys and columns
PassONSign is using 100% of signature genes
[1] "Calculating ranks..."
[1] "Calculating absolute values from ranks..."
[1] "Normalizing..."
'select()' returned 1:1 mapping between keys and columns
[1] "Calculating ranks..."
[1] "Calculating absolute values from ranks..."
[1] "Normalizing..."
CISSign is using 100% of up signature genes
CISSign is using 100% of down signature genes
CISSign is using 100% of down signature genes
HRDSSign is using 100% of signature genes
DNArepSign is using 100% of signature genes
'select()' returned 1:1 mapping between keys and columns
IPRESSign is using 100% of signature genes
[1] "Calculating ranks..."
[1] "Calculating absolute values from ranks..."
[1] "Normalizing..."
'select()' returned 1:1 mapping between keys and columns
[1] "Calculating ranks..."
[1] "Calculating absolute values from ranks..."
[1] "Normalizing..."
ECMSign is using 100% of up signature genes
ECMSign is using 0% of down signature genes
[1] "Calculating ranks..."
[1] "Calculating absolute values from ranks..."
ECMSign is using 0% of down signature genes
[1] "Calculating ranks..."
[1] "Calculating absolute values from ranks..."
IPSOVSign is using 100% of signature genes
[1] "Calculating ranks..."
[1] "Calculating absolute values from ranks..."
[1] "Calculating ranks..."
[1] "Calculating absolute values from ranks..."
TLSSign is using 100% of signature genes
expandedImmuneSign is using 100% of signature genes
IFNSign is using 100% of signature genes
ImmuneCytSignRooney is using 100% of signature genes
mitoticIndexSign is using 100% of signature genes
matrisomeSign is using 100% of signature genes
immunoScoreSignRoh is using 100% of signature genes
CINSign is using 100% of signature genes
CINSign is using 100% of signature genes
CINSign is using 100% of signature genes
hypoxiaSign is using 100% of signature genes
cellCycleSignLundberg is using 100% of signature genes
cellCycleSignDavoli is using 100% of signature genes
VEGFSign is using 100% of signature genes
ImmuneCytSignDavoli is using 100% of signature genes
[ FAIL 0 | WARN 11 | SKIP 0 | PASS 194 ]
[ FAIL 0 | WARN 11 | SKIP 0 | PASS 194 ]
>
> proc.time()
user system elapsed
101.685 3.506 105.564
signifinder.Rcheck/signifinder-Ex.timings
| name | user | system | elapsed | |
| ASCSign | 0.111 | 0.005 | 0.117 | |
| CINSign | 0.224 | 0.003 | 0.228 | |
| CISSign | 0.033 | 0.002 | 0.036 | |
| DNArepSign | 0.032 | 0.002 | 0.035 | |
| ECMSign | 0.111 | 0.004 | 0.116 | |
| EMTSign | 1.061 | 0.009 | 1.074 | |
| HRDSSign | 0.038 | 0.001 | 0.040 | |
| IFNSign | 0.032 | 0.002 | 0.034 | |
| IPRESSign | 0.176 | 0.012 | 0.189 | |
| IPSOVSign | 0.111 | 0.007 | 0.117 | |
| IPSSign | 0.075 | 0.004 | 0.079 | |
| ISCSign | 0.048 | 0.004 | 0.051 | |
| PassONSign | 0.104 | 0.004 | 0.109 | |
| TLSSign | 0.039 | 0.002 | 0.043 | |
| TinflamSign | 0.035 | 0.002 | 0.038 | |
| VEGFSign | 0.044 | 0.003 | 0.048 | |
| autophagySign | 0.063 | 0.007 | 0.071 | |
| availableSignatures | 0.010 | 0.005 | 0.015 | |
| cellCycleSign | 0.032 | 0.002 | 0.034 | |
| chemokineSign | 0.032 | 0.002 | 0.034 | |
| consensusOVSign | 64.360 | 0.329 | 64.817 | |
| correlationSignPlot | 1.220 | 0.092 | 1.316 | |
| expandedImmuneSign | 0.032 | 0.003 | 0.036 | |
| ferroptosisSign | 0.037 | 0.004 | 0.041 | |
| geneHeatmapSignPlot | 1.235 | 0.025 | 1.264 | |
| glycolysisSign | 0.035 | 0.001 | 0.036 | |
| heatmapSignPlot | 1.895 | 0.013 | 1.914 | |
| hypoxiaSign | 0.034 | 0.002 | 0.036 | |
| immuneCytSign | 0.042 | 0.002 | 0.044 | |
| immunoScoreSign | 0.045 | 0.002 | 0.047 | |
| lipidMetabolismSign | 0.040 | 0.002 | 0.043 | |
| matrisomeSign | 0.040 | 0.003 | 0.042 | |
| mitoticIndexSign | 0.037 | 0.002 | 0.039 | |
| multipleSign | 123.319 | 0.589 | 124.131 | |
| oneSignPlot | 0.494 | 0.013 | 0.511 | |
| pyroptosisSign | 0.045 | 0.002 | 0.046 | |
| ridgelineSignPlot | 0.904 | 0.043 | 0.948 | |
| stemCellCD49fSign | 0.041 | 0.003 | 0.044 | |
| survivalSignPlot | 1.291 | 0.045 | 1.345 | |