| Back to Multiple platform build/check report for BioC 3.16: simplified long |
|
This page was generated on 2023-04-12 11:05:52 -0400 (Wed, 12 Apr 2023).
| Hostname | OS | Arch (*) | R version | Installed pkgs |
|---|---|---|---|---|
| nebbiolo2 | Linux (Ubuntu 20.04.5 LTS) | x86_64 | 4.2.3 (2023-03-15) -- "Shortstop Beagle" | 4502 |
| palomino4 | Windows Server 2022 Datacenter | x64 | 4.2.3 (2023-03-15 ucrt) -- "Shortstop Beagle" | 4282 |
| lconway | macOS 12.5.1 Monterey | x86_64 | 4.2.3 (2023-03-15) -- "Shortstop Beagle" | 4310 |
| Click on any hostname to see more info about the system (e.g. compilers) (*) as reported by 'uname -p', except on Windows and Mac OS X | ||||
|
To the developers/maintainers of the signatureSearch package: - Please allow up to 24 hours (and sometimes 48 hours) for your latest push to git@git.bioconductor.org:packages/signatureSearch.git to reflect on this report. See How and When does the builder pull? When will my changes propagate? for more information. - Make sure to use the following settings in order to reproduce any error or warning you see on this page. |
| Package 1869/2183 | Hostname | OS / Arch | INSTALL | BUILD | CHECK | BUILD BIN | ||||||||
| signatureSearch 1.12.0 (landing page) Brendan Gongol
| nebbiolo2 | Linux (Ubuntu 20.04.5 LTS) / x86_64 | OK | OK | OK | |||||||||
| palomino4 | Windows Server 2022 Datacenter / x64 | OK | OK | OK | OK | |||||||||
| lconway | macOS 12.5.1 Monterey / x86_64 | OK | OK | OK | OK | |||||||||
| Package: signatureSearch |
| Version: 1.12.0 |
| Command: F:\biocbuild\bbs-3.16-bioc\R\bin\R.exe CMD check --no-multiarch --install=check:signatureSearch.install-out.txt --library=F:\biocbuild\bbs-3.16-bioc\R\library --no-vignettes --timings signatureSearch_1.12.0.tar.gz |
| StartedAt: 2023-04-11 06:02:02 -0400 (Tue, 11 Apr 2023) |
| EndedAt: 2023-04-11 06:09:08 -0400 (Tue, 11 Apr 2023) |
| EllapsedTime: 426.0 seconds |
| RetCode: 0 |
| Status: OK |
| CheckDir: signatureSearch.Rcheck |
| Warnings: 0 |
##############################################################################
##############################################################################
###
### Running command:
###
### F:\biocbuild\bbs-3.16-bioc\R\bin\R.exe CMD check --no-multiarch --install=check:signatureSearch.install-out.txt --library=F:\biocbuild\bbs-3.16-bioc\R\library --no-vignettes --timings signatureSearch_1.12.0.tar.gz
###
##############################################################################
##############################################################################
* using log directory 'F:/biocbuild/bbs-3.16-bioc/meat/signatureSearch.Rcheck'
* using R version 4.2.3 (2023-03-15 ucrt)
* using platform: x86_64-w64-mingw32 (64-bit)
* using session charset: UTF-8
* using option '--no-vignettes'
* checking for file 'signatureSearch/DESCRIPTION' ... OK
* this is package 'signatureSearch' version '1.12.0'
* package encoding: UTF-8
* checking package namespace information ... OK
* checking package dependencies ... OK
* checking if this is a source package ... OK
* checking if there is a namespace ... OK
* checking for hidden files and directories ... NOTE
Found the following hidden files and directories:
inst/extdata/.batchtools.conf.R
These were most likely included in error. See section 'Package
structure' in the 'Writing R Extensions' manual.
* checking for portable file names ... OK
* checking whether package 'signatureSearch' can be installed ... OK
* checking installed package size ... NOTE
installed size is 88.4Mb
sub-directories of 1Mb or more:
R 82.8Mb
data 2.9Mb
extdata 1.5Mb
libs 1.0Mb
* checking package directory ... OK
* checking 'build' directory ... OK
* checking DESCRIPTION meta-information ... OK
* checking top-level files ... OK
* checking for left-over files ... OK
* checking index information ... OK
* checking package subdirectories ... OK
* checking R files for non-ASCII characters ... OK
* checking R files for syntax errors ... OK
* checking whether the package can be loaded ... OK
* checking whether the package can be loaded with stated dependencies ... OK
* checking whether the package can be unloaded cleanly ... OK
* checking whether the namespace can be loaded with stated dependencies ... OK
* checking whether the namespace can be unloaded cleanly ... OK
* checking dependencies in R code ... OK
* checking S3 generic/method consistency ... OK
* checking replacement functions ... OK
* checking foreign function calls ... OK
* checking R code for possible problems ... OK
* checking Rd files ... OK
* checking Rd metadata ... OK
* checking Rd cross-references ... OK
* checking for missing documentation entries ... OK
* checking for code/documentation mismatches ... OK
* checking Rd \usage sections ... OK
* checking Rd contents ... OK
* checking for unstated dependencies in examples ... OK
* checking contents of 'data' directory ... OK
* checking data for non-ASCII characters ... NOTE
Note: found 147 marked UTF-8 strings
* checking LazyData ... OK
* checking data for ASCII and uncompressed saves ... OK
* checking R/sysdata.rda ... OK
* checking line endings in C/C++/Fortran sources/headers ... OK
* checking compiled code ... NOTE
Note: information on .o files for x64 is not available
File 'F:/biocbuild/bbs-3.16-bioc/R/library/signatureSearch/libs/x64/signatureSearch.dll':
Found 'abort', possibly from 'abort' (C), 'runtime' (Fortran)
Found 'exit', possibly from 'exit' (C), 'stop' (Fortran)
Compiled code should not call entry points which might terminate R nor
write to stdout/stderr instead of to the console, nor use Fortran I/O
nor system RNGs. The detected symbols are linked into the code but
might come from libraries and not actually be called.
See 'Writing portable packages' in the 'Writing R Extensions' manual.
* checking files in 'vignettes' ... OK
* checking examples ... OK
Examples with CPU (user + system) or elapsed time > 5s
user system elapsed
runWF 25.11 2.80 34.33
set_readable 22.36 1.80 24.25
addGESSannot 5.19 1.65 7.11
* checking for unstated dependencies in 'tests' ... OK
* checking tests ...
Running 'testthat.R'
OK
* checking for unstated dependencies in vignettes ... OK
* checking package vignettes in 'inst/doc' ... OK
* checking running R code from vignettes ... SKIPPED
* checking re-building of vignette outputs ... SKIPPED
* checking PDF version of manual ... OK
* DONE
Status: 4 NOTEs
See
'F:/biocbuild/bbs-3.16-bioc/meat/signatureSearch.Rcheck/00check.log'
for details.
signatureSearch.Rcheck/00install.out
##############################################################################
##############################################################################
###
### Running command:
###
### F:\biocbuild\bbs-3.16-bioc\R\bin\R.exe CMD INSTALL signatureSearch
###
##############################################################################
##############################################################################
* installing to library 'F:/biocbuild/bbs-3.16-bioc/R/library'
* installing *source* package 'signatureSearch' ...
** using staged installation
** libs
g++ -std=gnu++11 -I"F:/biocbuild/bbs-3.16-bioc/R/include" -DNDEBUG -I'F:/biocbuild/bbs-3.16-bioc/R/library/Rcpp/include' -I"C:/rtools42/x86_64-w64-mingw32.static.posix/include" -O2 -Wall -mfpmath=sse -msse2 -mstackrealign -c RcppExports.cpp -o RcppExports.o
g++ -std=gnu++11 -I"F:/biocbuild/bbs-3.16-bioc/R/include" -DNDEBUG -I'F:/biocbuild/bbs-3.16-bioc/R/library/Rcpp/include' -I"C:/rtools42/x86_64-w64-mingw32.static.posix/include" -O2 -Wall -mfpmath=sse -msse2 -mstackrealign -c fastGSEA.cpp -o fastGSEA.o
fastGSEA.cpp: In function 'Rcpp::NumericVector calcGseaStatBatchCpp(const NumericVector&, const List&, const IntegerVector&)':
fastGSEA.cpp:444:27: warning: comparison of integer expressions of different signedness: 'int' and 'std::vector<int>::size_type' {aka 'long long unsigned int'} [-Wsign-compare]
444 | for (int j = 0; j < S.size(); ++j) {
| ~~^~~~~~~~~~
gcc -I"F:/biocbuild/bbs-3.16-bioc/R/include" -DNDEBUG -I'F:/biocbuild/bbs-3.16-bioc/R/library/Rcpp/include' -I"C:/rtools42/x86_64-w64-mingw32.static.posix/include" -O2 -Wall -std=gnu99 -mfpmath=sse -msse2 -mstackrealign -c fgsea_init.c -o fgsea_init.o
g++ -shared -s -static-libgcc -o signatureSearch.dll tmp.def RcppExports.o fastGSEA.o fgsea_init.o -LC:/rtools42/x86_64-w64-mingw32.static.posix/lib/x64 -LC:/rtools42/x86_64-w64-mingw32.static.posix/lib -LF:/biocbuild/bbs-3.16-bioc/R/bin/x64 -lR
installing to F:/biocbuild/bbs-3.16-bioc/R/library/00LOCK-signatureSearch/00new/signatureSearch/libs/x64
** R
** data
*** moving datasets to lazyload DB
** inst
** byte-compile and prepare package for lazy loading
** help
*** installing help indices
** building package indices
** installing vignettes
** testing if installed package can be loaded from temporary location
** testing if installed package can be loaded from final location
** testing if installed package keeps a record of temporary installation path
* DONE (signatureSearch)
signatureSearch.Rcheck/tests/testthat.Rout
R version 4.2.3 (2023-03-15 ucrt) -- "Shortstop Beagle"
Copyright (C) 2023 The R Foundation for Statistical Computing
Platform: x86_64-w64-mingw32/x64 (64-bit)
R is free software and comes with ABSOLUTELY NO WARRANTY.
You are welcome to redistribute it under certain conditions.
Type 'license()' or 'licence()' for distribution details.
R is a collaborative project with many contributors.
Type 'contributors()' for more information and
'citation()' on how to cite R or R packages in publications.
Type 'demo()' for some demos, 'help()' for on-line help, or
'help.start()' for an HTML browser interface to help.
Type 'q()' to quit R.
> # library(testthat)
> # library(signatureSearch)
> #
> # test_check("signatureSearch")
>
> proc.time()
user system elapsed
0.17 0.01 0.18
signatureSearch.Rcheck/signatureSearch-Ex.timings
| name | user | system | elapsed | |
| addGESSannot | 5.19 | 1.65 | 7.11 | |
| addMOA | 0.19 | 0.00 | 0.19 | |
| add_pcid | 0 | 0 | 0 | |
| append2H5 | 0.04 | 0.02 | 0.14 | |
| build_custom_db | 0.28 | 0.05 | 0.39 | |
| cellNtestPlot | 0.73 | 0.15 | 0.91 | |
| cell_info | 0.03 | 0.00 | 0.03 | |
| cell_info2 | 0.03 | 0.00 | 0.03 | |
| chembl_moa_list | 0.02 | 0.00 | 0.02 | |
| clue_moa_list | 0.00 | 0.02 | 0.01 | |
| comp_fea_res | 0.14 | 0.03 | 0.18 | |
| create_empty_h5 | 0.00 | 0.01 | 0.01 | |
| dim-methods | 0 | 0 | 0 | |
| drug_cell_ranks | 0.01 | 0.00 | 0.01 | |
| drugs-methods | 0 | 0 | 0 | |
| drugs10 | 0 | 0 | 0 | |
| dtnetplot | 1.64 | 0.39 | 3.22 | |
| enrichGO2 | 0 | 0 | 0 | |
| enrichKEGG2 | 0 | 0 | 0 | |
| enrichMOA | 0.05 | 0.02 | 0.08 | |
| enrichReactome | 0 | 0 | 0 | |
| fea | 0.01 | 0.00 | 0.02 | |
| feaResult | 0 | 0 | 0 | |
| gctx2h5 | 0.43 | 0.17 | 1.18 | |
| gess | 0 | 0 | 0 | |
| gessResult | 0 | 0 | 0 | |
| gess_res_vis | 0.25 | 0.05 | 0.30 | |
| getSig | 1.31 | 0.20 | 1.68 | |
| getTreats | 0.50 | 0.08 | 0.60 | |
| get_targets | 1.87 | 0.17 | 2.09 | |
| gmt2h5 | 0.10 | 0.02 | 0.47 | |
| gseGO2 | 0.00 | 0.01 | 0.02 | |
| gseKEGG2 | 0 | 0 | 0 | |
| gseReactome | 0 | 0 | 0 | |
| head-methods | 0.02 | 0.00 | 0.02 | |
| lincs_expr_inst_info | 0.03 | 0.00 | 0.03 | |
| lincs_pert_info | 0.09 | 0.03 | 0.12 | |
| lincs_pert_info2 | 1.21 | 0.04 | 1.24 | |
| lincs_sig_info | 0.03 | 0.01 | 0.04 | |
| list2df | 0 | 0 | 0 | |
| list_rev | 0 | 0 | 0 | |
| mabsGO | 0.00 | 0.02 | 0.02 | |
| mabsKEGG | 0 | 0 | 0 | |
| mabsReactome | 0.00 | 0.01 | 0.02 | |
| matrix2h5 | 0.04 | 0.00 | 0.12 | |
| meanExpr2h5 | 0.54 | 0.11 | 0.83 | |
| moa_conn | 0.03 | 0.00 | 0.03 | |
| parse_gctx | 0.09 | 0.00 | 0.09 | |
| qSig | 0.91 | 0.22 | 1.19 | |
| rand_query_ES | 3.89 | 0.36 | 4.27 | |
| read_gmt | 0 | 0 | 0 | |
| result-methods | 0.01 | 0.00 | 0.02 | |
| runWF | 25.11 | 2.80 | 34.33 | |
| set_readable | 22.36 | 1.80 | 24.25 | |
| show-methods | 0.03 | 0.00 | 0.03 | |
| sim_score_grp | 0 | 0 | 0 | |
| tail-methods | 0.02 | 0.00 | 0.02 | |
| tarReduce | 0 | 0 | 0 | |
| targetList | 0.00 | 0.01 | 0.02 | |
| vec_char_redu | 0 | 0 | 0 | |