| Back to Multiple platform build/check report for BioC 3.16 | 
 | 
This page was generated on 2022-07-07 11:12:00 -0400 (Thu, 07 Jul 2022).
| Hostname | OS | Arch (*) | R version | Installed pkgs | 
|---|---|---|---|---|
| nebbiolo2 | Linux (Ubuntu 20.04.4 LTS) | x86_64 | 4.2.0 Patched (2022-06-02 r82447) -- "Vigorous Calisthenics" | 4343 | 
| palomino4 | Windows Server 2022 Datacenter | x64 | 4.2.0 Patched (2022-06-02 r82447 ucrt) -- "Vigorous Calisthenics" | 4148 | 
| lconway | macOS 12.2.1 Monterey | x86_64 | 4.2.0 Patched (2022-05-29 r82424) -- "Vigorous Calisthenics" | 4160 | 
| kjohnson | macOS 12.4 Monterey | arm64 | 4.2.0 Patched (2022-06-09 r82473) -- "Vigorous Calisthenics" | 3115 | 
| Click on any hostname to see more info about the system (e.g. compilers) (*) as reported by 'uname -p', except on Windows and Mac OS X | ||||
| To the developers/maintainers of the sigFeature package: - Please allow up to 24 hours (and sometimes 48 hours) for your latest push to git@git.bioconductor.org:packages/sigFeature.git to reflect on this report. See How and When does the builder pull? When will my changes propagate? for more information. - Make sure to use the following settings in order to reproduce any error or warning you see on this page. | 
| Package 1819/2124 | Hostname | OS / Arch | INSTALL | BUILD | CHECK | BUILD BIN | ||||||||
| sigFeature 1.15.0  (landing page) Pijush Das Developer 
 | nebbiolo2 | Linux (Ubuntu 20.04.4 LTS) / x86_64 | OK | OK | OK |  | ||||||||
| palomino4 | Windows Server 2022 Datacenter / x64 | OK | OK | OK | OK |  | ||||||||
| lconway | macOS 12.2.1 Monterey / x86_64 | OK | OK | OK | OK |  | ||||||||
| kjohnson | macOS 12.4 Monterey / arm64 | OK | OK | NA | OK | |||||||||
| Package: sigFeature | 
| Version: 1.15.0 | 
| Command: rm -rf sigFeature.buildbin-libdir && mkdir sigFeature.buildbin-libdir && /Users/biocbuild/BBS/utils/build-universal.sh sigFeature_1.15.0.tar.gz /Library/Frameworks/R.framework/Resources/bin/R sigFeature.buildbin-libdir | 
| StartedAt: 2022-07-07 09:10:23 -0400 (Thu, 07 Jul 2022) | 
| EndedAt: 2022-07-07 09:11:05 -0400 (Thu, 07 Jul 2022) | 
| EllapsedTime: 41.3 seconds | 
| RetCode: 0 | 
| Status: OK | 
| PackageFile: sigFeature_1.15.0.tgz | 
| PackageFileSize: 463.5 KiB | 
############################################################################## ############################################################################## ### ### Running command: ### ### rm -rf sigFeature.buildbin-libdir && mkdir sigFeature.buildbin-libdir && /Users/biocbuild/BBS/utils/build-universal.sh sigFeature_1.15.0.tar.gz /Library/Frameworks/R.framework/Resources/bin/R sigFeature.buildbin-libdir ### ############################################################################## ############################################################################## >>>>>>> >>>>>>> INSTALLATION WITH 'R CMD INSTALL --preclean --no-multiarch --library=sigFeature.buildbin-libdir sigFeature_1.15.0.tar.gz' >>>>>>> * installing *source* package ‘sigFeature’ ... ** using staged installation ** R ** data *** moving datasets to lazyload DB ** inst ** byte-compile and prepare package for lazy loading ** help *** installing help indices ** building package indices ** installing vignettes ** testing if installed package can be loaded from temporary location ** testing if installed package can be loaded from final location ** testing if installed package keeps a record of temporary installation path * DONE (sigFeature)