| Back to Multiple platform build/check report for BioC 3.16: simplified long |
|
This page was generated on 2023-04-12 11:05:51 -0400 (Wed, 12 Apr 2023).
| Hostname | OS | Arch (*) | R version | Installed pkgs |
|---|---|---|---|---|
| nebbiolo2 | Linux (Ubuntu 20.04.5 LTS) | x86_64 | 4.2.3 (2023-03-15) -- "Shortstop Beagle" | 4502 |
| palomino4 | Windows Server 2022 Datacenter | x64 | 4.2.3 (2023-03-15 ucrt) -- "Shortstop Beagle" | 4282 |
| lconway | macOS 12.5.1 Monterey | x86_64 | 4.2.3 (2023-03-15) -- "Shortstop Beagle" | 4310 |
| Click on any hostname to see more info about the system (e.g. compilers) (*) as reported by 'uname -p', except on Windows and Mac OS X | ||||
|
To the developers/maintainers of the segmenter package: - Please allow up to 24 hours (and sometimes 48 hours) for your latest push to git@git.bioconductor.org:packages/segmenter.git to reflect on this report. See How and When does the builder pull? When will my changes propagate? for more information. - Make sure to use the following settings in order to reproduce any error or warning you see on this page. |
| Package 1831/2183 | Hostname | OS / Arch | INSTALL | BUILD | CHECK | BUILD BIN | ||||||||
| segmenter 1.4.0 (landing page) Mahmoud Ahmed
| nebbiolo2 | Linux (Ubuntu 20.04.5 LTS) / x86_64 | OK | OK | OK | |||||||||
| palomino4 | Windows Server 2022 Datacenter / x64 | OK | OK | OK | OK | |||||||||
| lconway | macOS 12.5.1 Monterey / x86_64 | OK | OK | OK | OK | |||||||||
| Package: segmenter |
| Version: 1.4.0 |
| Command: F:\biocbuild\bbs-3.16-bioc\R\bin\R.exe CMD check --no-multiarch --install=check:segmenter.install-out.txt --library=F:\biocbuild\bbs-3.16-bioc\R\library --no-vignettes --timings segmenter_1.4.0.tar.gz |
| StartedAt: 2023-04-11 05:51:15 -0400 (Tue, 11 Apr 2023) |
| EndedAt: 2023-04-11 05:58:57 -0400 (Tue, 11 Apr 2023) |
| EllapsedTime: 461.8 seconds |
| RetCode: 0 |
| Status: OK |
| CheckDir: segmenter.Rcheck |
| Warnings: 0 |
##############################################################################
##############################################################################
###
### Running command:
###
### F:\biocbuild\bbs-3.16-bioc\R\bin\R.exe CMD check --no-multiarch --install=check:segmenter.install-out.txt --library=F:\biocbuild\bbs-3.16-bioc\R\library --no-vignettes --timings segmenter_1.4.0.tar.gz
###
##############################################################################
##############################################################################
* using log directory 'F:/biocbuild/bbs-3.16-bioc/meat/segmenter.Rcheck'
* using R version 4.2.3 (2023-03-15 ucrt)
* using platform: x86_64-w64-mingw32 (64-bit)
* using session charset: UTF-8
* using option '--no-vignettes'
* checking for file 'segmenter/DESCRIPTION' ... OK
* checking extension type ... Package
* this is package 'segmenter' version '1.4.0'
* package encoding: UTF-8
* checking package namespace information ... OK
* checking package dependencies ... OK
* checking if this is a source package ... OK
* checking if there is a namespace ... OK
* checking for hidden files and directories ... OK
* checking for portable file names ... OK
* checking whether package 'segmenter' can be installed ... OK
* checking installed package size ... OK
* checking package directory ... OK
* checking 'build' directory ... OK
* checking DESCRIPTION meta-information ... OK
* checking top-level files ... OK
* checking for left-over files ... OK
* checking index information ... OK
* checking package subdirectories ... OK
* checking R files for non-ASCII characters ... OK
* checking R files for syntax errors ... OK
* checking whether the package can be loaded ... OK
* checking whether the package can be loaded with stated dependencies ... OK
* checking whether the package can be unloaded cleanly ... OK
* checking whether the namespace can be loaded with stated dependencies ... OK
* checking whether the namespace can be unloaded cleanly ... OK
* checking dependencies in R code ... OK
* checking S3 generic/method consistency ... OK
* checking replacement functions ... OK
* checking foreign function calls ... OK
* checking R code for possible problems ... OK
* checking Rd files ... OK
* checking Rd metadata ... OK
* checking Rd cross-references ... OK
* checking for missing documentation entries ... OK
* checking for code/documentation mismatches ... OK
* checking Rd \usage sections ... OK
* checking Rd contents ... OK
* checking for unstated dependencies in examples ... OK
* checking contents of 'data' directory ... OK
* checking data for non-ASCII characters ... OK
* checking LazyData ... OK
* checking data for ASCII and uncompressed saves ... OK
* checking files in 'vignettes' ... OK
* checking examples ... OK
Examples with CPU (user + system) or elapsed time > 5s
user system elapsed
annotate_segments 19.42 0.92 20.38
learn_model 0.13 0.02 12.36
binarize_bam 0.02 0.03 6.78
* checking for unstated dependencies in 'tests' ... OK
* checking tests ...
Running 'testthat.R'
OK
* checking for unstated dependencies in vignettes ... OK
* checking package vignettes in 'inst/doc' ... OK
* checking running R code from vignettes ... SKIPPED
* checking re-building of vignette outputs ... SKIPPED
* checking PDF version of manual ... OK
* DONE
Status: OK
segmenter.Rcheck/00install.out
############################################################################## ############################################################################## ### ### Running command: ### ### F:\biocbuild\bbs-3.16-bioc\R\bin\R.exe CMD INSTALL segmenter ### ############################################################################## ############################################################################## * installing to library 'F:/biocbuild/bbs-3.16-bioc/R/library' * installing *source* package 'segmenter' ... ** using staged installation ** R ** data *** moving datasets to lazyload DB ** inst ** byte-compile and prepare package for lazy loading ** help *** installing help indices ** building package indices ** installing vignettes ** testing if installed package can be loaded from temporary location ** testing if installed package can be loaded from final location ** testing if installed package keeps a record of temporary installation path * DONE (segmenter)
segmenter.Rcheck/tests/testthat.Rout
R version 4.2.3 (2023-03-15 ucrt) -- "Shortstop Beagle"
Copyright (C) 2023 The R Foundation for Statistical Computing
Platform: x86_64-w64-mingw32/x64 (64-bit)
R is free software and comes with ABSOLUTELY NO WARRANTY.
You are welcome to redistribute it under certain conditions.
Type 'license()' or 'licence()' for distribution details.
R is a collaborative project with many contributors.
Type 'contributors()' for more information and
'citation()' on how to cite R or R packages in publications.
Type 'demo()' for some demos, 'help()' for on-line help, or
'help.start()' for an HTML browser interface to help.
Type 'q()' to quit R.
> library(testthat)
> library(segmenter)
>
> test_check("segmenter")
[ FAIL 0 | WARN 0 | SKIP 0 | PASS 123 ]
>
> proc.time()
user system elapsed
61.29 3.07 127.12
segmenter.Rcheck/segmenter-Ex.timings
| name | user | system | elapsed | |
| accessors | 0.08 | 0.00 | 0.11 | |
| annotate_segments | 19.42 | 0.92 | 20.38 | |
| binarize_bam | 0.02 | 0.03 | 6.78 | |
| compare_models | 0.04 | 0.00 | 0.05 | |
| emissions_file | 0 | 0 | 0 | |
| enrichment_files | 0 | 0 | 0 | |
| get_frequency | 0.02 | 0.00 | 0.02 | |
| get_width | 0.54 | 0.27 | 0.81 | |
| learn_model | 0.13 | 0.02 | 12.36 | |
| methods | 0 | 0 | 0 | |
| model_file | 0 | 0 | 0 | |
| overlap_files | 0 | 0 | 0 | |
| plot_heatmap | 0.42 | 0.03 | 0.62 | |
| read_bam_file | 0.03 | 0.00 | 0.03 | |
| read_bins_file | 3.34 | 0.43 | 3.78 | |
| read_cellmark_file | 0 | 0 | 0 | |
| read_chromsize_file | 0.02 | 0.00 | 0.02 | |
| read_emissions_file | 0 | 0 | 0 | |
| read_enrichment_file | 0 | 0 | 0 | |
| read_model_file | 0.00 | 0.02 | 0.01 | |
| read_overlap_file | 0 | 0 | 0 | |
| read_segements_file | 0.03 | 0.00 | 0.03 | |
| read_transitions_file | 0 | 0 | 0 | |
| segments_files | 0 | 0 | 0 | |
| tidy_ranges | 0.03 | 0.00 | 0.04 | |
| transitions_file | 0 | 0 | 0 | |