| Back to Multiple platform build/check report for BioC 3.16: simplified long |
|
This page was generated on 2023-04-12 11:06:25 -0400 (Wed, 12 Apr 2023).
| Hostname | OS | Arch (*) | R version | Installed pkgs |
|---|---|---|---|---|
| nebbiolo2 | Linux (Ubuntu 20.04.5 LTS) | x86_64 | 4.2.3 (2023-03-15) -- "Shortstop Beagle" | 4502 |
| palomino4 | Windows Server 2022 Datacenter | x64 | 4.2.3 (2023-03-15 ucrt) -- "Shortstop Beagle" | 4282 |
| lconway | macOS 12.5.1 Monterey | x86_64 | 4.2.3 (2023-03-15) -- "Shortstop Beagle" | 4310 |
| Click on any hostname to see more info about the system (e.g. compilers) (*) as reported by 'uname -p', except on Windows and Mac OS X | ||||
|
To the developers/maintainers of the scone package: - Please allow up to 24 hours (and sometimes 48 hours) for your latest push to git@git.bioconductor.org:packages/scone.git to reflect on this report. See How and When does the builder pull? When will my changes propagate? for more information. - Make sure to use the following settings in order to reproduce any error or warning you see on this page. |
| Package 1809/2183 | Hostname | OS / Arch | INSTALL | BUILD | CHECK | BUILD BIN | ||||||||
| scone 1.22.0 (landing page) Davide Risso
| nebbiolo2 | Linux (Ubuntu 20.04.5 LTS) / x86_64 | OK | OK | OK | |||||||||
| palomino4 | Windows Server 2022 Datacenter / x64 | OK | OK | OK | OK | |||||||||
| lconway | macOS 12.5.1 Monterey / x86_64 | OK | OK | OK | OK | |||||||||
| Package: scone |
| Version: 1.22.0 |
| Command: /Library/Frameworks/R.framework/Resources/bin/R CMD check --install=check:scone.install-out.txt --library=/Library/Frameworks/R.framework/Resources/library --no-vignettes --timings scone_1.22.0.tar.gz |
| StartedAt: 2023-04-10 22:32:31 -0400 (Mon, 10 Apr 2023) |
| EndedAt: 2023-04-10 22:41:38 -0400 (Mon, 10 Apr 2023) |
| EllapsedTime: 547.0 seconds |
| RetCode: 0 |
| Status: OK |
| CheckDir: scone.Rcheck |
| Warnings: 0 |
############################################################################## ############################################################################## ### ### Running command: ### ### /Library/Frameworks/R.framework/Resources/bin/R CMD check --install=check:scone.install-out.txt --library=/Library/Frameworks/R.framework/Resources/library --no-vignettes --timings scone_1.22.0.tar.gz ### ############################################################################## ############################################################################## * using log directory ‘/Users/biocbuild/bbs-3.16-bioc/meat/scone.Rcheck’ * using R version 4.2.3 (2023-03-15) * using platform: x86_64-apple-darwin17.0 (64-bit) * using session charset: UTF-8 * using option ‘--no-vignettes’ * checking for file ‘scone/DESCRIPTION’ ... OK * this is package ‘scone’ version ‘1.22.0’ * package encoding: UTF-8 * checking package namespace information ... OK * checking package dependencies ... OK * checking if this is a source package ... OK * checking if there is a namespace ... OK * checking for hidden files and directories ... OK * checking for portable file names ... OK * checking for sufficient/correct file permissions ... OK * checking whether package ‘scone’ can be installed ... OK * checking installed package size ... OK * checking package directory ... OK * checking ‘build’ directory ... OK * checking DESCRIPTION meta-information ... OK * checking top-level files ... OK * checking for left-over files ... OK * checking index information ... OK * checking package subdirectories ... OK * checking R files for non-ASCII characters ... OK * checking R files for syntax errors ... OK * checking whether the package can be loaded ... OK * checking whether the package can be loaded with stated dependencies ... OK * checking whether the package can be unloaded cleanly ... OK * checking whether the namespace can be loaded with stated dependencies ... OK * checking whether the namespace can be unloaded cleanly ... OK * checking dependencies in R code ... OK * checking S3 generic/method consistency ... OK * checking replacement functions ... OK * checking foreign function calls ... OK * checking R code for possible problems ... NOTE sconeReport: no visible global function definition for ‘visNetworkOutput’ sconeReport: no visible global function definition for ‘plotlyOutput’ sconeReport : server: no visible global function definition for ‘renderVisNetwork’ sconeReport : server: no visible global function definition for ‘%>%’ sconeReport : server: no visible global function definition for ‘visNetwork’ sconeReport : server: no visible global function definition for ‘visHierarchicalLayout’ sconeReport : server: no visible global function definition for ‘visGroups’ sconeReport : server: no visible global function definition for ‘visEdges’ sconeReport : server: no visible global function definition for ‘visOptions’ sconeReport : server: no visible global function definition for ‘visLegend’ sconeReport : server: no visible global function definition for ‘visNetworkProxy’ sconeReport : server: no visible global function definition for ‘visSelectNodes’ sconeReport : server: no visible global function definition for ‘plot_ly’ sconeReport : server: no visible global function definition for ‘ggplot’ sconeReport : server: no visible global function definition for ‘aes’ sconeReport : server: no visible global function definition for ‘geom_bar’ sconeReport : server: no visible global function definition for ‘ylim’ sconeReport : server: no visible global function definition for ‘labs’ sconeReport : server: no visible global function definition for ‘theme’ sconeReport : server: no visible global function definition for ‘element_blank’ sconeReport : server: no visible global function definition for ‘ggplotly’ sconeReport : server: no visible global function definition for ‘geom_violin’ sconeReport : server: no visible global function definition for ‘coord_cartesian’ sconeReport : server: no visible global function definition for ‘scale_fill_manual’ sconeReport : server: no visible global function definition for ‘geom_point’ sconeReport : server: no visible global function definition for ‘guides’ Undefined global functions or variables: %>% aes coord_cartesian element_blank geom_bar geom_point geom_violin ggplot ggplotly guides labs plot_ly plotlyOutput renderVisNetwork scale_fill_manual theme visEdges visGroups visHierarchicalLayout visLegend visNetwork visNetworkOutput visNetworkProxy visOptions visSelectNodes ylim * checking Rd files ... OK * checking Rd metadata ... OK * checking Rd cross-references ... OK * checking for missing documentation entries ... OK * checking for code/documentation mismatches ... OK * checking Rd \usage sections ... OK * checking Rd contents ... OK * checking for unstated dependencies in examples ... OK * checking contents of ‘data’ directory ... OK * checking data for non-ASCII characters ... OK * checking data for ASCII and uncompressed saves ... OK * checking files in ‘vignettes’ ... OK * checking examples ... OK * checking for unstated dependencies in ‘tests’ ... OK * checking tests ... Running ‘testthat.R’ OK * checking for unstated dependencies in vignettes ... OK * checking package vignettes in ‘inst/doc’ ... OK * checking running R code from vignettes ... SKIPPED * checking re-building of vignette outputs ... SKIPPED * checking PDF version of manual ... OK * DONE Status: 1 NOTE See ‘/Users/biocbuild/bbs-3.16-bioc/meat/scone.Rcheck/00check.log’ for details.
scone.Rcheck/00install.out
############################################################################## ############################################################################## ### ### Running command: ### ### /Library/Frameworks/R.framework/Resources/bin/R CMD INSTALL scone ### ############################################################################## ############################################################################## * installing to library ‘/Library/Frameworks/R.framework/Versions/4.2/Resources/library’ * installing *source* package ‘scone’ ... ** using staged installation ** R ** data ** inst ** byte-compile and prepare package for lazy loading ** help *** installing help indices ** building package indices ** installing vignettes ** testing if installed package can be loaded from temporary location ** testing if installed package can be loaded from final location ** testing if installed package keeps a record of temporary installation path * DONE (scone)
scone.Rcheck/tests/testthat.Rout
R version 4.2.3 (2023-03-15) -- "Shortstop Beagle"
Copyright (C) 2023 The R Foundation for Statistical Computing
Platform: x86_64-apple-darwin17.0 (64-bit)
R is free software and comes with ABSOLUTELY NO WARRANTY.
You are welcome to redistribute it under certain conditions.
Type 'license()' or 'licence()' for distribution details.
R is a collaborative project with many contributors.
Type 'contributors()' for more information and
'citation()' on how to cite R or R packages in publications.
Type 'demo()' for some demos, 'help()' for on-line help, or
'help.start()' for an HTML browser interface to help.
Type 'q()' to quit R.
> Sys.setenv("R_TESTS" = "")
>
> library(testthat)
> library(scone)
Loading required package: SummarizedExperiment
Loading required package: MatrixGenerics
Loading required package: matrixStats
Attaching package: 'MatrixGenerics'
The following objects are masked from 'package:matrixStats':
colAlls, colAnyNAs, colAnys, colAvgsPerRowSet, colCollapse,
colCounts, colCummaxs, colCummins, colCumprods, colCumsums,
colDiffs, colIQRDiffs, colIQRs, colLogSumExps, colMadDiffs,
colMads, colMaxs, colMeans2, colMedians, colMins, colOrderStats,
colProds, colQuantiles, colRanges, colRanks, colSdDiffs, colSds,
colSums2, colTabulates, colVarDiffs, colVars, colWeightedMads,
colWeightedMeans, colWeightedMedians, colWeightedSds,
colWeightedVars, rowAlls, rowAnyNAs, rowAnys, rowAvgsPerColSet,
rowCollapse, rowCounts, rowCummaxs, rowCummins, rowCumprods,
rowCumsums, rowDiffs, rowIQRDiffs, rowIQRs, rowLogSumExps,
rowMadDiffs, rowMads, rowMaxs, rowMeans2, rowMedians, rowMins,
rowOrderStats, rowProds, rowQuantiles, rowRanges, rowRanks,
rowSdDiffs, rowSds, rowSums2, rowTabulates, rowVarDiffs, rowVars,
rowWeightedMads, rowWeightedMeans, rowWeightedMedians,
rowWeightedSds, rowWeightedVars
Loading required package: GenomicRanges
Loading required package: stats4
Loading required package: BiocGenerics
Attaching package: 'BiocGenerics'
The following objects are masked from 'package:stats':
IQR, mad, sd, var, xtabs
The following objects are masked from 'package:base':
Filter, Find, Map, Position, Reduce, anyDuplicated, aperm, append,
as.data.frame, basename, cbind, colnames, dirname, do.call,
duplicated, eval, evalq, get, grep, grepl, intersect, is.unsorted,
lapply, mapply, match, mget, order, paste, pmax, pmax.int, pmin,
pmin.int, rank, rbind, rownames, sapply, setdiff, sort, table,
tapply, union, unique, unsplit, which.max, which.min
Loading required package: S4Vectors
Attaching package: 'S4Vectors'
The following objects are masked from 'package:base':
I, expand.grid, unname
Loading required package: IRanges
Loading required package: GenomeInfoDb
Loading required package: Biobase
Welcome to Bioconductor
Vignettes contain introductory material; view with
'browseVignettes()'. To cite Bioconductor, see
'citation("Biobase")', and for packages 'citation("pkgname")'.
Attaching package: 'Biobase'
The following object is masked from 'package:MatrixGenerics':
rowMedians
The following objects are masked from 'package:matrixStats':
anyMissing, rowMedians
>
> test_check("scone")
SubmitJobs |+ | 0% (00:00:00)
SubmitJobs |+ | 0% (00:00:00)
SubmitJobs |++++++++++++++++++++++++ | 50% (00:00:04)
SubmitJobs |+++++++++++++++++++++++++++++++++++++++++++++++++| 100% (00:00:00)
Waiting |+ | 0% (00:00:00)
Waiting [S:0 D:3 E:0 R:0] |++++++++++++++++++++++++++++++++++| 100% (00:00:00)
SubmitJobs |+ | 0% (00:00:00)
SubmitJobs |+ | 0% (00:00:00)
SubmitJobs |++++++++++++++++++++++++ | 50% (00:00:03)
SubmitJobs |+++++++++++++++++++++++++++++++++++++++++++++++++| 100% (00:00:00)
Waiting |+ | 0% (00:00:00)
Waiting [S:0 D:3 E:0 R:0] |++++++++++++++++++++++++++++++++++| 100% (00:00:00)
SubmitJobs |+ | 0% (00:00:00)
SubmitJobs |+ | 0% (00:00:00)
SubmitJobs |++++++++++++++++++++++++ | 50% (00:00:03)
SubmitJobs |+++++++++++++++++++++++++++++++++++++++++++++++++| 100% (00:00:00)
Waiting |+ | 0% (00:00:00)
Waiting [S:0 D:3 E:0 R:0] |++++++++++++++++++++++++++++++++++| 100% (00:00:00)
SubmitJobs |+ | 0% (00:00:00)
SubmitJobs |+ | 0% (00:00:00)
SubmitJobs |++++++++++++++++++++++++ | 50% (00:00:33)
SubmitJobs |+++++++++++++++++++++++++++++++++++++++++++++++++| 100% (00:00:00)
Waiting |+ | 0% (00:00:00)
Waiting [S:0 D:36 E:0 R:0] |++++++++++++++++++++++++++++++++++| 100% (00:00:00)
[ FAIL 0 | WARN 1 | SKIP 0 | PASS 64 ]
[ FAIL 0 | WARN 1 | SKIP 0 | PASS 64 ]
>
> proc.time()
user system elapsed
148.126 15.667 259.619
scone.Rcheck/scone-Ex.timings
| name | user | system | elapsed | |
| CLR_FN | 0.001 | 0.000 | 0.002 | |
| DESEQ_FN | 0.001 | 0.000 | 0.001 | |
| FQ_FN | 0.003 | 0.000 | 0.003 | |
| PSINORM_FN | 0.002 | 0.000 | 0.002 | |
| PsiNorm | 0.312 | 0.006 | 0.320 | |
| SCRAN_FN | 1.959 | 0.111 | 2.077 | |
| SUM_FN | 0.000 | 0.001 | 0.000 | |
| SconeExperiment-class | 0.106 | 0.001 | 0.108 | |
| TMM_FN | 0.003 | 0.001 | 0.003 | |
| UQ_FN | 0.001 | 0.000 | 0.001 | |
| biplot_color | 0.010 | 0.001 | 0.012 | |
| biplot_interactive | 0.259 | 0.005 | 0.264 | |
| control_genes | 0.012 | 0.005 | 0.017 | |
| estimate_ziber | 0.027 | 0.001 | 0.028 | |
| factor_sample_filter | 0.038 | 0.005 | 0.043 | |
| fast_estimate_ziber | 0.021 | 0.001 | 0.023 | |
| get_bio | 0.031 | 0.001 | 0.032 | |
| get_design | 0.381 | 0.028 | 0.409 | |
| get_negconruv | 0.044 | 0.005 | 0.049 | |
| get_normalized | 0.089 | 0.011 | 0.099 | |
| get_params | 0.048 | 0.004 | 0.053 | |
| get_qc | 0.094 | 0.004 | 0.099 | |
| get_scores | 0.096 | 0.001 | 0.097 | |
| impute_expectation | 0.001 | 0.001 | 0.001 | |
| impute_null | 0 | 0 | 0 | |
| lm_adjust | 0.004 | 0.000 | 0.004 | |
| make_design | 0.002 | 0.001 | 0.001 | |
| metric_sample_filter | 0.005 | 0.001 | 0.007 | |
| scone | 0.193 | 0.001 | 0.194 | |
| sconeReport | 0.084 | 0.000 | 0.085 | |
| scone_easybake | 0.110 | 0.001 | 0.111 | |
| score_matrix | 0.003 | 0.000 | 0.003 | |
| select_methods | 0.098 | 0.001 | 0.099 | |
| simple_FNR_params | 0.029 | 0.001 | 0.030 | |