| Back to Multiple platform build/check report for BioC 3.16: simplified long |
|
This page was generated on 2023-04-12 11:05:51 -0400 (Wed, 12 Apr 2023).
| Hostname | OS | Arch (*) | R version | Installed pkgs |
|---|---|---|---|---|
| nebbiolo2 | Linux (Ubuntu 20.04.5 LTS) | x86_64 | 4.2.3 (2023-03-15) -- "Shortstop Beagle" | 4502 |
| palomino4 | Windows Server 2022 Datacenter | x64 | 4.2.3 (2023-03-15 ucrt) -- "Shortstop Beagle" | 4282 |
| lconway | macOS 12.5.1 Monterey | x86_64 | 4.2.3 (2023-03-15) -- "Shortstop Beagle" | 4310 |
| Click on any hostname to see more info about the system (e.g. compilers) (*) as reported by 'uname -p', except on Windows and Mac OS X | ||||
|
To the developers/maintainers of the scifer package: - Please allow up to 24 hours (and sometimes 48 hours) for your latest push to git@git.bioconductor.org:packages/scifer.git to reflect on this report. See How and When does the builder pull? When will my changes propagate? for more information. - Make sure to use the following settings in order to reproduce any error or warning you see on this page. |
| Package 1802/2183 | Hostname | OS / Arch | INSTALL | BUILD | CHECK | BUILD BIN | ||||||||
| scifer 1.0.0 (landing page) Rodrigo Arcoverde Cerveira
| nebbiolo2 | Linux (Ubuntu 20.04.5 LTS) / x86_64 | OK | OK | OK | |||||||||
| palomino4 | Windows Server 2022 Datacenter / x64 | OK | OK | OK | OK | |||||||||
| lconway | macOS 12.5.1 Monterey / x86_64 | OK | OK | OK | OK | |||||||||
| Package: scifer |
| Version: 1.0.0 |
| Command: F:\biocbuild\bbs-3.16-bioc\R\bin\R.exe CMD check --no-multiarch --install=check:scifer.install-out.txt --library=F:\biocbuild\bbs-3.16-bioc\R\library --no-vignettes --timings scifer_1.0.0.tar.gz |
| StartedAt: 2023-04-11 05:43:32 -0400 (Tue, 11 Apr 2023) |
| EndedAt: 2023-04-11 05:50:02 -0400 (Tue, 11 Apr 2023) |
| EllapsedTime: 389.5 seconds |
| RetCode: 0 |
| Status: OK |
| CheckDir: scifer.Rcheck |
| Warnings: 0 |
##############################################################################
##############################################################################
###
### Running command:
###
### F:\biocbuild\bbs-3.16-bioc\R\bin\R.exe CMD check --no-multiarch --install=check:scifer.install-out.txt --library=F:\biocbuild\bbs-3.16-bioc\R\library --no-vignettes --timings scifer_1.0.0.tar.gz
###
##############################################################################
##############################################################################
* using log directory 'F:/biocbuild/bbs-3.16-bioc/meat/scifer.Rcheck'
* using R version 4.2.3 (2023-03-15 ucrt)
* using platform: x86_64-w64-mingw32 (64-bit)
* using session charset: UTF-8
* using option '--no-vignettes'
* checking for file 'scifer/DESCRIPTION' ... OK
* checking extension type ... Package
* this is package 'scifer' version '1.0.0'
* package encoding: UTF-8
* checking package namespace information ... OK
* checking package dependencies ... OK
* checking if this is a source package ... OK
* checking if there is a namespace ... OK
* checking for hidden files and directories ... OK
* checking for portable file names ... OK
* checking whether package 'scifer' can be installed ... OK
* checking installed package size ... OK
* checking package directory ... OK
* checking 'build' directory ... OK
* checking DESCRIPTION meta-information ... OK
* checking top-level files ... OK
* checking for left-over files ... OK
* checking index information ... OK
* checking package subdirectories ... OK
* checking R files for non-ASCII characters ... OK
* checking R files for syntax errors ... OK
* checking whether the package can be loaded ... OK
* checking whether the package can be loaded with stated dependencies ... OK
* checking whether the package can be unloaded cleanly ... OK
* checking whether the namespace can be loaded with stated dependencies ... OK
* checking whether the namespace can be unloaded cleanly ... OK
* checking dependencies in R code ... OK
* checking S3 generic/method consistency ... OK
* checking replacement functions ... OK
* checking foreign function calls ... OK
* checking R code for possible problems ... OK
* checking Rd files ... OK
* checking Rd metadata ... OK
* checking Rd cross-references ... OK
* checking for missing documentation entries ... OK
* checking for code/documentation mismatches ... OK
* checking Rd \usage sections ... OK
* checking Rd contents ... OK
* checking for unstated dependencies in examples ... OK
* checking files in 'vignettes' ... OK
* checking examples ... OK
Examples with CPU (user + system) or elapsed time > 5s
user system elapsed
summarise_quality 60.30 0.41 60.89
secondary_peaks 13.13 0.17 13.30
summarise_abi_file 13.03 0.05 13.08
* checking for unstated dependencies in 'tests' ... OK
* checking tests ...
Running 'testthat.R'
OK
* checking for unstated dependencies in vignettes ... OK
* checking package vignettes in 'inst/doc' ... OK
* checking running R code from vignettes ... SKIPPED
* checking re-building of vignette outputs ... SKIPPED
* checking PDF version of manual ... OK
* DONE
Status: OK
scifer.Rcheck/00install.out
############################################################################## ############################################################################## ### ### Running command: ### ### F:\biocbuild\bbs-3.16-bioc\R\bin\R.exe CMD INSTALL scifer ### ############################################################################## ############################################################################## * installing to library 'F:/biocbuild/bbs-3.16-bioc/R/library' * installing *source* package 'scifer' ... ** using staged installation ** R ** inst ** byte-compile and prepare package for lazy loading ** help *** installing help indices *** copying figures ** building package indices ** installing vignettes ** testing if installed package can be loaded from temporary location ** testing if installed package can be loaded from final location ** testing if installed package keeps a record of temporary installation path * DONE (scifer)
scifer.Rcheck/tests/testthat.Rout
R version 4.2.3 (2023-03-15 ucrt) -- "Shortstop Beagle"
Copyright (C) 2023 The R Foundation for Statistical Computing
Platform: x86_64-w64-mingw32/x64 (64-bit)
R is free software and comes with ABSOLUTELY NO WARRANTY.
You are welcome to redistribute it under certain conditions.
Type 'license()' or 'licence()' for distribution details.
R is a collaborative project with many contributors.
Type 'contributors()' for more information and
'citation()' on how to cite R or R packages in publications.
Type 'demo()' for some demos, 'help()' for on-line help, or
'help.start()' for an HTML browser interface to help.
Type 'q()' to quit R.
> library(testthat)
> library(scifer)
>
> test_check("scifer")
processing file: HC_report.Rmd
output file: HC_report.knit.md
"C:/PROGRA~1/Pandoc/pandoc" +RTS -K512m -RTS HC_report.knit.md --to html4 --from markdown+autolink_bare_uris+tex_math_single_backslash --output pandocf730393458b4.html --lua-filter "F:\biocbuild\bbs-3.16-bioc\R\library\rmarkdown\rmarkdown\lua\pagebreak.lua" --lua-filter "F:\biocbuild\bbs-3.16-bioc\R\library\rmarkdown\rmarkdown\lua\latex-div.lua" --self-contained --variable bs3=TRUE --section-divs --template "F:\biocbuild\bbs-3.16-bioc\R\library\rmarkdown\rmd\h\default.html" --no-highlight --variable highlightjs=1 --variable theme=bootstrap --mathjax --variable "mathjax-url=https://mathjax.rstudio.com/latest/MathJax.js?config=TeX-AMS-MML_HTMLorMML" --include-in-header "F:\biocbuild\bbs-3.16-bioc\tmpdir\RtmpshDd1W\rmarkdown-strf7305c8c28be.html"
Output created: F:/biocbuild/bbs-3.16-bioc/tmpdir/RtmpshDd1W/QC_report.html
[ FAIL 0 | WARN 5 | SKIP 0 | PASS 36 ]
[ FAIL 0 | WARN 5 | SKIP 0 | PASS 36 ]
>
> proc.time()
user system elapsed
169.1 3.5 175.3
scifer.Rcheck/scifer-Ex.timings
| name | user | system | elapsed | |
| df_to_fasta | 0.03 | 0.00 | 0.03 | |
| fcs_plot | 0.69 | 0.14 | 0.83 | |
| fcs_processing | 0.29 | 0.08 | 0.37 | |
| quality_report | 0 | 0 | 0 | |
| secondary_peaks | 13.13 | 0.17 | 13.30 | |
| summarise_abi_file | 13.03 | 0.05 | 13.08 | |
| summarise_quality | 60.30 | 0.41 | 60.89 | |