| Back to Multiple platform build/check report for BioC 3.16: simplified long |
|
This page was generated on 2023-04-12 11:05:51 -0400 (Wed, 12 Apr 2023).
| Hostname | OS | Arch (*) | R version | Installed pkgs |
|---|---|---|---|---|
| nebbiolo2 | Linux (Ubuntu 20.04.5 LTS) | x86_64 | 4.2.3 (2023-03-15) -- "Shortstop Beagle" | 4502 |
| palomino4 | Windows Server 2022 Datacenter | x64 | 4.2.3 (2023-03-15 ucrt) -- "Shortstop Beagle" | 4282 |
| lconway | macOS 12.5.1 Monterey | x86_64 | 4.2.3 (2023-03-15) -- "Shortstop Beagle" | 4310 |
| Click on any hostname to see more info about the system (e.g. compilers) (*) as reported by 'uname -p', except on Windows and Mac OS X | ||||
|
To the developers/maintainers of the scde package: - Please allow up to 24 hours (and sometimes 48 hours) for your latest push to git@git.bioconductor.org:packages/scde.git to reflect on this report. See How and When does the builder pull? When will my changes propagate? for more information. - Make sure to use the following settings in order to reproduce any error or warning you see on this page. |
| Package 1795/2183 | Hostname | OS / Arch | INSTALL | BUILD | CHECK | BUILD BIN | ||||||||
| scde 2.26.2 (landing page) Jean Fan
| nebbiolo2 | Linux (Ubuntu 20.04.5 LTS) / x86_64 | OK | OK | WARNINGS | |||||||||
| palomino4 | Windows Server 2022 Datacenter / x64 | OK | OK | WARNINGS | OK | |||||||||
| lconway | macOS 12.5.1 Monterey / x86_64 | OK | OK | WARNINGS | OK | |||||||||
| Package: scde |
| Version: 2.26.2 |
| Command: rm -rf scde.buildbin-libdir && mkdir scde.buildbin-libdir && F:\biocbuild\bbs-3.16-bioc\R\bin\R.exe CMD INSTALL --build --library=scde.buildbin-libdir scde_2.26.2.tar.gz |
| StartedAt: 2023-04-11 08:44:29 -0400 (Tue, 11 Apr 2023) |
| EndedAt: 2023-04-11 08:45:49 -0400 (Tue, 11 Apr 2023) |
| EllapsedTime: 80.5 seconds |
| RetCode: 0 |
| Status: OK |
| PackageFile: scde_2.26.2.zip |
| PackageFileSize: 2.459 MiB |
##############################################################################
##############################################################################
###
### Running command:
###
### rm -rf scde.buildbin-libdir && mkdir scde.buildbin-libdir && F:\biocbuild\bbs-3.16-bioc\R\bin\R.exe CMD INSTALL --build --library=scde.buildbin-libdir scde_2.26.2.tar.gz
###
##############################################################################
##############################################################################
* installing *source* package 'scde' ...
** using staged installation
** libs
g++ -std=gnu++14 -I"F:/biocbuild/bbs-3.16-bioc/R/include" -DNDEBUG -I'F:/biocbuild/bbs-3.16-bioc/R/library/Rcpp/include' -I'F:/biocbuild/bbs-3.16-bioc/R/library/RcppArmadillo/include' -I"C:/rtools42/x86_64-w64-mingw32.static.posix/include" -O2 -Wall -mfpmath=sse -msse2 -mstackrealign -c bwpca.cpp -o bwpca.o
bwpca.cpp: In function 'void set_random_matrix(arma::mat&, arma::mat&)':
bwpca.cpp:23:18: warning: comparison of integer expressions of different signedness: 'int' and 'const uword' {aka 'const unsigned int'} [-Wsign-compare]
23 | for(int j=0;j<target.n_rows;j++) {
| ~^~~~~~~~~~~~~~
bwpca.cpp:27:18: warning: comparison of integer expressions of different signedness: 'int' and 'const uword' {aka 'const unsigned int'} [-Wsign-compare]
27 | for(int i=0;i<target.n_cols;i++) {
| ~^~~~~~~~~~~~~~
bwpca.cpp:30:22: warning: comparison of integer expressions of different signedness: 'int' and 'const uword' {aka 'const unsigned int'} [-Wsign-compare]
30 | for(int j=0;j<target.n_rows;j++) {
| ~^~~~~~~~~~~~~~
bwpca.cpp: In function 'void set_random_matrices(arma::mat&, arma::mat&, arma::mat&, arma::mat&)':
bwpca.cpp:40:18: warning: comparison of integer expressions of different signedness: 'int' and 'const uword' {aka 'const unsigned int'} [-Wsign-compare]
40 | for(int j=0;j<target1.n_rows;j++) {
| ~^~~~~~~~~~~~~~~
bwpca.cpp:44:18: warning: comparison of integer expressions of different signedness: 'int' and 'const uword' {aka 'const unsigned int'} [-Wsign-compare]
44 | for(int i=0;i<target1.n_cols;i++) {
| ~^~~~~~~~~~~~~~~
bwpca.cpp:47:22: warning: comparison of integer expressions of different signedness: 'int' and 'const uword' {aka 'const unsigned int'} [-Wsign-compare]
47 | for(int j=0;j<target1.n_rows;j++) {
| ~^~~~~~~~~~~~~~~
g++ -std=gnu++14 -I"F:/biocbuild/bbs-3.16-bioc/R/include" -DNDEBUG -I'F:/biocbuild/bbs-3.16-bioc/R/library/Rcpp/include' -I'F:/biocbuild/bbs-3.16-bioc/R/library/RcppArmadillo/include' -I"C:/rtools42/x86_64-w64-mingw32.static.posix/include" -O2 -Wall -mfpmath=sse -msse2 -mstackrealign -c jpmatLogBoot.cpp -o jpmatLogBoot.o
jpmatLogBoot.cpp: In function 'SEXPREC* logBootPosterior(SEXP, SEXP, SEXP, SEXP, SEXP, SEXP, SEXP, SEXP, SEXP, SEXP)':
jpmatLogBoot.cpp:200:24: warning: unused variable 'maxv' [-Wunused-variable]
200 | double maxv=nbp.max(maxij);
| ^~~~
jpmatLogBoot.cpp: In function 'SEXPREC* logBootBatchPosterior(SEXP, SEXP, SEXP, SEXP, SEXP, SEXP, SEXP, SEXP, SEXP, SEXP, SEXP)':
jpmatLogBoot.cpp:443:10: warning: unused variable 'maxv' [-Wunused-variable]
443 | double maxv=nbp.max(maxij);
| ^~~~
g++ -std=gnu++14 -I"F:/biocbuild/bbs-3.16-bioc/R/include" -DNDEBUG -I'F:/biocbuild/bbs-3.16-bioc/R/library/Rcpp/include' -I'F:/biocbuild/bbs-3.16-bioc/R/library/RcppArmadillo/include' -I"C:/rtools42/x86_64-w64-mingw32.static.posix/include" -O2 -Wall -mfpmath=sse -msse2 -mstackrealign -c matSlideMult.cpp -o matSlideMult.o
g++ -std=gnu++14 -I"F:/biocbuild/bbs-3.16-bioc/R/include" -DNDEBUG -I'F:/biocbuild/bbs-3.16-bioc/R/library/Rcpp/include' -I'F:/biocbuild/bbs-3.16-bioc/R/library/RcppArmadillo/include' -I"C:/rtools42/x86_64-w64-mingw32.static.posix/include" -O2 -Wall -mfpmath=sse -msse2 -mstackrealign -c pagoda.cpp -o pagoda.o
g++ -std=gnu++14 -shared -s -static-libgcc -o scde.dll tmp.def bwpca.o jpmatLogBoot.o matSlideMult.o pagoda.o -LF:/biocbuild/bbs-3.16-bioc/R/bin/x64 -lRlapack -LF:/biocbuild/bbs-3.16-bioc/R/bin/x64 -lRblas -lgfortran -lm -lquadmath -LC:/rtools42/x86_64-w64-mingw32.static.posix/lib/x64 -LC:/rtools42/x86_64-w64-mingw32.static.posix/lib -LF:/biocbuild/bbs-3.16-bioc/R/bin/x64 -lR
installing to F:/biocbuild/bbs-3.16-bioc/meat/scde.buildbin-libdir/00LOCK-scde/00new/scde/libs/x64
** R
** data
*** moving datasets to lazyload DB
** byte-compile and prepare package for lazy loading
** help
*** installing help indices
** building package indices
** installing vignettes
** testing if installed package can be loaded from temporary location
** testing if installed package can be loaded from final location
** testing if installed package keeps a record of temporary installation path
* MD5 sums
packaged installation of 'scde' as scde_2.26.2.zip
* DONE (scde)