| Back to Multiple platform build/check report for BioC 3.16: simplified long |
|
This page was generated on 2023-04-12 11:05:18 -0400 (Wed, 12 Apr 2023).
| Hostname | OS | Arch (*) | R version | Installed pkgs |
|---|---|---|---|---|
| nebbiolo2 | Linux (Ubuntu 20.04.5 LTS) | x86_64 | 4.2.3 (2023-03-15) -- "Shortstop Beagle" | 4502 |
| palomino4 | Windows Server 2022 Datacenter | x64 | 4.2.3 (2023-03-15 ucrt) -- "Shortstop Beagle" | 4282 |
| lconway | macOS 12.5.1 Monterey | x86_64 | 4.2.3 (2023-03-15) -- "Shortstop Beagle" | 4310 |
| Click on any hostname to see more info about the system (e.g. compilers) (*) as reported by 'uname -p', except on Windows and Mac OS X | ||||
|
To the developers/maintainers of the scTensor package: - Please allow up to 24 hours (and sometimes 48 hours) for your latest push to git@git.bioconductor.org:packages/scTensor.git to reflect on this report. See How and When does the builder pull? When will my changes propagate? for more information. - Make sure to use the following settings in order to reproduce any error or warning you see on this page. |
| Package 1824/2183 | Hostname | OS / Arch | INSTALL | BUILD | CHECK | BUILD BIN | ||||||||
| scTensor 2.8.0 (landing page) Koki Tsuyuzaki
| nebbiolo2 | Linux (Ubuntu 20.04.5 LTS) / x86_64 | OK | OK | OK | |||||||||
| palomino4 | Windows Server 2022 Datacenter / x64 | OK | OK | OK | OK | |||||||||
| lconway | macOS 12.5.1 Monterey / x86_64 | OK | OK | OK | OK | |||||||||
| Package: scTensor |
| Version: 2.8.0 |
| Command: /home/biocbuild/bbs-3.16-bioc/R/bin/R CMD check --install=check:scTensor.install-out.txt --library=/home/biocbuild/bbs-3.16-bioc/R/site-library --timings scTensor_2.8.0.tar.gz |
| StartedAt: 2023-04-10 23:52:56 -0400 (Mon, 10 Apr 2023) |
| EndedAt: 2023-04-11 00:01:02 -0400 (Tue, 11 Apr 2023) |
| EllapsedTime: 486.7 seconds |
| RetCode: 0 |
| Status: OK |
| CheckDir: scTensor.Rcheck |
| Warnings: 0 |
############################################################################## ############################################################################## ### ### Running command: ### ### /home/biocbuild/bbs-3.16-bioc/R/bin/R CMD check --install=check:scTensor.install-out.txt --library=/home/biocbuild/bbs-3.16-bioc/R/site-library --timings scTensor_2.8.0.tar.gz ### ############################################################################## ############################################################################## * using log directory ‘/home/biocbuild/bbs-3.16-bioc/meat/scTensor.Rcheck’ * using R version 4.2.3 (2023-03-15) * using platform: x86_64-pc-linux-gnu (64-bit) * using session charset: UTF-8 * checking for file ‘scTensor/DESCRIPTION’ ... OK * checking extension type ... Package * this is package ‘scTensor’ version ‘2.8.0’ * checking package namespace information ... OK * checking package dependencies ... OK * checking if this is a source package ... OK * checking if there is a namespace ... OK * checking for hidden files and directories ... OK * checking for portable file names ... OK * checking for sufficient/correct file permissions ... OK * checking whether package ‘scTensor’ can be installed ... OK * checking installed package size ... OK * checking package directory ... OK * checking ‘build’ directory ... OK * checking DESCRIPTION meta-information ... OK * checking top-level files ... OK * checking for left-over files ... OK * checking index information ... OK * checking package subdirectories ... OK * checking R files for non-ASCII characters ... OK * checking R files for syntax errors ... OK * checking whether the package can be loaded ... OK * checking whether the package can be loaded with stated dependencies ... OK * checking whether the package can be unloaded cleanly ... OK * checking whether the namespace can be loaded with stated dependencies ... OK * checking whether the namespace can be unloaded cleanly ... OK * checking loading without being on the library search path ... OK * checking dependencies in R code ... OK * checking S3 generic/method consistency ... OK * checking replacement functions ... OK * checking foreign function calls ... OK * checking R code for possible problems ... NOTE .simulateDropoutCounts: no visible binding for global variable ‘v’ .simulateDropoutCounts: no visible binding for global variable ‘m’ Undefined global functions or variables: m v * checking Rd files ... OK * checking Rd metadata ... OK * checking Rd cross-references ... OK * checking for missing documentation entries ... OK * checking for code/documentation mismatches ... OK * checking Rd \usage sections ... OK * checking Rd contents ... OK * checking for unstated dependencies in examples ... OK * checking contents of ‘data’ directory ... OK * checking data for non-ASCII characters ... OK * checking data for ASCII and uncompressed saves ... OK * checking files in ‘vignettes’ ... OK * checking examples ... OK * checking for unstated dependencies in ‘tests’ ... OK * checking tests ... Running ‘testthat.R’ OK * checking for unstated dependencies in vignettes ... OK * checking package vignettes in ‘inst/doc’ ... OK * checking running R code from vignettes ... ‘scTensor.Rmd’ using ‘UTF-8’... OK ‘scTensor_1_Data_format_ID_Conversion.Rmd’ using ‘UTF-8’... OK ‘scTensor_2_Report_Interpretation.Rmd’ using ‘UTF-8’... OK ‘scTensor_3_CCI_Simulation.Rmd’ using ‘UTF-8’... OK ‘scTensor_4_Reanalysis.Rmd’ using ‘UTF-8’... OK NONE * checking re-building of vignette outputs ... OK * checking PDF version of manual ... OK * DONE Status: 1 NOTE See ‘/home/biocbuild/bbs-3.16-bioc/meat/scTensor.Rcheck/00check.log’ for details.
scTensor.Rcheck/00install.out
############################################################################## ############################################################################## ### ### Running command: ### ### /home/biocbuild/bbs-3.16-bioc/R/bin/R CMD INSTALL scTensor ### ############################################################################## ############################################################################## * installing to library ‘/home/biocbuild/bbs-3.16-bioc/R/site-library’ * installing *source* package ‘scTensor’ ... ** using staged installation ** R ** data ** inst ** byte-compile and prepare package for lazy loading Creating a new generic function for ‘show’ in package ‘scTensor’ ** help *** installing help indices ** building package indices ** installing vignettes ** testing if installed package can be loaded from temporary location ** testing if installed package can be loaded from final location ** testing if installed package keeps a record of temporary installation path * DONE (scTensor)
scTensor.Rcheck/tests/testthat.Rout
R version 4.2.3 (2023-03-15) -- "Shortstop Beagle"
Copyright (C) 2023 The R Foundation for Statistical Computing
Platform: x86_64-pc-linux-gnu (64-bit)
R is free software and comes with ABSOLUTELY NO WARRANTY.
You are welcome to redistribute it under certain conditions.
Type 'license()' or 'licence()' for distribution details.
R is a collaborative project with many contributors.
Type 'contributors()' for more information and
'citation()' on how to cite R or R packages in publications.
Type 'demo()' for some demos, 'help()' for on-line help, or
'help.start()' for an HTML browser interface to help.
Type 'q()' to quit R.
> library("testthat")
> library("scTensor")
>
> options(testthat.use_colours = FALSE)
>
> test_file("testthat/test_GermMale.R")
══ Testing test_GermMale.R ═════════════════════════════════════════════════════
[ FAIL 0 | WARN 0 | SKIP 0 | PASS 0 ]
[ FAIL 0 | WARN 0 | SKIP 0 | PASS 0 ]
[ FAIL 1 | WARN 0 | SKIP 0 | PASS 0 ]
── Failure ('test_GermMale.R:5:1'): (code run outside of `test_that()`) ────────
dim(GermMale) not equivalent to c(2547, 852).
1/2 mismatches
[1] 242 - 2547 == -2305
[ FAIL 1 | WARN 0 | SKIP 0 | PASS 0 ]
> test_file("testthat/test_tsneGermMale.R")
══ Testing test_tsneGermMale.R ═════════════════════════════════════════════════
[ FAIL 0 | WARN 0 | SKIP 0 | PASS 0 ]
[ FAIL 0 | WARN 0 | SKIP 0 | PASS 0 ]
[ FAIL 0 | WARN 0 | SKIP 0 | PASS 1 ] Done!
> test_file("testthat/test_labelGermMale.R")
══ Testing test_labelGermMale.R ════════════════════════════════════════════════
[ FAIL 0 | WARN 0 | SKIP 0 | PASS 0 ]
[ FAIL 0 | WARN 0 | SKIP 0 | PASS 0 ]
[ FAIL 0 | WARN 0 | SKIP 0 | PASS 1 ] Done!
> test_file("testthat/test_cellCellFunctions.R")
══ Testing test_cellCellFunctions.R ════════════════════════════════════════════
[ FAIL 0 | WARN 0 | SKIP 0 | PASS 0 ]
[ FAIL 0 | WARN 0 | SKIP 0 | PASS 0 ]
[ FAIL 1 | WARN 0 | SKIP 0 | PASS 0 ]
── Error ('test_cellCellFunctions.R:4:1'): (code run outside of `test_that()`) ──
<packageNotFoundError/error/condition>
Error in `library(LRBase.Hsa.eg.db)`: there is no package called 'LRBase.Hsa.eg.db'
Backtrace:
1. base::library(LRBase.Hsa.eg.db)
at test_cellCellFunctions.R:4:0
[ FAIL 1 | WARN 0 | SKIP 0 | PASS 0 ]
> test_file("testthat/test_CCSParamsFunctions.R")
══ Testing test_CCSParamsFunctions.R ═══════════════════════════════════════════
[ FAIL 0 | WARN 0 | SKIP 0 | PASS 0 ]
[ FAIL 0 | WARN 0 | SKIP 0 | PASS 0 ]
[ FAIL 0 | WARN 0 | SKIP 0 | PASS 1 ]
[ FAIL 0 | WARN 0 | SKIP 0 | PASS 2 ]
[ FAIL 0 | WARN 0 | SKIP 0 | PASS 3 ]
[ FAIL 0 | WARN 0 | SKIP 0 | PASS 4 ]
[ FAIL 0 | WARN 0 | SKIP 0 | PASS 5 ]
[ FAIL 0 | WARN 0 | SKIP 0 | PASS 6 ]
[ FAIL 0 | WARN 0 | SKIP 0 | PASS 7 ]
[ FAIL 0 | WARN 0 | SKIP 0 | PASS 8 ]
[ FAIL 0 | WARN 0 | SKIP 0 | PASS 9 ]
[ FAIL 0 | WARN 0 | SKIP 0 | PASS 10 ]
[ FAIL 0 | WARN 0 | SKIP 0 | PASS 11 ] Done!
>
> proc.time()
user system elapsed
19.380 2.164 21.219
scTensor.Rcheck/scTensor-Ex.timings
| name | user | system | elapsed | |
| GermMale | 0.013 | 0.000 | 0.012 | |
| cellCellDecomp | 0.003 | 0.000 | 0.003 | |
| cellCellRanks | 0.001 | 0.000 | 0.001 | |
| cellCellReport | 0.003 | 0.000 | 0.003 | |
| cellCellSetting | 0.001 | 0.000 | 0.001 | |
| cellCellSimulate | 0 | 0 | 0 | |
| getParam | 0.000 | 0.001 | 0.001 | |
| labelGermMale | 0.000 | 0.002 | 0.002 | |
| m | 0.002 | 0.000 | 0.002 | |
| newCCSParams | 0.001 | 0.000 | 0.000 | |
| scTensor-package | 0 | 0 | 0 | |
| setParam | 0.001 | 0.001 | 0.002 | |
| tsneGermMale | 0.000 | 0.001 | 0.001 | |
| v | 0.001 | 0.001 | 0.002 | |