| Back to Multiple platform build/check report for BioC 3.16: simplified long |
|
This page was generated on 2023-04-12 11:05:18 -0400 (Wed, 12 Apr 2023).
| Hostname | OS | Arch (*) | R version | Installed pkgs |
|---|---|---|---|---|
| nebbiolo2 | Linux (Ubuntu 20.04.5 LTS) | x86_64 | 4.2.3 (2023-03-15) -- "Shortstop Beagle" | 4502 |
| palomino4 | Windows Server 2022 Datacenter | x64 | 4.2.3 (2023-03-15 ucrt) -- "Shortstop Beagle" | 4282 |
| lconway | macOS 12.5.1 Monterey | x86_64 | 4.2.3 (2023-03-15) -- "Shortstop Beagle" | 4310 |
| Click on any hostname to see more info about the system (e.g. compilers) (*) as reported by 'uname -p', except on Windows and Mac OS X | ||||
|
To the developers/maintainers of the scRepertoire package: - Please allow up to 24 hours (and sometimes 48 hours) for your latest push to git@git.bioconductor.org:packages/scRepertoire.git to reflect on this report. See How and When does the builder pull? When will my changes propagate? for more information. - Make sure to use the following settings in order to reproduce any error or warning you see on this page. |
| Package 1820/2183 | Hostname | OS / Arch | INSTALL | BUILD | CHECK | BUILD BIN | ||||||||
| scRepertoire 1.8.0 (landing page) Nick Borcherding
| nebbiolo2 | Linux (Ubuntu 20.04.5 LTS) / x86_64 | OK | OK | OK | |||||||||
| palomino4 | Windows Server 2022 Datacenter / x64 | OK | OK | OK | OK | |||||||||
| lconway | macOS 12.5.1 Monterey / x86_64 | OK | OK | OK | OK | |||||||||
| Package: scRepertoire |
| Version: 1.8.0 |
| Command: /home/biocbuild/bbs-3.16-bioc/R/bin/R CMD check --install=check:scRepertoire.install-out.txt --library=/home/biocbuild/bbs-3.16-bioc/R/site-library --timings scRepertoire_1.8.0.tar.gz |
| StartedAt: 2023-04-10 23:52:08 -0400 (Mon, 10 Apr 2023) |
| EndedAt: 2023-04-11 00:01:07 -0400 (Tue, 11 Apr 2023) |
| EllapsedTime: 538.4 seconds |
| RetCode: 0 |
| Status: OK |
| CheckDir: scRepertoire.Rcheck |
| Warnings: 0 |
##############################################################################
##############################################################################
###
### Running command:
###
### /home/biocbuild/bbs-3.16-bioc/R/bin/R CMD check --install=check:scRepertoire.install-out.txt --library=/home/biocbuild/bbs-3.16-bioc/R/site-library --timings scRepertoire_1.8.0.tar.gz
###
##############################################################################
##############################################################################
* using log directory ‘/home/biocbuild/bbs-3.16-bioc/meat/scRepertoire.Rcheck’
* using R version 4.2.3 (2023-03-15)
* using platform: x86_64-pc-linux-gnu (64-bit)
* using session charset: UTF-8
* checking for file ‘scRepertoire/DESCRIPTION’ ... OK
* this is package ‘scRepertoire’ version ‘1.8.0’
* package encoding: UTF-8
* checking package namespace information ... OK
* checking package dependencies ... OK
* checking if this is a source package ... OK
* checking if there is a namespace ... OK
* checking for hidden files and directories ... OK
* checking for portable file names ... OK
* checking for sufficient/correct file permissions ... OK
* checking whether package ‘scRepertoire’ can be installed ... OK
* checking installed package size ... NOTE
installed size is 5.0Mb
sub-directories of 1Mb or more:
data 4.4Mb
* checking package directory ... OK
* checking ‘build’ directory ... OK
* checking DESCRIPTION meta-information ... OK
* checking top-level files ... OK
* checking for left-over files ... OK
* checking index information ... OK
* checking package subdirectories ... OK
* checking R files for non-ASCII characters ... OK
* checking R files for syntax errors ... OK
* checking whether the package can be loaded ... OK
* checking whether the package can be loaded with stated dependencies ... OK
* checking whether the package can be unloaded cleanly ... OK
* checking whether the namespace can be loaded with stated dependencies ... OK
* checking whether the namespace can be unloaded cleanly ... OK
* checking loading without being on the library search path ... OK
* checking dependencies in R code ... OK
* checking S3 generic/method consistency ... OK
* checking replacement functions ... OK
* checking foreign function calls ... OK
* checking R code for possible problems ... OK
* checking Rd files ... OK
* checking Rd metadata ... OK
* checking Rd cross-references ... OK
* checking for missing documentation entries ... OK
* checking for code/documentation mismatches ... OK
* checking Rd \usage sections ... OK
* checking Rd contents ... OK
* checking for unstated dependencies in examples ... OK
* checking contents of ‘data’ directory ... OK
* checking data for non-ASCII characters ... OK
* checking LazyData ... OK
* checking data for ASCII and uncompressed saves ... OK
* checking files in ‘vignettes’ ... OK
* checking examples ... OK
Examples with CPU (user + system) or elapsed time > 5s
user system elapsed
combineBCR 82.670 1.208 70.155
clusterTCR 14.287 0.159 14.182
clonesizeDistribution 13.631 0.025 13.655
clonalDiversity 10.682 0.139 10.823
alluvialClonotypes 9.786 0.171 9.958
combineExpression 7.915 0.160 8.075
occupiedscRepertoire 7.860 0.080 7.939
clonalOverlay 7.435 0.105 7.539
subsetContig 7.336 0.060 7.396
abundanceContig 7.228 0.068 7.295
expression2List 7.150 0.098 7.248
combineTCR 6.802 0.396 7.198
compareClonotypes 6.985 0.104 7.089
lengthContig 7.027 0.040 7.067
addVariable 6.623 0.180 6.804
scatterClonotype 6.481 0.036 6.516
highlightClonotypes 6.294 0.052 6.345
quantContig 6.304 0.036 6.339
vizGenes 6.156 0.020 6.176
getCirclize 6.039 0.052 6.090
clonalProportion 5.902 0.047 5.951
clonalOverlap 5.897 0.015 5.914
clonalHomeostasis 5.716 0.073 5.789
* checking for unstated dependencies in vignettes ... OK
* checking package vignettes in ‘inst/doc’ ... OK
* checking running R code from vignettes ...
‘vignette.Rmd’ using ‘UTF-8’... OK
NONE
* checking re-building of vignette outputs ... OK
* checking PDF version of manual ... OK
* DONE
Status: 1 NOTE
See
‘/home/biocbuild/bbs-3.16-bioc/meat/scRepertoire.Rcheck/00check.log’
for details.
scRepertoire.Rcheck/00install.out
############################################################################## ############################################################################## ### ### Running command: ### ### /home/biocbuild/bbs-3.16-bioc/R/bin/R CMD INSTALL scRepertoire ### ############################################################################## ############################################################################## * installing to library ‘/home/biocbuild/bbs-3.16-bioc/R/site-library’ * installing *source* package ‘scRepertoire’ ... ** using staged installation ** R ** data *** moving datasets to lazyload DB ** byte-compile and prepare package for lazy loading ** help *** installing help indices ** building package indices ** installing vignettes ** testing if installed package can be loaded from temporary location ** testing if installed package can be loaded from final location ** testing if installed package keeps a record of temporary installation path * DONE (scRepertoire)
scRepertoire.Rcheck/scRepertoire-Ex.timings
| name | user | system | elapsed | |
| StartracDiversity | 0.001 | 0.000 | 0.000 | |
| abundanceContig | 7.228 | 0.068 | 7.295 | |
| addVariable | 6.623 | 0.180 | 6.804 | |
| alluvialClonotypes | 9.786 | 0.171 | 9.958 | |
| clonalDiversity | 10.682 | 0.139 | 10.823 | |
| clonalHomeostasis | 5.716 | 0.073 | 5.789 | |
| clonalNetwork | 0 | 0 | 0 | |
| clonalOverlap | 5.897 | 0.015 | 5.914 | |
| clonalOverlay | 7.435 | 0.105 | 7.539 | |
| clonalProportion | 5.902 | 0.047 | 5.951 | |
| clonesizeDistribution | 13.631 | 0.025 | 13.655 | |
| clonotypeBias | 0 | 0 | 0 | |
| clusterTCR | 14.287 | 0.159 | 14.182 | |
| combineBCR | 82.670 | 1.208 | 70.155 | |
| combineExpression | 7.915 | 0.160 | 8.075 | |
| combineTCR | 6.802 | 0.396 | 7.198 | |
| combineTRUST4 | 0 | 0 | 0 | |
| compareClonotypes | 6.985 | 0.104 | 7.089 | |
| createHTOContigList | 0 | 0 | 0 | |
| expression2List | 7.150 | 0.098 | 7.248 | |
| getCirclize | 6.039 | 0.052 | 6.090 | |
| highlightClonotypes | 6.294 | 0.052 | 6.345 | |
| lengthContig | 7.027 | 0.040 | 7.067 | |
| loadContigs | 0 | 0 | 0 | |
| occupiedscRepertoire | 7.860 | 0.080 | 7.939 | |
| quantContig | 6.304 | 0.036 | 6.339 | |
| scatterClonotype | 6.481 | 0.036 | 6.516 | |
| stripBarcode | 0.818 | 0.144 | 0.962 | |
| subsetContig | 7.336 | 0.060 | 7.396 | |
| vizGenes | 6.156 | 0.020 | 6.176 | |