| Back to Multiple platform build/check report for BioC 3.16 |
|
This page was generated on 2022-04-29 11:04:36 -0400 (Fri, 29 Apr 2022).
| Hostname | OS | Arch (*) | R version | Installed pkgs |
|---|---|---|---|---|
| nebbiolo2 | Linux (Ubuntu 20.04.4 LTS) | x86_64 | 4.2.0 RC (2022-04-21 r82226) -- "Vigorous Calisthenics" | 4307 |
| palomino4 | Windows Server 2022 Datacenter | x64 | 4.2.0 Patched (2022-04-24 r82246 ucrt) -- "Vigorous Calisthenics" | 4090 |
| Click on any hostname to see more info about the system (e.g. compilers) (*) as reported by 'uname -p', except on Windows and Mac OS X | ||||
|
To the developers/maintainers of the scMAGeCK package: - Please allow up to 24 hours (and sometimes 48 hours) for your latest push to git@git.bioconductor.org:packages/scMAGeCK.git to reflect on this report. See How and When does the builder pull? When will my changes propagate? for more information. - Make sure to use the following settings in order to reproduce any error or warning you see on this page. |
| Package 1750/2111 | Hostname | OS / Arch | INSTALL | BUILD | CHECK | BUILD BIN | ||||||||
| scMAGeCK 1.9.0 (landing page) Xiaolong Cheng
| nebbiolo2 | Linux (Ubuntu 20.04.4 LTS) / x86_64 | OK | OK | WARNINGS | |||||||||
| palomino4 | Windows Server 2022 Datacenter / x64 | OK | OK | WARNINGS | OK | |||||||||
| Package: scMAGeCK |
| Version: 1.9.0 |
| Command: rm -rf scMAGeCK.buildbin-libdir && mkdir scMAGeCK.buildbin-libdir && F:\biocbuild\bbs-3.16-bioc\R\bin\R.exe CMD INSTALL --merge-multiarch --build --library=scMAGeCK.buildbin-libdir scMAGeCK_1.9.0.tar.gz |
| StartedAt: 2022-04-29 06:28:25 -0400 (Fri, 29 Apr 2022) |
| EndedAt: 2022-04-29 06:28:47 -0400 (Fri, 29 Apr 2022) |
| EllapsedTime: 21.2 seconds |
| RetCode: 0 |
| Status: OK |
| PackageFile: scMAGeCK_1.9.0.zip |
| PackageFileSize: 3.079 MiB |
############################################################################## ############################################################################## ### ### Running command: ### ### rm -rf scMAGeCK.buildbin-libdir && mkdir scMAGeCK.buildbin-libdir && F:\biocbuild\bbs-3.16-bioc\R\bin\R.exe CMD INSTALL --merge-multiarch --build --library=scMAGeCK.buildbin-libdir scMAGeCK_1.9.0.tar.gz ### ############################################################################## ############################################################################## only one architecture so ignoring '--merge-multiarch' * installing *source* package 'scMAGeCK' ... ** using staged installation ** R ** inst ** byte-compile and prepare package for lazy loading ** help *** installing help indices ** building package indices ** installing vignettes ** testing if installed package can be loaded from temporary location ** testing if installed package can be loaded from final location ** testing if installed package keeps a record of temporary installation path * MD5 sums packaged installation of 'scMAGeCK' as scMAGeCK_1.9.0.zip * DONE (scMAGeCK)