| Back to Multiple platform build/check report for BioC 3.16: simplified long |
|
This page was generated on 2023-04-12 11:05:51 -0400 (Wed, 12 Apr 2023).
| Hostname | OS | Arch (*) | R version | Installed pkgs |
|---|---|---|---|---|
| nebbiolo2 | Linux (Ubuntu 20.04.5 LTS) | x86_64 | 4.2.3 (2023-03-15) -- "Shortstop Beagle" | 4502 |
| palomino4 | Windows Server 2022 Datacenter | x64 | 4.2.3 (2023-03-15 ucrt) -- "Shortstop Beagle" | 4282 |
| lconway | macOS 12.5.1 Monterey | x86_64 | 4.2.3 (2023-03-15) -- "Shortstop Beagle" | 4310 |
| Click on any hostname to see more info about the system (e.g. compilers) (*) as reported by 'uname -p', except on Windows and Mac OS X | ||||
|
To the developers/maintainers of the scHOT package: - Please allow up to 24 hours (and sometimes 48 hours) for your latest push to git@git.bioconductor.org:packages/scHOT.git to reflect on this report. See How and When does the builder pull? When will my changes propagate? for more information. - Make sure to use the following settings in order to reproduce any error or warning you see on this page. |
| Package 1801/2183 | Hostname | OS / Arch | INSTALL | BUILD | CHECK | BUILD BIN | ||||||||
| scHOT 1.10.0 (landing page) Shila Ghazanfar
| nebbiolo2 | Linux (Ubuntu 20.04.5 LTS) / x86_64 | OK | OK | OK | |||||||||
| palomino4 | Windows Server 2022 Datacenter / x64 | OK | OK | OK | OK | |||||||||
| lconway | macOS 12.5.1 Monterey / x86_64 | OK | OK | OK | OK | |||||||||
| Package: scHOT |
| Version: 1.10.0 |
| Command: F:\biocbuild\bbs-3.16-bioc\R\bin\R.exe CMD check --no-multiarch --install=check:scHOT.install-out.txt --library=F:\biocbuild\bbs-3.16-bioc\R\library --no-vignettes --timings scHOT_1.10.0.tar.gz |
| StartedAt: 2023-04-11 05:43:25 -0400 (Tue, 11 Apr 2023) |
| EndedAt: 2023-04-11 05:49:39 -0400 (Tue, 11 Apr 2023) |
| EllapsedTime: 373.3 seconds |
| RetCode: 0 |
| Status: OK |
| CheckDir: scHOT.Rcheck |
| Warnings: 0 |
##############################################################################
##############################################################################
###
### Running command:
###
### F:\biocbuild\bbs-3.16-bioc\R\bin\R.exe CMD check --no-multiarch --install=check:scHOT.install-out.txt --library=F:\biocbuild\bbs-3.16-bioc\R\library --no-vignettes --timings scHOT_1.10.0.tar.gz
###
##############################################################################
##############################################################################
* using log directory 'F:/biocbuild/bbs-3.16-bioc/meat/scHOT.Rcheck'
* using R version 4.2.3 (2023-03-15 ucrt)
* using platform: x86_64-w64-mingw32 (64-bit)
* using session charset: UTF-8
* using option '--no-vignettes'
* checking for file 'scHOT/DESCRIPTION' ... OK
* checking extension type ... Package
* this is package 'scHOT' version '1.10.0'
* package encoding: UTF-8
* checking package namespace information ... OK
* checking package dependencies ... OK
* checking if this is a source package ... OK
* checking if there is a namespace ... OK
* checking for hidden files and directories ... OK
* checking for portable file names ... OK
* checking whether package 'scHOT' can be installed ... OK
* checking installed package size ... OK
* checking package directory ... OK
* checking 'build' directory ... OK
* checking DESCRIPTION meta-information ... OK
* checking top-level files ... OK
* checking for left-over files ... OK
* checking index information ... OK
* checking package subdirectories ... OK
* checking R files for non-ASCII characters ... OK
* checking R files for syntax errors ... OK
* checking whether the package can be loaded ... OK
* checking whether the package can be loaded with stated dependencies ... OK
* checking whether the package can be unloaded cleanly ... OK
* checking whether the namespace can be loaded with stated dependencies ... OK
* checking whether the namespace can be unloaded cleanly ... OK
* checking dependencies in R code ... OK
* checking S3 generic/method consistency ... OK
* checking replacement functions ... OK
* checking foreign function calls ... OK
* checking R code for possible problems ... OK
* checking Rd files ... OK
* checking Rd metadata ... OK
* checking Rd cross-references ... OK
* checking for missing documentation entries ... OK
* checking for code/documentation mismatches ... OK
* checking Rd \usage sections ... OK
* checking Rd contents ... OK
* checking for unstated dependencies in examples ... OK
* checking contents of 'data' directory ... OK
* checking data for non-ASCII characters ... OK
* checking LazyData ... OK
* checking data for ASCII and uncompressed saves ... OK
* checking files in 'vignettes' ... OK
* checking examples ... OK
Examples with CPU (user + system) or elapsed time > 5s
user system elapsed
scHOT 64.33 0.53 64.87
scHOT_estimatePvalues 64.03 0.67 64.72
scHOT_performPermutationTest 64.25 0.45 64.74
* checking for unstated dependencies in vignettes ... OK
* checking package vignettes in 'inst/doc' ... OK
* checking running R code from vignettes ... SKIPPED
* checking re-building of vignette outputs ... SKIPPED
* checking PDF version of manual ... OK
* DONE
Status: OK
scHOT.Rcheck/00install.out
############################################################################## ############################################################################## ### ### Running command: ### ### F:\biocbuild\bbs-3.16-bioc\R\bin\R.exe CMD INSTALL scHOT ### ############################################################################## ############################################################################## * installing to library 'F:/biocbuild/bbs-3.16-bioc/R/library' * installing *source* package 'scHOT' ... ** using staged installation ** R ** data *** moving datasets to lazyload DB ** byte-compile and prepare package for lazy loading ** help *** installing help indices ** building package indices ** installing vignettes ** testing if installed package can be loaded from temporary location ** testing if installed package can be loaded from final location ** testing if installed package keeps a record of temporary installation path * DONE (scHOT)
scHOT.Rcheck/scHOT-Ex.timings
| name | user | system | elapsed | |
| params-set | 0.29 | 0.00 | 0.30 | |
| plotColouredExpression | 1.50 | 0.06 | 1.56 | |
| plotHigherOrderSequence | 2.23 | 0.06 | 2.30 | |
| positionColData-set | 0.14 | 0.00 | 0.14 | |
| positionType-set | 0.14 | 0.00 | 0.14 | |
| scHOT | 64.33 | 0.53 | 64.87 | |
| scHOT_addTestingScaffold | 0.16 | 0.00 | 0.16 | |
| scHOT_buildFromMatrix | 0.14 | 0.00 | 0.14 | |
| scHOT_buildFromSCE | 0.42 | 0.02 | 0.44 | |
| scHOT_calculateGlobalHigherOrderFunction | 0.26 | 0.02 | 0.28 | |
| scHOT_calculateHigherOrderTestStatistics | 1.25 | 0.00 | 1.25 | |
| scHOT_estimatePvalues | 64.03 | 0.67 | 64.72 | |
| scHOT_output-set | 0.14 | 0.00 | 0.14 | |
| scHOT_performPermutationTest | 64.25 | 0.45 | 64.74 | |
| scHOT_setPermutationScaffold | 0.21 | 0.02 | 0.23 | |
| scHOT_setWeightMatrix | 0.24 | 0.00 | 0.24 | |
| scHOT_stripOutput | 0.22 | 0.00 | 0.22 | |
| spatialWeightMatrix | 0.01 | 0.00 | 0.01 | |
| testingScaffold-set | 0.21 | 0.01 | 0.22 | |
| thin | 0.01 | 0.00 | 0.02 | |
| trajectoryWeightMatrix | 0 | 0 | 0 | |
| weightMatrix-set | 0.28 | 0.03 | 0.31 | |
| weightedPearson | 0 | 0 | 0 | |
| weightedSpearman | 0 | 0 | 0 | |
| weightedVariance | 0 | 0 | 0 | |
| weightedZIKendall | 0 | 0 | 0 | |
| weightedZISpearman | 0 | 0 | 0 | |