| Back to Multiple platform build/check report for BioC 3.16: simplified long |
|
This page was generated on 2023-04-12 11:05:50 -0400 (Wed, 12 Apr 2023).
| Hostname | OS | Arch (*) | R version | Installed pkgs |
|---|---|---|---|---|
| nebbiolo2 | Linux (Ubuntu 20.04.5 LTS) | x86_64 | 4.2.3 (2023-03-15) -- "Shortstop Beagle" | 4502 |
| palomino4 | Windows Server 2022 Datacenter | x64 | 4.2.3 (2023-03-15 ucrt) -- "Shortstop Beagle" | 4282 |
| lconway | macOS 12.5.1 Monterey | x86_64 | 4.2.3 (2023-03-15) -- "Shortstop Beagle" | 4310 |
| Click on any hostname to see more info about the system (e.g. compilers) (*) as reported by 'uname -p', except on Windows and Mac OS X | ||||
|
To the developers/maintainers of the scBubbletree package: - Please allow up to 24 hours (and sometimes 48 hours) for your latest push to git@git.bioconductor.org:packages/scBubbletree.git to reflect on this report. See How and When does the builder pull? When will my changes propagate? for more information. - Make sure to use the following settings in order to reproduce any error or warning you see on this page. |
| Package 1787/2183 | Hostname | OS / Arch | INSTALL | BUILD | CHECK | BUILD BIN | ||||||||
| scBubbletree 1.0.0 (landing page) Simo Kitanovski
| nebbiolo2 | Linux (Ubuntu 20.04.5 LTS) / x86_64 | OK | OK | OK | |||||||||
| palomino4 | Windows Server 2022 Datacenter / x64 | OK | OK | OK | OK | |||||||||
| lconway | macOS 12.5.1 Monterey / x86_64 | OK | OK | OK | OK | |||||||||
| Package: scBubbletree |
| Version: 1.0.0 |
| Command: F:\biocbuild\bbs-3.16-bioc\R\bin\R.exe CMD check --no-multiarch --install=check:scBubbletree.install-out.txt --library=F:\biocbuild\bbs-3.16-bioc\R\library --no-vignettes --timings scBubbletree_1.0.0.tar.gz |
| StartedAt: 2023-04-11 05:39:37 -0400 (Tue, 11 Apr 2023) |
| EndedAt: 2023-04-11 05:43:59 -0400 (Tue, 11 Apr 2023) |
| EllapsedTime: 262.6 seconds |
| RetCode: 0 |
| Status: OK |
| CheckDir: scBubbletree.Rcheck |
| Warnings: 0 |
##############################################################################
##############################################################################
###
### Running command:
###
### F:\biocbuild\bbs-3.16-bioc\R\bin\R.exe CMD check --no-multiarch --install=check:scBubbletree.install-out.txt --library=F:\biocbuild\bbs-3.16-bioc\R\library --no-vignettes --timings scBubbletree_1.0.0.tar.gz
###
##############################################################################
##############################################################################
* using log directory 'F:/biocbuild/bbs-3.16-bioc/meat/scBubbletree.Rcheck'
* using R version 4.2.3 (2023-03-15 ucrt)
* using platform: x86_64-w64-mingw32 (64-bit)
* using session charset: UTF-8
* using option '--no-vignettes'
* checking for file 'scBubbletree/DESCRIPTION' ... OK
* checking extension type ... Package
* this is package 'scBubbletree' version '1.0.0'
* package encoding: UTF-8
* checking package namespace information ... OK
* checking package dependencies ... OK
* checking if this is a source package ... OK
* checking if there is a namespace ... OK
* checking for hidden files and directories ... OK
* checking for portable file names ... OK
* checking whether package 'scBubbletree' can be installed ... OK
* checking installed package size ... OK
* checking package directory ... OK
* checking 'build' directory ... OK
* checking DESCRIPTION meta-information ... OK
* checking top-level files ... OK
* checking for left-over files ... OK
* checking index information ... OK
* checking package subdirectories ... OK
* checking R files for non-ASCII characters ... OK
* checking R files for syntax errors ... OK
* checking whether the package can be loaded ... OK
* checking whether the package can be loaded with stated dependencies ... OK
* checking whether the package can be unloaded cleanly ... OK
* checking whether the namespace can be loaded with stated dependencies ... OK
* checking whether the namespace can be unloaded cleanly ... OK
* checking dependencies in R code ... OK
* checking S3 generic/method consistency ... OK
* checking replacement functions ... OK
* checking foreign function calls ... OK
* checking R code for possible problems ... OK
* checking Rd files ... OK
* checking Rd metadata ... OK
* checking Rd cross-references ... OK
* checking for missing documentation entries ... OK
* checking for code/documentation mismatches ... OK
* checking Rd \usage sections ... OK
* checking Rd contents ... OK
* checking for unstated dependencies in examples ... OK
* checking contents of 'data' directory ... OK
* checking data for non-ASCII characters ... OK
* checking data for ASCII and uncompressed saves ... OK
* checking files in 'vignettes' ... OK
* checking examples ... OK
Examples with CPU (user + system) or elapsed time > 5s
user system elapsed
get_r 9.03 0.05 9.08
get_bubbletree_graph 5.26 0.31 5.58
get_gini_k 5.51 0.02 5.53
get_bubbletree_kmeans 5.18 0.11 5.28
get_num_tiles 5.14 0.10 5.23
* checking for unstated dependencies in 'tests' ... OK
* checking tests ...
Running 'testthat.R'
OK
* checking for unstated dependencies in vignettes ... OK
* checking package vignettes in 'inst/doc' ... OK
* checking running R code from vignettes ... SKIPPED
* checking re-building of vignette outputs ... SKIPPED
* checking PDF version of manual ... OK
* DONE
Status: OK
scBubbletree.Rcheck/00install.out
############################################################################## ############################################################################## ### ### Running command: ### ### F:\biocbuild\bbs-3.16-bioc\R\bin\R.exe CMD INSTALL scBubbletree ### ############################################################################## ############################################################################## * installing to library 'F:/biocbuild/bbs-3.16-bioc/R/library' * installing *source* package 'scBubbletree' ... ** using staged installation ** R ** data ** inst ** byte-compile and prepare package for lazy loading ** help *** installing help indices ** building package indices ** installing vignettes ** testing if installed package can be loaded from temporary location ** testing if installed package can be loaded from final location ** testing if installed package keeps a record of temporary installation path * DONE (scBubbletree)
scBubbletree.Rcheck/tests/testthat.Rout
R version 4.2.3 (2023-03-15 ucrt) -- "Shortstop Beagle"
Copyright (C) 2023 The R Foundation for Statistical Computing
Platform: x86_64-w64-mingw32/x64 (64-bit)
R is free software and comes with ABSOLUTELY NO WARRANTY.
You are welcome to redistribute it under certain conditions.
Type 'license()' or 'licence()' for distribution details.
R is a collaborative project with many contributors.
Type 'contributors()' for more information and
'citation()' on how to cite R or R packages in publications.
Type 'demo()' for some demos, 'help()' for on-line help, or
'help.start()' for an HTML browser interface to help.
Type 'q()' to quit R.
> library(testthat)
> library(scBubbletree)
>
> test_check("scBubbletree")
Tests input rules of get_bubbletree_graph
Tests input rules of get_bubbletree_kmeans
Tests input rules of get_cat_tiles
Tests input rules of get_gini_k
Tests input rules of get_gini
Tests input rules of get_k
Tests input rules of get_num_tiles
Tests input rules of get_num_violins
Tests input rules of get_r
Tests input rules of util
[ FAIL 0 | WARN 1 | SKIP 0 | PASS 483 ]
[ FAIL 0 | WARN 1 | SKIP 0 | PASS 483 ]
>
> proc.time()
user system elapsed
104.18 1.56 105.70
scBubbletree.Rcheck/scBubbletree-Ex.timings
| name | user | system | elapsed | |
| d_500 | 0 | 0 | 0 | |
| d_ccl | 0.01 | 0.00 | 0.02 | |
| get_bubbletree_dummy | 2.69 | 0.13 | 2.82 | |
| get_bubbletree_graph | 5.26 | 0.31 | 5.58 | |
| get_bubbletree_kmeans | 5.18 | 0.11 | 5.28 | |
| get_cat_tiles | 3.07 | 0.03 | 3.11 | |
| get_gini | 0 | 0 | 0 | |
| get_gini_k | 5.51 | 0.02 | 5.53 | |
| get_k | 1.93 | 0.04 | 1.97 | |
| get_num_tiles | 5.14 | 0.10 | 5.23 | |
| get_num_violins | 4.75 | 0.16 | 4.90 | |
| get_r | 9.03 | 0.05 | 9.08 | |