| Back to Multiple platform build/check report for BioC 3.16 |
|
This page was generated on 2022-11-04 11:10:11 -0400 (Fri, 04 Nov 2022).
| Hostname | OS | Arch (*) | R version | Installed pkgs |
|---|---|---|---|---|
| nebbiolo2 | Linux (Ubuntu 20.04.5 LTS) | x86_64 | 4.2.1 (2022-06-23) -- "Funny-Looking Kid" | 4515 |
| palomino4 | Windows Server 2022 Datacenter | x64 | 4.2.1 (2022-06-23 ucrt) -- "Funny-Looking Kid" | 4289 |
| lconway | macOS 12.5.1 Monterey | x86_64 | 4.2.1 Patched (2022-07-09 r82577) -- "Funny-Looking Kid" | 4313 |
| Click on any hostname to see more info about the system (e.g. compilers) (*) as reported by 'uname -p', except on Windows and Mac OS X | ||||
|
To the developers/maintainers of the savR package: - Please allow up to 24 hours (and sometimes 48 hours) for your latest push to git@git.bioconductor.org:packages/savR.git to reflect on this report. See How and When does the builder pull? When will my changes propagate? for more information. - Make sure to use the following settings in order to reproduce any error or warning you see on this page. |
| Package 1769/2183 | Hostname | OS / Arch | INSTALL | BUILD | CHECK | BUILD BIN | ||||||||
| savR 1.36.0 (landing page) R. Brent Calder
| nebbiolo2 | Linux (Ubuntu 20.04.5 LTS) / x86_64 | OK | OK | OK | |||||||||
| palomino4 | Windows Server 2022 Datacenter / x64 | OK | OK | OK | OK | |||||||||
| lconway | macOS 12.5.1 Monterey / x86_64 | OK | OK | OK | OK | |||||||||
| Package: savR |
| Version: 1.36.0 |
| Command: /Library/Frameworks/R.framework/Resources/bin/R CMD check --install=check:savR.install-out.txt --library=/Library/Frameworks/R.framework/Resources/library --no-vignettes --timings savR_1.36.0.tar.gz |
| StartedAt: 2022-11-03 22:16:22 -0400 (Thu, 03 Nov 2022) |
| EndedAt: 2022-11-03 22:17:33 -0400 (Thu, 03 Nov 2022) |
| EllapsedTime: 70.9 seconds |
| RetCode: 0 |
| Status: OK |
| CheckDir: savR.Rcheck |
| Warnings: 0 |
##############################################################################
##############################################################################
###
### Running command:
###
### /Library/Frameworks/R.framework/Resources/bin/R CMD check --install=check:savR.install-out.txt --library=/Library/Frameworks/R.framework/Resources/library --no-vignettes --timings savR_1.36.0.tar.gz
###
##############################################################################
##############################################################################
* using log directory ‘/Users/biocbuild/bbs-3.16-bioc/meat/savR.Rcheck’
* using R version 4.2.1 Patched (2022-07-09 r82577)
* using platform: x86_64-apple-darwin17.0 (64-bit)
* using session charset: UTF-8
* using option ‘--no-vignettes’
* checking for file ‘savR/DESCRIPTION’ ... OK
* checking extension type ... Package
* this is package ‘savR’ version ‘1.36.0’
* checking package namespace information ... OK
* checking package dependencies ... OK
* checking if this is a source package ... OK
* checking if there is a namespace ... OK
* checking for hidden files and directories ... OK
* checking for portable file names ... OK
* checking for sufficient/correct file permissions ... OK
* checking whether package ‘savR’ can be installed ... OK
* checking installed package size ... OK
* checking package directory ... OK
* checking ‘build’ directory ... OK
* checking DESCRIPTION meta-information ... OK
* checking top-level files ... OK
* checking for left-over files ... OK
* checking index information ... OK
* checking package subdirectories ... OK
* checking R files for non-ASCII characters ... OK
* checking R files for syntax errors ... OK
* checking whether the package can be loaded ... OK
* checking whether the package can be loaded with stated dependencies ... OK
* checking whether the package can be unloaded cleanly ... OK
* checking whether the namespace can be loaded with stated dependencies ... OK
* checking whether the namespace can be unloaded cleanly ... OK
* checking dependencies in R code ... OK
* checking S3 generic/method consistency ... OK
* checking replacement functions ... OK
* checking foreign function calls ... OK
* checking R code for possible problems ... NOTE
buildReports,savProject-character: no visible global function
definition for ‘dev.off’
qualityHeatmap,savProject-integer-integer-logical: no visible global
function definition for ‘quantile’
Undefined global functions or variables:
dev.off quantile
Consider adding
importFrom("grDevices", "dev.off")
importFrom("stats", "quantile")
to your NAMESPACE file.
* checking Rd files ... OK
* checking Rd metadata ... OK
* checking Rd cross-references ... OK
* checking for missing documentation entries ... OK
* checking for code/documentation mismatches ... OK
* checking Rd \usage sections ... OK
* checking Rd contents ... OK
* checking for unstated dependencies in examples ... OK
* checking sizes of PDF files under ‘inst/doc’ ... OK
* checking files in ‘vignettes’ ... OK
* checking examples ... OK
* checking for unstated dependencies in ‘tests’ ... OK
* checking tests ...
Running ‘testthat.R’
OK
* checking for unstated dependencies in vignettes ... OK
* checking package vignettes in ‘inst/doc’ ... OK
* checking running R code from vignettes ... SKIPPED
* checking re-building of vignette outputs ... SKIPPED
* checking PDF version of manual ... OK
* DONE
Status: 1 NOTE
See
‘/Users/biocbuild/bbs-3.16-bioc/meat/savR.Rcheck/00check.log’
for details.
savR.Rcheck/00install.out
############################################################################## ############################################################################## ### ### Running command: ### ### /Library/Frameworks/R.framework/Resources/bin/R CMD INSTALL savR ### ############################################################################## ############################################################################## * installing to library ‘/Library/Frameworks/R.framework/Versions/4.2/Resources/library’ * installing *source* package ‘savR’ ... ** using staged installation ** R ** inst ** byte-compile and prepare package for lazy loading ** help *** installing help indices ** building package indices ** installing vignettes ** testing if installed package can be loaded from temporary location ** testing if installed package can be loaded from final location ** testing if installed package keeps a record of temporary installation path * DONE (savR)
savR.Rcheck/tests/testthat.Rout
R version 4.2.1 Patched (2022-07-09 r82577) -- "Funny-Looking Kid"
Copyright (C) 2022 The R Foundation for Statistical Computing
Platform: x86_64-apple-darwin17.0 (64-bit)
R is free software and comes with ABSOLUTELY NO WARRANTY.
You are welcome to redistribute it under certain conditions.
Type 'license()' or 'licence()' for distribution details.
R is a collaborative project with many contributors.
Type 'contributors()' for more information and
'citation()' on how to cite R or R packages in publications.
Type 'demo()' for some demos, 'help()' for on-line help, or
'help.start()' for an HTML browser interface to help.
Type 'q()' to quit R.
> library(testthat)
> library(savR)
Loading required package: ggplot2
>
> test_check("savR")
[ FAIL 0 | WARN 0 | SKIP 7 | PASS 8 ]
══ Skipped tests ═══════════════════════════════════════════════════════════════
• On CRAN (6)
• Test data folder not available (1)
[ FAIL 0 | WARN 0 | SKIP 7 | PASS 8 ]
>
> proc.time()
user system elapsed
4.720 0.273 5.443
savR.Rcheck/savR-Ex.timings
| name | user | system | elapsed | |
| buildReports | 0.000 | 0.000 | 0.001 | |
| clusterQualityGtN | 0.000 | 0.000 | 0.001 | |
| clusters | 0 | 0 | 0 | |
| correctedIntensities | 1.928 | 0.021 | 1.982 | |
| cycles | 1.859 | 0.028 | 1.897 | |
| directions | 1.659 | 0.023 | 1.695 | |
| errorMetrics | 1.641 | 0.015 | 1.663 | |
| extractionMetrics | 1.624 | 0.021 | 1.651 | |
| flowcellLayout | 1.696 | 0.016 | 1.719 | |
| location | 1.602 | 0.021 | 1.630 | |
| pfClusters | 0 | 0 | 0 | |
| qualityMetrics | 1.664 | 0.012 | 1.678 | |
| reads | 1.484 | 0.019 | 1.504 | |
| run | 1.530 | 0.011 | 1.544 | |
| savR | 1.633 | 0.027 | 1.671 | |
| tileMetrics | 1.525 | 0.011 | 1.568 | |